BEGIN:VCALENDAR
VERSION:2.0
PRODID:-//Lodi Growers - ECPv6.15.20//NONSGML v1.0//EN
CALSCALE:GREGORIAN
METHOD:PUBLISH
X-ORIGINAL-URL:https://lodigrowers.com
X-WR-CALDESC:Events for Lodi Growers
REFRESH-INTERVAL;VALUE=DURATION:PT1H
X-Robots-Tag:noindex
X-PUBLISHED-TTL:PT1H
BEGIN:VTIMEZONE
TZID:UTC
BEGIN:STANDARD
TZOFFSETFROM:+0000
TZOFFSETTO:+0000
TZNAME:UTC
DTSTART:20130101T000000
END:STANDARD
END:VTIMEZONE
BEGIN:VEVENT
DTSTART;TZID=UTC:20140207T120000
DTEND;TZID=UTC:20140207T140000
DTSTAMP:20260425T084218
CREATED:20140206T014154Z
LAST-MODIFIED:20140206T014154Z
UID:10000059-1391774400-1391781600@lodigrowers.com
SUMMARY:LMRWSSC Mtg (2/7)
DESCRIPTION:For Download: LMRWSSC020714agenda LMRWSSC122013minutes \n\nLower Mokelumne River Watershed Stewardship\nSteering Committee \nFriday February 7\, 2014\nEBMUD Lodi Wildlife Office\n1 Winemaster Way\, Suite K\nLodi\, CA \n12:00-2:00 pm \nAGENDA \nRoll Call/Introductions\nAdditions/Deletions to Agenda\nApproval of Minutes \n1. Elections \n2. New Business\nA. MokeWISE Program \n3. Old Business\nA. Ecosystem Services Pilot Project\nB. FARMS Leadership Program Update\nC. Irrigated Lands Program Update\nD. Watershed Users’ Guide Update\nE. Community Outreach\n1. Watershed Field Day\n2. NSJWCD Update \n4. Adjourn \nAgenda items are subject to change and additional items may be added at the discretion of the chairman. \nThe next meeting of the Lower Mokelumne River Watershed Stewardship Steering Committee is scheduled Friday March 7\, 2014.
URL:https://lodigrowers.com/event/lmrwssc-mtg-27/
LOCATION:Unnamed Venue\, 1 Winemaster Way\, Ste K\, Lodi\, United States
GEO:38.1456214;-121.2460662
X-APPLE-STRUCTURED-LOCATION;VALUE=URI;X-ADDRESS=Unnamed Venue 1 Winemaster Way Ste K Lodi United States;X-APPLE-RADIUS=500;X-TITLE=1 Winemaster Way\, Ste K:geo:-121.2460662,38.1456214
END:VEVENT
END:VCALENDAR