BEGIN:VCALENDAR
VERSION:2.0
PRODID:-//Lodi Growers - ECPv6.15.20//NONSGML v1.0//EN
CALSCALE:GREGORIAN
METHOD:PUBLISH
X-ORIGINAL-URL:https://lodigrowers.com
X-WR-CALDESC:Events for Lodi Growers
REFRESH-INTERVAL;VALUE=DURATION:PT1H
X-Robots-Tag:noindex
X-PUBLISHED-TTL:PT1H
BEGIN:VTIMEZONE
TZID:UTC
BEGIN:STANDARD
TZOFFSETFROM:+0000
TZOFFSETTO:+0000
TZNAME:UTC
DTSTART:20130101T000000
END:STANDARD
END:VTIMEZONE
BEGIN:VEVENT
DTSTART;TZID=UTC:20140403T083000
DTEND;TZID=UTC:20140403T133000
DTSTAMP:20260423T160110
CREATED:20140325T051926Z
LAST-MODIFIED:20140325T052006Z
UID:10000077-1396513800-1396531800@lodigrowers.com
SUMMARY:Vineyard Irrigation Mtg (4/3)
DESCRIPTION:UC Davis On-the Road: Vineyard Irrigation Measurement and Management \nThursday April 3\n8:30am – 1:30pm\nMondavi Woodbridge Winery\n5950 E Woodbridge Rd\nAcampo\, CA 95220\nOld Barrel Room  \nThe drought will impact our of vineyard management decisions and will likely affect the 2014 growing season and harvest. This half-day symposium will focus on vineyard management in the context of low rainfall and scarce irrigation water availability. We will hear from UC Davis scientists\, farm advisers\, local experts\, and technology developers. Light refreshments and lunch will be served. \nThis event is co-hosted by the UC Davis Department of Viticulture and Enology and the Lodi Winegrape Commission. Thanks to Constellation Brands for providing the venue. \nSpeakers:\n•	Andrew Walker\, PhD: “Can we breed drought and salt tolerance into grape rootstock?”\n•	Paul Verdegaal: “Irrigation considerations in a dry year”\n•	Tom Shapland\, PhD: “Measurements of actual vineyard evaporation using Surface Renewal\n•	Larry Williams\, PhD: Maximizing yields and winegrape quality through irrigation management\n•	Thibaut Scholasch\, PhD\, “How to characterize vineyard spatial variability: Yield\, water use\, and block performance”\nPlease RSVP by March 31 to Karen Block at klblock@ucdavis.edu or (530) 752-5766.
URL:https://lodigrowers.com/event/vineyard-irrigation-mtg-43/
LOCATION:Mondavi Woodbridge Winery – Old Barrel Room\, 5950 E Woodbridge Rd\, Acampo\, CA 95220
GEO:38.1597413;-121.2447967
X-APPLE-STRUCTURED-LOCATION;VALUE=URI;X-ADDRESS=Mondavi Woodbridge Winery – Old Barrel Room 5950 E Woodbridge Rd Acampo CA 95220;X-APPLE-RADIUS=500;X-TITLE=5950 E Woodbridge Rd:geo:-121.2447967,38.1597413
END:VEVENT
END:VCALENDAR