BEGIN:VCALENDAR
VERSION:2.0
PRODID:-//Lodi Growers - ECPv6.15.20//NONSGML v1.0//EN
CALSCALE:GREGORIAN
METHOD:PUBLISH
X-WR-CALNAME:Lodi Growers
X-ORIGINAL-URL:https://lodigrowers.com
X-WR-CALDESC:Events for Lodi Growers
REFRESH-INTERVAL;VALUE=DURATION:PT1H
X-Robots-Tag:noindex
X-PUBLISHED-TTL:PT1H
BEGIN:VTIMEZONE
TZID:UTC
BEGIN:STANDARD
TZOFFSETFROM:+0000
TZOFFSETTO:+0000
TZNAME:UTC
DTSTART:20130101T000000
END:STANDARD
END:VTIMEZONE
BEGIN:VEVENT
DTSTART;TZID=UTC:20140408T120000
DTEND;TZID=UTC:20140408T140000
DTSTAMP:20260423T155713
CREATED:20140329T001613Z
LAST-MODIFIED:20140329T001906Z
UID:10000078-1396958400-1396965600@lodigrowers.com
SUMMARY:REC Meeting (4/8)
DESCRIPTION:LODI WINEGRAPE COMMISSION\nRESEARCH EDUCATION COMMUNICATION COMMITTEE\nNOTICE AND AGENDA\nSent and posted March 28\, 2014 \nDate: April 8\, 2014\nTime: 12PM\nPlace: Lodi Winegrape Commission offices\, 2545 W. Turner Road\, Lodi\, CA 95242 \nThe agenda for the meeting is as follows: \n1. Call to order.\n2. Roll call and establishment of quorum\n3. Approval of previous meeting’s minutes (March 5 \, 2014)\n4. Update on grower website\n• Virtual Tailgate videos\n• UC ANR Grape Pest Management\n5. Update on demonstration vineyard\n6. Grower outreach\n7. Weather station network update\n8. Report on strategic vision meeting\n9. Research projects\n• Kaan Kurtural boron research proposal\n• Chuck Ingles BMSB proposal update\n• Mark Browning barn owl project\n10. Budget review\n11. New business\n12. Schedule next meeting\n13. Adjourn. \nAction may be taken on any of the above items. Questions regarding the meeting can be directed to Research and Education Committee Chairman Charlie Starr (329-7791) or Grower Program Coordinator Matthew Hoffman (367-4727). This notice and agenda is available on the Internet at www.lodiwine.com in Grower News Meetings & Events.
URL:https://lodigrowers.com/event/rec-meeting-47/
LOCATION:Lodi Winegrape Commission\, 2545 W. Turner Road\, Lodi\, CA\, 95242\, United States
GEO:38.1459652;-121.307667
X-APPLE-STRUCTURED-LOCATION;VALUE=URI;X-ADDRESS=Lodi Winegrape Commission 2545 W. Turner Road Lodi CA 95242 United States;X-APPLE-RADIUS=500;X-TITLE=2545 W. Turner Road:geo:-121.307667,38.1459652
END:VEVENT
END:VCALENDAR