BEGIN:VCALENDAR
VERSION:2.0
PRODID:-//Lodi Growers - ECPv6.15.20//NONSGML v1.0//EN
CALSCALE:GREGORIAN
METHOD:PUBLISH
X-WR-CALNAME:Lodi Growers
X-ORIGINAL-URL:https://lodigrowers.com
X-WR-CALDESC:Events for Lodi Growers
REFRESH-INTERVAL;VALUE=DURATION:PT1H
X-Robots-Tag:noindex
X-PUBLISHED-TTL:PT1H
BEGIN:VTIMEZONE
TZID:UTC
BEGIN:STANDARD
TZOFFSETFROM:+0000
TZOFFSETTO:+0000
TZNAME:UTC
DTSTART:20130101T000000
END:STANDARD
END:VTIMEZONE
BEGIN:VEVENT
DTSTART;TZID=UTC:20140410T090000
DTEND;TZID=UTC:20140410T110000
DTSTAMP:20260423T155732
CREATED:20140402T043333Z
LAST-MODIFIED:20140402T043333Z
UID:10000079-1397120400-1397127600@lodigrowers.com
SUMMARY:Grower Marketing Meeting (4/10)
DESCRIPTION:Grower Marketing Committee\nMeeting Notice and Agenda\nSent & Posted April 1\, 2014 \nThe Grower Marketing Committee of the Lodi Winegrape Commission will meet: \nDate: Thursday\, April 10\, 2014\nTime: 9:00 AM\nPlace: LWC Office\, 2545 W. Turner Rd.\, Lodi CA \nThe agenda for the meeting is as follows: \n1. Call to order \n2. Roll call and establishment of quorum \n3. Approval November 6\, 2013 meeting minutes \n4. LoCA Campaign Update \n5. Public Relations Activities \n6. Grape Marketing Activities \n7. Other Business\n• Update on Sacramento Airport Ads \n8. Budget Review FY 13-14 \n9. Set Next Meeting Date \n10. Adjourn \nThis notice and agenda is available on the Internet at www.lodiwine.com in Grower News Meetings & Events. Action may be taken on any of the items listed above. Questions regarding the meeting should be directed to Camron King\, (209) 367-4727 or Richard Lauchland (209) 367-9237.
URL:https://lodigrowers.com/event/grower-marketing-meeting-410/
LOCATION:Lodi Winegrape Commission\, 2545 W. Turner Road\, Lodi\, 95242\, United States
GEO:38.1459652;-121.307667
X-APPLE-STRUCTURED-LOCATION;VALUE=URI;X-ADDRESS=Lodi Winegrape Commission 2545 W. Turner Road Lodi 95242 United States;X-APPLE-RADIUS=500;X-TITLE=2545 W. Turner Road:geo:-121.307667,38.1459652
END:VEVENT
END:VCALENDAR