BEGIN:VCALENDAR
VERSION:2.0
PRODID:-//Lodi Growers - ECPv6.15.20//NONSGML v1.0//EN
CALSCALE:GREGORIAN
METHOD:PUBLISH
X-ORIGINAL-URL:https://lodigrowers.com
X-WR-CALDESC:Events for Lodi Growers
REFRESH-INTERVAL;VALUE=DURATION:PT1H
X-Robots-Tag:noindex
X-PUBLISHED-TTL:PT1H
BEGIN:VTIMEZONE
TZID:UTC
BEGIN:STANDARD
TZOFFSETFROM:+0000
TZOFFSETTO:+0000
TZNAME:UTC
DTSTART:20130101T000000
END:STANDARD
END:VTIMEZONE
BEGIN:VEVENT
DTSTART;TZID=UTC:20140417T080000
DTEND;TZID=UTC:20140417T120000
DTSTAMP:20260423T222612
CREATED:20140225T020658Z
LAST-MODIFIED:20140408T010246Z
UID:10000066-1397721600-1397736000@lodigrowers.com
SUMMARY:Soil Road Show (4/17)
DESCRIPTION:Soil Roadshow \nApril 17th\n8:00am -12:00pm \nLodi winegrapes are planted on a wide range of soil types\, each with different characteristics and requiring different vineyard management considerations. The Soil Roadshow will visit soil pits in three soil types: Tokay soil on the Lange Twins property near Galt\, San Joaquin soil at the Liberty Winery\, and Redding soil on Nestor Enterprises property in Bordon Ranch. UC Farm Adviser Paul Verdegaal and UC soil scientist Toby O’Geene will talk about the soils\, their defining characteristics\, and relevant vineyard management implications. Lunch will be served at the last stop.  \n \nLocation: The first soil pit visit will be on Lower Sacramento Road about 1/4 mile north of E. Jahant Rd. Traveling north on Lower Sacramento Road\, after passing E. Jahant Rd and immediately after going over the Jahant Slough\, the meeting location will be on the left (west) side of the road. Look for the LoCA sign. Take the access road to get to the site. Call Matthew Hoffman at (209) 200-1803 with\nquestions. Directions to the second and third soil pits will be provided. \nPlease RSVP to Molly Bjork by April 14th at\nmolly@lodiwine.com or (209) 367-4727.
URL:https://lodigrowers.com/event/soil-road-show-417/
LOCATION:California
END:VEVENT
BEGIN:VEVENT
DTSTART;TZID=UTC:20140417T140000
DTEND;TZID=UTC:20140417T160000
DTSTAMP:20260423T222612
CREATED:20140405T005500Z
LAST-MODIFIED:20140405T005744Z
UID:10000080-1397743200-1397750400@lodigrowers.com
SUMMARY:Board Meeting (4/17)
DESCRIPTION:For download: LWC Minutes 2-27-14 \nLodi Winegrape Commission\nMeeting Notice and Agenda\nSent and Posted April 7\, 2014 \nThe Lodi Winegrape Commission will meet: \nDate: Thursday\, April 17\, 2014\nTime: 2:00 P.M.\nPlace: The Cellar Room\, Wine & Roses\, 2505 West Turner Road\, Lodi\, CA \nThe agenda for the meeting is as follows: \n1. Call to order \n2. Roll call and establishment of quorum \n3. Review of the February 27\, 2014 Minutes\n• Action Item – Approve Minutes \n4. Financial Report\n• Action Item – Accept Financial Report \n5. Chairman’s Report \n6. Report of Committees\n• Grower Marketing\n• Lodi Rules\n• Research/Education/Communication\n• Lodi Wine Country \n7. Executive Director’s Report \n8. Report of other organizations \n9. Closed session to discuss pending litigation. Pursuant to Section 11126(e) of the California Government Code. \n10. Closed session regarding the appointment\, employment\, evaluation of performance\, or dismissal of an employee pursuant to Section 11126(a) of the California Government Code. \n11. Return to open session. \n12. Set next meeting date. \n13. Adjourn \nAll agenda items are subject to discussion and possible action. For more information\, or to make a request regarding a disability-related accommodation for the meeting\, please contact Camron King (209-367-4727) or Craig Ledbetter (209-334-6975)\, The notice and agenda is available on the internet at www.lodiwine.com in the Grower News\, Meetings and Events section.
URL:https://lodigrowers.com/event/board-meeting-417/
LOCATION:Cellar Room\, Wine & Roses Hotel\, 2505 W. Turner Road\, Lodi\, CA\, 95242\, United States
GEO:38.1469024;-121.3070234
X-APPLE-STRUCTURED-LOCATION;VALUE=URI;X-ADDRESS=Cellar Room Wine & Roses Hotel 2505 W. Turner Road Lodi CA 95242 United States;X-APPLE-RADIUS=500;X-TITLE=2505 W. Turner Road:geo:-121.3070234,38.1469024
END:VEVENT
END:VCALENDAR