BEGIN:VCALENDAR
VERSION:2.0
PRODID:-//Lodi Growers - ECPv6.15.20//NONSGML v1.0//EN
CALSCALE:GREGORIAN
METHOD:PUBLISH
X-ORIGINAL-URL:https://lodigrowers.com
X-WR-CALDESC:Events for Lodi Growers
REFRESH-INTERVAL;VALUE=DURATION:PT1H
X-Robots-Tag:noindex
X-PUBLISHED-TTL:PT1H
BEGIN:VTIMEZONE
TZID:UTC
BEGIN:STANDARD
TZOFFSETFROM:+0000
TZOFFSETTO:+0000
TZNAME:UTC
DTSTART:20130101T000000
END:STANDARD
END:VTIMEZONE
BEGIN:VEVENT
DTSTART;TZID=UTC:20140430T100000
DTEND;TZID=UTC:20140430T120000
DTSTAMP:20260423T143227
CREATED:20140429T011620Z
LAST-MODIFIED:20140429T011620Z
UID:10000085-1398852000-1398859200@lodigrowers.com
SUMMARY:Benefits of Hedgerows (4/30)
DESCRIPTION:Benefits of Hedgerows on Farms in the Sacramento Valley\nApril 30th\nThe Center For Land-Based Learning\n5265 Putah Creek Road\nWinters\, CA \nThis workshop will focus on the benefits of hedgerows of California native plants in agricultural landscapes\, including enhanced populations of native bees and beneficial insects on farms. We will also discuss establishment and maintenance practices for planting habitat on field crop edges and provide an overview of plant species appropriate for hedgerows in the Sacramento Valley and beyond. One hour of CE is available. \nAgenda:\n• 10:00 Welcome and DPR Grant Project Update\, Mary Fahey\, Project Assistant\, UCCE\, Yolo County\n• 10:10 The Farm on Putah Creek\, Maureen Thompson\, Farm Manager\, Land-Based Learning\n• 10:20 Tillage\, Crop Bloom and Ground Nesting Bees\, Katharina Ullmann\, PhD Student\, UC Davis Department of Entomology\n• 10:35 Hedgerows and Rodents\, Laurel Sellers\, MS Student\, UC Davis International Agricultural Development\n• 10:50 Establishing Hedgerows on Field Edges\, Miles DaPrato\, Solano Resource Conservation District\n• 11:10 Hedgerows\, Birds and Codling Moth\, Sacha Heath\, PhD Student\, UC Davis\, Ecology Graduate Group\n• 11:25 Hedgerows and IPM\, Rachael Long\, UCCE Farm Advisor\, Yolo County\n• 11:40 Hedgerow Plant Selection\, Taylor Lewis\, UC Davis Arboretum\n• 12:00 Summary and Audience Survey\nBring a hat and good walking shoes – event will be outdoors. Please pull in from the south at the headquarters\, park and walk to the back to the hedgerows.
URL:https://lodigrowers.com/event/benefits-of-hedgerows-430/
LOCATION:The Center for Land Based Learning\, 5265 Putah Creek Road\, Winters\, CA\, United States
GEO:38.5225519;-121.9160386
X-APPLE-STRUCTURED-LOCATION;VALUE=URI;X-ADDRESS=The Center for Land Based Learning 5265 Putah Creek Road Winters CA United States;X-APPLE-RADIUS=500;X-TITLE=5265 Putah Creek Road:geo:-121.9160386,38.5225519
END:VEVENT
END:VCALENDAR