BEGIN:VCALENDAR
VERSION:2.0
PRODID:-//Lodi Growers - ECPv6.15.20//NONSGML v1.0//EN
CALSCALE:GREGORIAN
METHOD:PUBLISH
X-ORIGINAL-URL:https://lodigrowers.com
X-WR-CALDESC:Events for Lodi Growers
REFRESH-INTERVAL;VALUE=DURATION:PT1H
X-Robots-Tag:noindex
X-PUBLISHED-TTL:PT1H
BEGIN:VTIMEZONE
TZID:America/Los_Angeles
BEGIN:DAYLIGHT
TZOFFSETFROM:-0800
TZOFFSETTO:-0700
TZNAME:PDT
DTSTART:20130310T100000
END:DAYLIGHT
BEGIN:STANDARD
TZOFFSETFROM:-0700
TZOFFSETTO:-0800
TZNAME:PST
DTSTART:20131103T090000
END:STANDARD
BEGIN:DAYLIGHT
TZOFFSETFROM:-0800
TZOFFSETTO:-0700
TZNAME:PDT
DTSTART:20140309T100000
END:DAYLIGHT
BEGIN:STANDARD
TZOFFSETFROM:-0700
TZOFFSETTO:-0800
TZNAME:PST
DTSTART:20141102T090000
END:STANDARD
BEGIN:DAYLIGHT
TZOFFSETFROM:-0800
TZOFFSETTO:-0700
TZNAME:PDT
DTSTART:20150308T100000
END:DAYLIGHT
BEGIN:STANDARD
TZOFFSETFROM:-0700
TZOFFSETTO:-0800
TZNAME:PST
DTSTART:20151101T090000
END:STANDARD
END:VTIMEZONE
BEGIN:VEVENT
DTSTART;VALUE=DATE:20140520
DTEND;VALUE=DATE:20140521
DTSTAMP:20260423T143221
CREATED:20140517T060319Z
LAST-MODIFIED:20140517T060319Z
UID:10000092-1400544000-1400630399@lodigrowers.com
SUMMARY:Lodi Rules Audits Begin (5/20)
DESCRIPTION:
URL:https://lodigrowers.com/event/lodi-rules-audits-begin-520/
LOCATION:California
END:VEVENT
BEGIN:VEVENT
DTSTART;TZID=America/Los_Angeles:20140520T120000
DTEND;TZID=America/Los_Angeles:20140520T140000
DTSTAMP:20260423T143221
CREATED:20140510T023413Z
LAST-MODIFIED:20140510T023413Z
UID:10000088-1400587200-1400594400@lodigrowers.com
SUMMARY:Research Mtg (5/20)
DESCRIPTION:LODI WINEGRAPE COMMISSION\nRESEARCH EDUCATION COMMUNICATION COMMITTEE\nNOTICE AND AGENDA\nSent and posted May 9\, 2014 \nDate: May 20\, 2014\nTime: 12PM\nPlace: Lodi Winegrape Commission offices\, 2545 W. Turner Road\, Lodi\, CA 95242 \nThe agenda for the meeting is as follows: \n1. Call to order.\n2. Roll call and establishment of quorum\n3. Approval of previous meeting’s minutes (April 8 \, 2014)\n4. Update on grower website\n5. Report on NVEELC in IN\n• eViticulture\n• Host 2015 meeting in Lodi\n6. Grower outreach meetings\n• BMSB update on May 29th\n• Spray drift workshop June 19th\n7. Weather station network update\n• LWC cost-share stations\n• Other stations (4)\n8. Report on developing an “in-house” research program\n9. Ongoing research projects\n• Chuck Ingles BMSB proposal update\n• Mark Browning\, barn owl\n• Neil McRoberts\, red blotch\n10. Budget review\n11. New business\n12. Schedule next meeting\n13. Adjourn. \nAction may be taken on any of the above items. Questions regarding the meeting can be directed to Research and Education Committee Chairman Charlie Starr (329-7791) or Grower Program Coordinator Matthew Hoffman (367-4727). This notice and agenda is available on the Internet at www.lodiwine.com in Grower News Meetings & Events.
URL:https://lodigrowers.com/event/research-mtg-520/
LOCATION:Lodi Winegrape Commission\, 2545 W. Turner Road\, Lodi\, CA\, 95242\, United States
GEO:38.1459652;-121.307667
X-APPLE-STRUCTURED-LOCATION;VALUE=URI;X-ADDRESS=Lodi Winegrape Commission 2545 W. Turner Road Lodi CA 95242 United States;X-APPLE-RADIUS=500;X-TITLE=2545 W. Turner Road:geo:-121.307667,38.1459652
END:VEVENT
END:VCALENDAR