BEGIN:VCALENDAR
VERSION:2.0
PRODID:-//Lodi Growers - ECPv6.15.20//NONSGML v1.0//EN
CALSCALE:GREGORIAN
METHOD:PUBLISH
X-ORIGINAL-URL:https://lodigrowers.com
X-WR-CALDESC:Events for Lodi Growers
REFRESH-INTERVAL;VALUE=DURATION:PT1H
X-Robots-Tag:noindex
X-PUBLISHED-TTL:PT1H
BEGIN:VTIMEZONE
TZID:America/Los_Angeles
BEGIN:DAYLIGHT
TZOFFSETFROM:-0800
TZOFFSETTO:-0700
TZNAME:PDT
DTSTART:20130310T100000
END:DAYLIGHT
BEGIN:STANDARD
TZOFFSETFROM:-0700
TZOFFSETTO:-0800
TZNAME:PST
DTSTART:20131103T090000
END:STANDARD
BEGIN:DAYLIGHT
TZOFFSETFROM:-0800
TZOFFSETTO:-0700
TZNAME:PDT
DTSTART:20140309T100000
END:DAYLIGHT
BEGIN:STANDARD
TZOFFSETFROM:-0700
TZOFFSETTO:-0800
TZNAME:PST
DTSTART:20141102T090000
END:STANDARD
BEGIN:DAYLIGHT
TZOFFSETFROM:-0800
TZOFFSETTO:-0700
TZNAME:PDT
DTSTART:20150308T100000
END:DAYLIGHT
BEGIN:STANDARD
TZOFFSETFROM:-0700
TZOFFSETTO:-0800
TZNAME:PST
DTSTART:20151101T090000
END:STANDARD
END:VTIMEZONE
BEGIN:VEVENT
DTSTART;TZID=America/Los_Angeles:20140717T140000
DTEND;TZID=America/Los_Angeles:20140717T170000
DTSTAMP:20260423T143148
CREATED:20140708T051210Z
LAST-MODIFIED:20140709T045603Z
UID:10000108-1405605600-1405616400@lodigrowers.com
SUMMARY:LWC Board Meeting (7/17)
DESCRIPTION:For Download: LWC Minutes 6-19-14 \nLodi Winegrape Commission\nMeeting Notice and Agenda\nSent and Posted July 7\, 2014 \nThe Lodi Winegrape Commission will meet: \nDate: Thursday\, July 17\, 2014\nTime: 2:00 P.M.\nPlace: The Board Room\, Wine & Roses\, 2505 West Turner Road\, Lodi\, CA \nThe agenda for the meeting is as follows: \n1. Call to order \n2. Roll call and establishment of quorum \n3. Review of the June 19\, 2014 Minutes\n• Action Item – Approve Minutes \n4. Financial Report\, year-end 2013-14\n• Action Item – Accept Financial Report \n5. Consideration of Proposal for Audit Services\n• Action Item – Approve auditor for FY 2013-14 audits \n6. Chairman’s Report \n7. Report of Committees\n• Executive Committee\na. Action Item – approve reserve account allocations\n• Grower Marketing\n• Lodi Rules\n• Research/Education/Communication\n• Lodi Wine Country \n8. Executive Director’s Report \n9. Report of other organizations\n• San Joaquin County Farm Bureau\n• Lodi District Grape Growers Association \n10. Closed session to discuss pending litigation. Pursuant to Section 11126(e) of the California Government Code. \n11. Closed session regarding the appointment\, employment\, evaluation of performance\, or dismissal of an employee pursuant to Section 11126(a) of the California Government Code. \n12. Return to open session. \n13. Set next meeting date. \n14. Adjourn \nAll agenda items are subject to discussion and possible action. For more information\, or to make a request regarding a disability-related accommodation for the meeting\, please contact Camron King (209-367-4727) or Craig Ledbetter (209-334-6975). The notice and agenda is available on the internet at www.lodiwine.com in the Grower News\, Meetings and Events section.
URL:https://lodigrowers.com/event/lwc-board-meeting-717/
LOCATION:Wine and Roses Hotel\, Board Room\, 2505 W. Turner Road\, Lodi\, CA\, United States
GEO:38.1469024;-121.3070234
X-APPLE-STRUCTURED-LOCATION;VALUE=URI;X-ADDRESS=Wine and Roses Hotel Board Room 2505 W. Turner Road Lodi CA United States;X-APPLE-RADIUS=500;X-TITLE=2505 W. Turner Road:geo:-121.3070234,38.1469024
END:VEVENT
END:VCALENDAR