BEGIN:VCALENDAR
VERSION:2.0
PRODID:-//Lodi Growers - ECPv6.15.20//NONSGML v1.0//EN
CALSCALE:GREGORIAN
METHOD:PUBLISH
X-ORIGINAL-URL:https://lodigrowers.com
X-WR-CALDESC:Events for Lodi Growers
REFRESH-INTERVAL;VALUE=DURATION:PT1H
X-Robots-Tag:noindex
X-PUBLISHED-TTL:PT1H
BEGIN:VTIMEZONE
TZID:America/Los_Angeles
BEGIN:DAYLIGHT
TZOFFSETFROM:-0800
TZOFFSETTO:-0700
TZNAME:PDT
DTSTART:20130310T100000
END:DAYLIGHT
BEGIN:STANDARD
TZOFFSETFROM:-0700
TZOFFSETTO:-0800
TZNAME:PST
DTSTART:20131103T090000
END:STANDARD
BEGIN:DAYLIGHT
TZOFFSETFROM:-0800
TZOFFSETTO:-0700
TZNAME:PDT
DTSTART:20140309T100000
END:DAYLIGHT
BEGIN:STANDARD
TZOFFSETFROM:-0700
TZOFFSETTO:-0800
TZNAME:PST
DTSTART:20141102T090000
END:STANDARD
BEGIN:DAYLIGHT
TZOFFSETFROM:-0800
TZOFFSETTO:-0700
TZNAME:PDT
DTSTART:20150308T100000
END:DAYLIGHT
BEGIN:STANDARD
TZOFFSETFROM:-0700
TZOFFSETTO:-0800
TZNAME:PST
DTSTART:20151101T090000
END:STANDARD
END:VTIMEZONE
BEGIN:VEVENT
DTSTART;TZID=America/Los_Angeles:20140722T083000
DTEND;TZID=America/Los_Angeles:20140722T120000
DTSTAMP:20260423T143155
CREATED:20140628T015328Z
LAST-MODIFIED:20140628T015328Z
UID:10000104-1406017800-1406030400@lodigrowers.com
SUMMARY:Harvest Safety Seminar (7/22)
DESCRIPTION:SAVE THE DATE: LODI GRAPE HARVEST SAFETY SEMINAR \nHosted by LDGGA and Lodi Winegrape Commission \nJuly 22\, 2014  \nLodi Grape Festival Grounds\n413 E. Lockeford Street\, Lodi\nEnglish Seminar- Burgundy Hall\nSpanish Seminar- Jackson Hall \n8:30 am Registration\, donuts & coffee\n9:00 am Seminar \nTopics covered will include:\n•	Transportation of Implements of Husbandry\n•	Grape Harvest Safety\n•	Proposed Cal OSHA Changes to Heat Illness and Night Work Rules (English only) \nRSVP to LDGGA (209) 339-8246\, info@ldgga.org or Lodi Winegrape Commission (209) 367-4727\, molly@lodiwine.com.  *Please indicate English or Spanish
URL:https://lodigrowers.com/event/harvest-safety-seminar-722/
LOCATION:Lodi Grape Festival Ground – Burgundy & Jackson Hall\, 413 E. Lockeford Street\, Lodi\, CA\, United States
GEO:38.1385639;-121.2636425
X-APPLE-STRUCTURED-LOCATION;VALUE=URI;X-ADDRESS=Lodi Grape Festival Ground – Burgundy & Jackson Hall 413 E. Lockeford Street Lodi CA United States;X-APPLE-RADIUS=500;X-TITLE=413 E. Lockeford Street:geo:-121.2636425,38.1385639
END:VEVENT
END:VCALENDAR