BEGIN:VCALENDAR
VERSION:2.0
PRODID:-//Lodi Growers - ECPv6.15.20//NONSGML v1.0//EN
CALSCALE:GREGORIAN
METHOD:PUBLISH
X-WR-CALNAME:Lodi Growers
X-ORIGINAL-URL:https://lodigrowers.com
X-WR-CALDESC:Events for Lodi Growers
REFRESH-INTERVAL;VALUE=DURATION:PT1H
X-Robots-Tag:noindex
X-PUBLISHED-TTL:PT1H
BEGIN:VTIMEZONE
TZID:UTC
BEGIN:STANDARD
TZOFFSETFROM:+0000
TZOFFSETTO:+0000
TZNAME:UTC
DTSTART:20130101T000000
END:STANDARD
END:VTIMEZONE
BEGIN:VEVENT
DTSTART;TZID=UTC:20140821T120000
DTEND;TZID=UTC:20140821T140000
DTSTAMP:20260423T155734
CREATED:20140812T011237Z
LAST-MODIFIED:20140812T011237Z
UID:10000113-1408622400-1408629600@lodigrowers.com
SUMMARY:Nominating Comm Mtg (8/21)
DESCRIPTION:Lodi Winegrape Commission\nNominating Committee\nMeeting Notice and Agenda\nSent and Posted August 11\, 2014 \nThe Lodi Winegrape Commission will meet: \nDate: Thursday\, August 21\, 2014\nTime: 12:00 P.M.\nPlace: Thai Spices Restaurant\, 2401 West Turner Road\, Lodi\, CA \nThe agenda for the meeting is as follows: \n1. Call to order \n2. Roll call and establishment of quorum \n3. Nomination of Officers for FY 2014-15 \n4. Adjourn \nAll agenda items are subject to discussion and possible action. For more information\, or to make a request regarding a disability-related accommodation for the meeting\, please contact Camron King (209-367-4727) or Nominating Committee Chair Robert Lauchland (209-712-2750). The notice and agenda is available on the internet at www.lodiwine.com in the Grower News\, Meetings and Events section.
URL:https://lodigrowers.com/event/nominating-comm-mtg-821/
LOCATION:Thai Spices Restaurant\, 2401 West\, Lodi\, CA\, United States
GEO:38.1300704;-121.3058756
X-APPLE-STRUCTURED-LOCATION;VALUE=URI;X-ADDRESS=Thai Spices Restaurant 2401 West Lodi CA United States;X-APPLE-RADIUS=500;X-TITLE=2401 West:geo:-121.3058756,38.1300704
END:VEVENT
BEGIN:VEVENT
DTSTART;TZID=UTC:20140821T140000
DTEND;TZID=UTC:20140821T160000
DTSTAMP:20260423T155734
CREATED:20140812T004629Z
LAST-MODIFIED:20140812T004737Z
UID:10000112-1408629600-1408636800@lodigrowers.com
SUMMARY:LWC Board Mtg (8/21)
DESCRIPTION:For download: LWC Minutes 7-17-14 \nLodi Winegrape Commission\nMeeting Notice and Agenda\nSent and Posted August 11\, 2014 \nThe Lodi Winegrape Commission will meet: \nDate: Thursday\, August 21\, 2014\nTime: 2:00 P.M.\nPlace: The Cellar Room\, Wine & Roses\, 2505 West Turner Road\, Lodi\, CA \nThe agenda for the meeting is as follows: \n1. Call to order \n2. Roll call and establishment of quorum \n3. Report of the Nominating Committee\n• Action Item – Election of Officers for FY 2014-15\n4. Review of the July 17\, 2014 Minutes\n• Action Item – Approve Minutes \n5. Financial Report\, July 2014\n• Action Item – Accept Financial Report \n6. Consideration of Agreements between LWC and CWEF\n• Action Item – Approve Managing Agreement\n• Action Item – Approve Promotional Agreement \n7. Chairman’s Report \n8. Report of Committees\n• Executive Committee\n• Grower Marketing\n• Lodi Rules\n• Research/Education/Communication\n• Lodi Wine Country \n9. Executive Director’s Report \n10. Report of other organizations\n• San Joaquin County Farm Bureau\n• Lodi District Grape Growers Association\n• California Wine Education Foundation \n11. Closed session to discuss pending litigation. Pursuant to Section 11126(e) of the California Government Code. \n12. Closed session regarding the appointment\, employment\, evaluation of performance\, or dismissal of an employee pursuant to Section 11126(a) of the California Government Code. \n13. Return to open session. \n14. Set next meeting date. \n15. Adjourn \nAll agenda items are subject to discussion and possible action. For more information\, or to make a request regarding a disability-related accommodation for the meeting\, please contact Camron King (209-367-4727) or Craig Ledbetter (209-334-6975). The notice and agenda is available on the internet at www.lodiwine.com in the Grower News\, Meetings and Events section
URL:https://lodigrowers.com/event/lwc-board-mtg-821/
LOCATION:Cellar Room\, Wine & Roses Hotel\, 2505 W. Turner Road\, Lodi\, CA\, United States
GEO:38.1469024;-121.3070234
X-APPLE-STRUCTURED-LOCATION;VALUE=URI;X-ADDRESS=Cellar Room Wine & Roses Hotel 2505 W. Turner Road Lodi CA United States;X-APPLE-RADIUS=500;X-TITLE=2505 W. Turner Road:geo:-121.3070234,38.1469024
END:VEVENT
END:VCALENDAR