BEGIN:VCALENDAR
VERSION:2.0
PRODID:-//Lodi Growers - ECPv6.15.20//NONSGML v1.0//EN
CALSCALE:GREGORIAN
METHOD:PUBLISH
X-ORIGINAL-URL:https://lodigrowers.com
X-WR-CALDESC:Events for Lodi Growers
REFRESH-INTERVAL;VALUE=DURATION:PT1H
X-Robots-Tag:noindex
X-PUBLISHED-TTL:PT1H
BEGIN:VTIMEZONE
TZID:UTC
BEGIN:STANDARD
TZOFFSETFROM:+0000
TZOFFSETTO:+0000
TZNAME:UTC
DTSTART:20130101T000000
END:STANDARD
END:VTIMEZONE
BEGIN:VEVENT
DTSTART;TZID=UTC:20140825T100000
DTEND;TZID=UTC:20140825T120000
DTSTAMP:20260423T155906
CREATED:20131231T015416Z
LAST-MODIFIED:20140823T044842Z
UID:10000051-1408960800-1408968000@lodigrowers.com
SUMMARY:NSJWCD Meeting (8/25)
DESCRIPTION:For Download: NSJWCD 2014-08 Meeting Agenda 8-25-14
URL:https://lodigrowers.com/event/nsjwcd-meeting-825/
LOCATION:Lodi Public Library Community Room\, 201 W. Locust Street\, Lodi\, CA\, 95240\, United States
GEO:38.137089;-121.2754301
X-APPLE-STRUCTURED-LOCATION;VALUE=URI;X-ADDRESS=Lodi Public Library Community Room 201 W. Locust Street Lodi CA 95240 United States;X-APPLE-RADIUS=500;X-TITLE=201 W. Locust Street:geo:-121.2754301,38.137089
END:VEVENT
END:VCALENDAR