BEGIN:VCALENDAR
VERSION:2.0
PRODID:-//Lodi Growers - ECPv6.15.20//NONSGML v1.0//EN
CALSCALE:GREGORIAN
METHOD:PUBLISH
X-ORIGINAL-URL:https://lodigrowers.com
X-WR-CALDESC:Events for Lodi Growers
REFRESH-INTERVAL;VALUE=DURATION:PT1H
X-Robots-Tag:noindex
X-PUBLISHED-TTL:PT1H
BEGIN:VTIMEZONE
TZID:UTC
BEGIN:STANDARD
TZOFFSETFROM:+0000
TZOFFSETTO:+0000
TZNAME:UTC
DTSTART:20130101T000000
END:STANDARD
END:VTIMEZONE
BEGIN:VEVENT
DTSTART;TZID=UTC:20140827T083000
DTEND;TZID=UTC:20140827T104500
DTSTAMP:20260423T155910
CREATED:20140812T012002Z
LAST-MODIFIED:20140812T012002Z
UID:10000114-1409128200-1409136300@lodigrowers.com
SUMMARY:Hedgerows Meeting (8/27)
DESCRIPTION:Benefits of Hedgerows on Farms in the Sacramento Valley \nHedgerow Farms\, 21905 County Road 88\, Winters\, CA 95694\nAugust 27\, 2014\n8:30 am – 10:45 am\n1 CE Hour Applied For \nRSVP is not required but appreciated:\nmfahey@ucdavis.edu\, or call 530.383.4625 \nThis workshop will focus on the benefits of hedgerows of California native plants in agricultural landscapes. Topics will include bird predation on codling moth\, rodents in hedgerows\, IPM\, and establishment and maintenance practices for planting habitat on field crop edges\, including an overview of plant species appropriate for hedgerows in the Sacramento Valley.\n• 8:30 – Welcome and DPR Grant Project Update\, Mary Fahey\, UCCE\n• 8:40 – Hedgerows\, Birds and Codling Moth\, Sacha Heath\, PhD Student\, UC Davis\, Ecology Graduate Group\n• 9:00 – Hedgerows and Rodents\, Laurel Sellers\, MS Student\, UC Davis International Agricultural Development\n• 9:20 – Hedgerows and IPM\, Rachael Long\, UCCE Farm Advisor\, Yolo County\n• 9:40 – Shrub & Native Grass Selection & Establishment in Hedgerows\, Jeff Quiter\, Hedgerow Farms\n• 10:05 – Forbs in Hedgerows\, John Anderson\, Hedgerow Farms\n• 10:30 – Summary and Audience Survey \nBring a hat\, sunscreen and good walking shoes –\nevent will be outdoors
URL:https://lodigrowers.com/event/hedgerows-meeting-827/
LOCATION:Hedgerow Farms\, 21905 County Road 88\, Winters\, CA\, United States
GEO:38.6222574;-121.9897903
X-APPLE-STRUCTURED-LOCATION;VALUE=URI;X-ADDRESS=Hedgerow Farms 21905 County Road 88 Winters CA United States;X-APPLE-RADIUS=500;X-TITLE=21905 County Road 88:geo:-121.9897903,38.6222574
END:VEVENT
END:VCALENDAR