BEGIN:VCALENDAR
VERSION:2.0
PRODID:-//Lodi Growers - ECPv6.15.20//NONSGML v1.0//EN
CALSCALE:GREGORIAN
METHOD:PUBLISH
X-WR-CALNAME:Lodi Growers
X-ORIGINAL-URL:https://lodigrowers.com
X-WR-CALDESC:Events for Lodi Growers
REFRESH-INTERVAL;VALUE=DURATION:PT1H
X-Robots-Tag:noindex
X-PUBLISHED-TTL:PT1H
BEGIN:VTIMEZONE
TZID:UTC
BEGIN:STANDARD
TZOFFSETFROM:+0000
TZOFFSETTO:+0000
TZNAME:UTC
DTSTART:20140101T000000
END:STANDARD
END:VTIMEZONE
BEGIN:VEVENT
DTSTART;TZID=UTC:20150203T073000
DTEND;TZID=UTC:20150203T140000
DTSTAMP:20260424T055807
CREATED:20150120T021833Z
LAST-MODIFIED:20150120T021833Z
UID:10000142-1422948600-1422972000@lodigrowers.com
SUMMARY:Lodi Grape Day (2/3)
DESCRIPTION:63rd Annual Lodi Grape Day \nTuesday\, February 3\, 2015\nHutchins Street Square\n125 South Hutchins St.\nLodi CA\, 95240\nKirst and Crete halls \nAgenda\n• 7:30 am Registration/Continuing Education Signups & Coffee\n• 8:00 am Weed Control Options and Strategies from Local Research Mick Canevari\, UC Farm Advisor Emeritus\, San Joaquin County\n• 8:30 am ILRP Update: Grower Reporting Requirements for Surface and Ground Water Monitoring Program.\nMike Wackman\, Executive Director\, San Joaquin County-Delta Water Coalition\n• 9:15 am Effective Management of Grapevine Trunk Diseases\nDoug Gubler\, Ph.D.\, Extension Plant Pathologist\, UC Davis\n• 10:05 am Break\n• 10:15 A Long and Winding Road – The Story of Red Leaf Viruses in Ca.\nDeborah Golino\, Ph.D.\, Director\, Foundation Plant Services\, UC Davis\n• 11:10 am Rootstock Research for Current and Future Options\nAndy Walker\, Ph.D.\, Dept. of Land\, Air and Water Resources\, UC Davis\n• 11:40 am Sensory Evaluation\n• 12:00 noon Lunch (tickets $25.00/person*)\n• 12:30 pm Luncheon Speaker\nMike Stroh\, Director of Marketing\, Michael David Winery\nContinuing Education has been approved by:\n• California Certified Crop Adviser – 3.5 Hours\n• California Dept. of Pesticide Regulation – pending\n*Lunch Tickets are available for $25.00/person and can be purchased at the door during the program
URL:https://lodigrowers.com/event/lodi-grape-day-23/
LOCATION:Hutchins Street Square\, 125 South Hutchins Street\, Lodi
GEO:38.1314872;-121.2813678
X-APPLE-STRUCTURED-LOCATION;VALUE=URI;X-ADDRESS=Hutchins Street Square 125 South Hutchins Street Lodi;X-APPLE-RADIUS=500;X-TITLE=125 South Hutchins Street:geo:-121.2813678,38.1314872
END:VEVENT
END:VCALENDAR