BEGIN:VCALENDAR
VERSION:2.0
PRODID:-//Lodi Growers - ECPv6.15.20//NONSGML v1.0//EN
CALSCALE:GREGORIAN
METHOD:PUBLISH
X-WR-CALNAME:Lodi Growers
X-ORIGINAL-URL:https://lodigrowers.com
X-WR-CALDESC:Events for Lodi Growers
REFRESH-INTERVAL;VALUE=DURATION:PT1H
X-Robots-Tag:noindex
X-PUBLISHED-TTL:PT1H
BEGIN:VTIMEZONE
TZID:UTC
BEGIN:STANDARD
TZOFFSETFROM:+0000
TZOFFSETTO:+0000
TZNAME:UTC
DTSTART:20140101T000000
END:STANDARD
END:VTIMEZONE
BEGIN:VEVENT
DTSTART;TZID=UTC:20150209T120000
DTEND;TZID=UTC:20150209T140000
DTSTAMP:20260424T055221
CREATED:20150131T062314Z
LAST-MODIFIED:20150207T020600Z
UID:10000155-1423483200-1423490400@lodigrowers.com
SUMMARY:Lodi Rules Committee (2/9)
DESCRIPTION:For Download: Lodi Rules Mins 1-6-15 \nLODI WINEGRAPE COMMISSION\nLODI RULES COMMITTEE\nNOTICE AND AGENDA\nSent and posted January 30\, 2015 \nDate: February 9\, 2015\nTime: 12:00 PM\nPlace: Lodi Wine & Visitor Center\n2545 W. Turner Rd.\, Lodi CA \nThe agenda for the meeting is as follows: \n1. Call to order\n2. Roll call and establishment of quorum\n3. Review and approve January 6\, 2015 meeting minutes \n4. Lodi Rules sustainability report \n5. Winery chain of custody agreement \n6. GEELA report \n7. Budget review \n8. Other business \n9. Set next meeting date \n10. Adjourn\nAction may be taken on any of the above items. Questions regarding the meeting can be directed to Matthew Hoffman (367-4727)\, Chris Storm (747-0461)\, or Camron King (367-4727)\, \nThis notice and agenda is available on the Internet at www.lodiwine.com in Grower News Meetings & Events
URL:https://lodigrowers.com/event/lodi-rules-committee-29/
LOCATION:Lodi Winegrape Commission\, 2545 West Turner Road\, Lodi
GEO:38.1459652;-121.307667
X-APPLE-STRUCTURED-LOCATION;VALUE=URI;X-ADDRESS=Lodi Winegrape Commission 2545 West Turner Road Lodi;X-APPLE-RADIUS=500;X-TITLE=2545 West Turner Road:geo:-121.307667,38.1459652
END:VEVENT
END:VCALENDAR