BEGIN:VCALENDAR
VERSION:2.0
PRODID:-//Lodi Growers - ECPv6.15.20//NONSGML v1.0//EN
CALSCALE:GREGORIAN
METHOD:PUBLISH
X-ORIGINAL-URL:https://lodigrowers.com
X-WR-CALDESC:Events for Lodi Growers
REFRESH-INTERVAL;VALUE=DURATION:PT1H
X-Robots-Tag:noindex
X-PUBLISHED-TTL:PT1H
BEGIN:VTIMEZONE
TZID:UTC
BEGIN:STANDARD
TZOFFSETFROM:+0000
TZOFFSETTO:+0000
TZNAME:UTC
DTSTART:20140101T000000
END:STANDARD
END:VTIMEZONE
BEGIN:VEVENT
DTSTART;TZID=UTC:20150212T093000
DTEND;TZID=UTC:20150212T110000
DTSTAMP:20260424T073027
CREATED:20150131T005257Z
LAST-MODIFIED:20150131T005257Z
UID:10000153-1423733400-1423738800@lodigrowers.com
SUMMARY:LDGGA ERISA Mtg (2/12)
DESCRIPTION:Break fast Meeting: Understanding ERISA  \nFebruary 12\, 2015\, 9:30 am\nLodi Grape Festival Grounds\, Burgundy Hall 413 E Lockeford St\, Lodi\, CA\nHosted by MCV Insurance Producers \nThe Employee Retirement Income Security Act of 1974 (ERISA) is a piece of legislation that affects every business that offers benefits to their employees.  It has recently expanded to include new health laws.  The Department of Labor is auditing small and large business alike.  Understanding ERISA requirements is critical to employers\, as non-compliance with the law can lead to a daily fine. The seminar will explain what the Department of Labor is looking for when they perform their audits and how employers can comply with the law.  If you are an employer who offers benefits to your employees\, you need to be at this seminar. \nRSVP directly to MCV Insurance at www.mcvins.com or 209-334-4242.
URL:https://lodigrowers.com/event/ldgga-erisa-mtg-212/
LOCATION:Burgundy Hall – Lodi Grape Festival Grounds\, 413 E. Lockeford Street\, Lodi
GEO:38.1385639;-121.2636425
X-APPLE-STRUCTURED-LOCATION;VALUE=URI;X-ADDRESS=Burgundy Hall – Lodi Grape Festival Grounds 413 E. Lockeford Street Lodi;X-APPLE-RADIUS=500;X-TITLE=413 E. Lockeford Street:geo:-121.2636425,38.1385639
END:VEVENT
END:VCALENDAR