BEGIN:VCALENDAR
VERSION:2.0
PRODID:-//Lodi Growers - ECPv6.15.20//NONSGML v1.0//EN
CALSCALE:GREGORIAN
METHOD:PUBLISH
X-ORIGINAL-URL:https://lodigrowers.com
X-WR-CALDESC:Events for Lodi Growers
REFRESH-INTERVAL;VALUE=DURATION:PT1H
X-Robots-Tag:noindex
X-PUBLISHED-TTL:PT1H
BEGIN:VTIMEZONE
TZID:UTC
BEGIN:STANDARD
TZOFFSETFROM:+0000
TZOFFSETTO:+0000
TZNAME:UTC
DTSTART:20140101T000000
END:STANDARD
END:VTIMEZONE
BEGIN:VEVENT
DTSTART;VALUE=DATE:20150224
DTEND;VALUE=DATE:20150225
DTSTAMP:20260424T060057
CREATED:20150121T023819Z
LAST-MODIFIED:20150121T023819Z
UID:10000143-1424736000-1424822399@lodigrowers.com
SUMMARY:Lodi Rules Apps due (2/24)
DESCRIPTION:
URL:https://lodigrowers.com/event/lodi-rules-apps-due-224/
LOCATION:California
END:VEVENT
END:VCALENDAR