BEGIN:VCALENDAR
VERSION:2.0
PRODID:-//Lodi Growers - ECPv6.15.20//NONSGML v1.0//EN
CALSCALE:GREGORIAN
METHOD:PUBLISH
X-ORIGINAL-URL:https://lodigrowers.com
X-WR-CALDESC:Events for Lodi Growers
REFRESH-INTERVAL;VALUE=DURATION:PT1H
X-Robots-Tag:noindex
X-PUBLISHED-TTL:PT1H
BEGIN:VTIMEZONE
TZID:UTC
BEGIN:STANDARD
TZOFFSETFROM:+0000
TZOFFSETTO:+0000
TZNAME:UTC
DTSTART:20140101T000000
END:STANDARD
END:VTIMEZONE
BEGIN:VEVENT
DTSTART;TZID=UTC:20150317T090000
DTEND;TZID=UTC:20150317T110000
DTSTAMP:20260424T072915
CREATED:20150120T020325Z
LAST-MODIFIED:20150310T235930Z
UID:10000141-1426582800-1426590000@lodigrowers.com
SUMMARY:GPM Part VII BMSB (3/17)
DESCRIPTION:Grape Pest Management Meeting: Part VII\nBMSB and Phylloxera \nMarch 17\, 2015 9:00 am – 11:00 am\nBurgundy Hall\, Lodi Grape Festival Grounds\n413 E. Lockeford Street\, Lodi \nThe Local Perspective\nPaul Verdegaal\, UCCE Viticulture Farm Advisor\, San Joaquin County. \nBrown Marmorated Stink Bug (BMSM)\nChuck Ingels\, UCCE Farm Advisor\, Sacramento County \nPhylloxera Management \nAndrew Walker\, UC Davis Viticulture and Enology \nThis is the seventh in a year-long series of educational meetings that will focus on selected chapters from the book Grape Pest Management. (For more information on the series see the August\, 2014 Lodi Grower Newsletter.) Crush District 11 growers and others working in pest management who attend the series will receive a copy\, compliments of the Lodi Winegrape Commission. E-reader version will also be available. Out-of-district growers and others can purchase the book at a 30% discount for $70.00 (retail $100.00).
URL:https://lodigrowers.com/event/gpm-part-vii-317/
LOCATION:Burgundy Hall – Lodi Grape Festival Grounds\, 413 E. Lockeford Street\, Lodi
GEO:38.1385639;-121.2636425
X-APPLE-STRUCTURED-LOCATION;VALUE=URI;X-ADDRESS=Burgundy Hall – Lodi Grape Festival Grounds 413 E. Lockeford Street Lodi;X-APPLE-RADIUS=500;X-TITLE=413 E. Lockeford Street:geo:-121.2636425,38.1385639
END:VEVENT
END:VCALENDAR