BEGIN:VCALENDAR
VERSION:2.0
PRODID:-//Lodi Growers - ECPv6.15.20//NONSGML v1.0//EN
CALSCALE:GREGORIAN
METHOD:PUBLISH
X-ORIGINAL-URL:https://lodigrowers.com
X-WR-CALDESC:Events for Lodi Growers
REFRESH-INTERVAL;VALUE=DURATION:PT1H
X-Robots-Tag:noindex
X-PUBLISHED-TTL:PT1H
BEGIN:VTIMEZONE
TZID:America/Los_Angeles
BEGIN:DAYLIGHT
TZOFFSETFROM:-0800
TZOFFSETTO:-0700
TZNAME:PDT
DTSTART:20140309T100000
END:DAYLIGHT
BEGIN:STANDARD
TZOFFSETFROM:-0700
TZOFFSETTO:-0800
TZNAME:PST
DTSTART:20141102T090000
END:STANDARD
BEGIN:DAYLIGHT
TZOFFSETFROM:-0800
TZOFFSETTO:-0700
TZNAME:PDT
DTSTART:20150308T100000
END:DAYLIGHT
BEGIN:STANDARD
TZOFFSETFROM:-0700
TZOFFSETTO:-0800
TZNAME:PST
DTSTART:20151101T090000
END:STANDARD
BEGIN:DAYLIGHT
TZOFFSETFROM:-0800
TZOFFSETTO:-0700
TZNAME:PDT
DTSTART:20160313T100000
END:DAYLIGHT
BEGIN:STANDARD
TZOFFSETFROM:-0700
TZOFFSETTO:-0800
TZNAME:PST
DTSTART:20161106T090000
END:STANDARD
END:VTIMEZONE
BEGIN:VEVENT
DTSTART;TZID=America/Los_Angeles:20150319T140000
DTEND;TZID=America/Los_Angeles:20150319T160000
DTSTAMP:20260424T091119
CREATED:20150310T055805Z
LAST-MODIFIED:20150310T055805Z
UID:10000165-1426773600-1426780800@lodigrowers.com
SUMMARY:LWC Board Mtg (3/19)
DESCRIPTION:Lodi Winegrape Commission\nMeeting Notice and Agenda\nSent and Posted March 9\, 2015 \nThe Lodi Winegrape Commission will meet: \nDate: 		Thursday\, March 19\, 2015\nTime:		2:00 P.M.\nPlace:		The Cellar Room\, Wine & Roses\, 2505 West Turner Road\, Lodi\, CA \nThe agenda for the meeting is as follows: \n1.	Call to order \n2.	Roll call and establishment of quorum \n3.	Review of the February 19\, 2015 Minutes\n•	Action Item \n4.	Financial Report\, February 2015\n•	Action Item \n5.	Chairman’s Report \n6.	Report of Committees\n•	Executive Committee\n•	Grower Marketing\n•	Lodi Rules\n•	Research/Education/Communication\n•	Lodi Wine Country \n7.	Executive Director’s Report\n•	Amgen Tour of California \n8.	Report of other organizations\n•	California Wine Education Foundation\n•	San Joaquin County Farm Bureau\n•	Lodi District Grape Growers Association \n9.	Closed session to discuss pending litigation. Pursuant to Section 11126(e) of the California Government Code. \n10.	Closed session regarding the appointment\, employment\, evaluation of performance\, or dismissal of an employee pursuant to Section 11126(a) of the California Government Code. \n11.	Return to open session. \n12.	Set next meeting date. \n13.	Adjourn \nAll agenda items are subject to discussion and possible action. For more information\, or to make a request regarding a disability-related accommodation for the meeting\, please contact Camron King (209-367-4727) or Craig Ledbetter (209-334-6975). The notice and agenda is available on the internet at www.lodiwine.com in the Grower News\, Meetings and Events section
URL:https://lodigrowers.com/event/lwc-board-mtg-319/
LOCATION:Lodi Winegrape Commission\, 2545 W. Turner Road\, Lodi
GEO:38.1459652;-121.307667
X-APPLE-STRUCTURED-LOCATION;VALUE=URI;X-ADDRESS=Lodi Winegrape Commission 2545 W. Turner Road Lodi;X-APPLE-RADIUS=500;X-TITLE=2545 W. Turner Road:geo:-121.307667,38.1459652
END:VEVENT
END:VCALENDAR