BEGIN:VCALENDAR
VERSION:2.0
PRODID:-//Lodi Growers - ECPv6.15.20//NONSGML v1.0//EN
CALSCALE:GREGORIAN
METHOD:PUBLISH
X-WR-CALNAME:Lodi Growers
X-ORIGINAL-URL:https://lodigrowers.com
X-WR-CALDESC:Events for Lodi Growers
REFRESH-INTERVAL;VALUE=DURATION:PT1H
X-Robots-Tag:noindex
X-PUBLISHED-TTL:PT1H
BEGIN:VTIMEZONE
TZID:America/Los_Angeles
BEGIN:DAYLIGHT
TZOFFSETFROM:-0800
TZOFFSETTO:-0700
TZNAME:PDT
DTSTART:20140309T100000
END:DAYLIGHT
BEGIN:STANDARD
TZOFFSETFROM:-0700
TZOFFSETTO:-0800
TZNAME:PST
DTSTART:20141102T090000
END:STANDARD
BEGIN:DAYLIGHT
TZOFFSETFROM:-0800
TZOFFSETTO:-0700
TZNAME:PDT
DTSTART:20150308T100000
END:DAYLIGHT
BEGIN:STANDARD
TZOFFSETFROM:-0700
TZOFFSETTO:-0800
TZNAME:PST
DTSTART:20151101T090000
END:STANDARD
BEGIN:DAYLIGHT
TZOFFSETFROM:-0800
TZOFFSETTO:-0700
TZNAME:PDT
DTSTART:20160313T100000
END:DAYLIGHT
BEGIN:STANDARD
TZOFFSETFROM:-0700
TZOFFSETTO:-0800
TZNAME:PST
DTSTART:20161106T090000
END:STANDARD
END:VTIMEZONE
BEGIN:VEVENT
DTSTART;TZID=America/Los_Angeles:20150407T120000
DTEND;TZID=America/Los_Angeles:20150407T140000
DTSTAMP:20260424T090331
CREATED:20150327T231615Z
LAST-MODIFIED:20150327T231741Z
UID:10000170-1428408000-1428415200@lodigrowers.com
SUMMARY:Lodi Rules Committee (4/7)
DESCRIPTION:For Download: Lodi Rules Minutes 3-9-15 \nLODI WINEGRAPE COMMISSION\nLODI RULES COMMITTEE\nNOTICE AND AGENDA\nSent and posted on March 27\, 2015 \nDate:   April 7\, 2015\nTime:  12:00 PM\nPlace:  Lodi Wine & Visitor Center\n	2545 W. Turner Rd.\, Lodi CA \nThe agenda for the meeting is as follows: \n1.	Call to order\n2.	Roll call and establishment of quorum\n3.	Review and approve  March 9\, 2015 meeting minutes \n4.	Sustainability report \n5.	Trademark license agreement  \n6.	Branding guidelines \n7.	Upcoming board meeting \n8.	Budget review \n9.	Other business \n10.	Set next meeting date \n11.	Adjourn\nAction may be taken on any of the above items.  Questions regarding the meeting can be directed to Matthew Hoffman (367-4727)\, Chris Storm (747-0461)\, or Camron King (367-4727)\, \nThis notice and agenda is available on the Internet at www.lodiwine.com in Grower News Meetings & Events
URL:https://lodigrowers.com/event/lodi-rules-committee-47/
LOCATION:Lodi Winegrape Commission\, 2545 W. Turner Road\, Lodi\, United States
GEO:38.1459652;-121.307667
X-APPLE-STRUCTURED-LOCATION;VALUE=URI;X-ADDRESS=Lodi Winegrape Commission 2545 W. Turner Road Lodi United States;X-APPLE-RADIUS=500;X-TITLE=2545 W. Turner Road:geo:-121.307667,38.1459652
END:VEVENT
END:VCALENDAR