BEGIN:VCALENDAR
VERSION:2.0
PRODID:-//Lodi Growers - ECPv6.15.20//NONSGML v1.0//EN
CALSCALE:GREGORIAN
METHOD:PUBLISH
X-WR-CALNAME:Lodi Growers
X-ORIGINAL-URL:https://lodigrowers.com
X-WR-CALDESC:Events for Lodi Growers
REFRESH-INTERVAL;VALUE=DURATION:PT1H
X-Robots-Tag:noindex
X-PUBLISHED-TTL:PT1H
BEGIN:VTIMEZONE
TZID:America/Los_Angeles
BEGIN:DAYLIGHT
TZOFFSETFROM:-0800
TZOFFSETTO:-0700
TZNAME:PDT
DTSTART:20140309T100000
END:DAYLIGHT
BEGIN:STANDARD
TZOFFSETFROM:-0700
TZOFFSETTO:-0800
TZNAME:PST
DTSTART:20141102T090000
END:STANDARD
BEGIN:DAYLIGHT
TZOFFSETFROM:-0800
TZOFFSETTO:-0700
TZNAME:PDT
DTSTART:20150308T100000
END:DAYLIGHT
BEGIN:STANDARD
TZOFFSETFROM:-0700
TZOFFSETTO:-0800
TZNAME:PST
DTSTART:20151101T090000
END:STANDARD
BEGIN:DAYLIGHT
TZOFFSETFROM:-0800
TZOFFSETTO:-0700
TZNAME:PDT
DTSTART:20160313T100000
END:DAYLIGHT
BEGIN:STANDARD
TZOFFSETFROM:-0700
TZOFFSETTO:-0800
TZNAME:PST
DTSTART:20161106T090000
END:STANDARD
END:VTIMEZONE
BEGIN:VEVENT
DTSTART;TZID=America/Los_Angeles:20150423T083000
DTEND;TZID=America/Los_Angeles:20150423T130000
DTSTAMP:20260424T090414
CREATED:20150414T233425Z
LAST-MODIFIED:20150414T233425Z
UID:10000174-1429777800-1429794000@lodigrowers.com
SUMMARY:CAWG & LDGGA Lunch (4/23)
DESCRIPTION:CAWG & LDGGA Grower Education Program & Luncheon \nApril 23\, 2015\n8:30 am Registration\n9:00 am Meeting\nLodi Grape Festival Grounds\nBurgundy Hall\n413 E Lockeford St\, Lodi\, CA \nJoin us on April 23rd for an informative Grower Education Program and Luncheon co-hosted by the California Association of Winegrape Growers and LDGGA. The seminar is free to LDGGA and CAWG members\, $15 for non members. Lunch is included. Sponsored by Pan American Insurance Agency Inc. and QBE NAU Country Insurance Company. For more information\, visit http://ldgga.org or contact LDGGA at (209) 339-8246 or info@ldgga.org \nClick here for the Registration Form \nTopics include:\n• Pierce’s Disease/GWSS Update: Ken Freeze of Brown Miller Communication will provide an update on PD/GWSS including history of the program\, ongoing research\, program funding\, other included pests and diseases\, and the referendum that is currently underway.\n• Conservation Compliance: John Aguire of CAWG will explain the new USDA Conservation Compliance requirements for winegrape growers purchasing crop insurance. He will cover Form AD-1026 which must be filed with your local Farm Service Agency office by June 1\, 2015 by those interested in purchasing crop insurance for the 2016 crop year. Those who also produce annually tilled commodities (wheat\, corn\, etc.) and want to purchase winegrape crop insurance will be subject to Highly Erodible Land Conservation and Wetland Conservation certification requirements.\n• Cal OSHA Heat Illness: Bryan Little of FELS will provide an update on the new requirements of the Heat Illness Prevention Regulation that are expected to go into effect on May 1\, 2015. Changes have been made to multiple areas of the regulation including access to shade\, location of water\, preventative cool-down rest breaks\, high heat procedures\, emergency response procedures\, acclimatization\, training\, and heat illness prevention plans.\n• Drought Issues: Jennifer Spaletta of Spaletta Law will provide an update on drought issues including State Water Board emergency water regulations\, the implementation of the Sustainable Groundwater Management Act\, and local water issues.\n• Lunch\, Networking & A Legislative Update from CAWG: The seminar will conclude with a networking lunch and update on state legislation from Brad Goehring of Goehring Vineyards the CAWG Government Relations Committee Chair.
URL:https://lodigrowers.com/event/cawg-ldgga-lunch-423/
LOCATION:Burgundy Hall – Lodi Grape Festival Grounds\, 413 E. Lockeford Street\, Lodi
GEO:38.1385639;-121.2636425
X-APPLE-STRUCTURED-LOCATION;VALUE=URI;X-ADDRESS=Burgundy Hall – Lodi Grape Festival Grounds 413 E. Lockeford Street Lodi;X-APPLE-RADIUS=500;X-TITLE=413 E. Lockeford Street:geo:-121.2636425,38.1385639
END:VEVENT
BEGIN:VEVENT
DTSTART;TZID=America/Los_Angeles:20150423T140000
DTEND;TZID=America/Los_Angeles:20150423T160000
DTSTAMP:20260424T090414
CREATED:20150414T021751Z
LAST-MODIFIED:20150414T021751Z
UID:10000172-1429797600-1429804800@lodigrowers.com
SUMMARY:LWC Board Mtg (4/23)
DESCRIPTION:Lodi Winegrape Commission\nMeeting Notice and Agenda\nSent and Posted April 13\, 2015 \nThe Lodi Winegrape Commission will meet: \nDate: 		Thursday\, April 23\, 2015\nTime:		2:00 P.M.\nPlace:		The Board Room\, Wine & Roses\, 2505 West Turner Road\, Lodi\, CA \nThe agenda for the meeting is as follows: \n1.	Call to order \n2.	Roll call and establishment of quorum \n3.	Review of the March 19\, 2015 Minutes\n•	Action Item \n4.	Financial Report\, March 2015 and FY 2014-15 Q3 report\n•	Action Item \n5.	Chairman’s Report \n6.	Report of Committees\n•	Executive Committee\n•	Grower Marketing\n•	Lodi Rules\na.	Committee to comprehensive provide program update and report\n•	Research/Education/Communication\n•	Lodi Wine Country \n7.	Executive Director’s Report\n•	Amgen Tour of California \n8.	Report of other organizations\n•	California Wine Education Foundation\n•	San Joaquin County Farm Bureau\n•	Lodi District Grape Growers Association \n9.	Closed session to discuss pending litigation. Pursuant to Section 11126(e) of the California Government Code. \n10.	Closed session regarding the appointment\, employment\, evaluation of performance\, or dismissal of an employee pursuant to Section 11126(a) of the California Government Code. \n11.	Return to open session. \n12.	Set next meeting date. \n13.	Adjourn \nAll agenda items are subject to discussion and possible action. For more information\, or to make a request regarding a disability-related accommodation for the meeting\, please contact Camron King (209-367-4727) or Craig Ledbetter (209-334-6975). The notice and agenda is available on the internet at www.lodiwine.com in the Grower News\, Meetings and Events section.
URL:https://lodigrowers.com/event/lwc-board-mtg-423/
LOCATION:Board Room\, Wine & Roses Hotel\, 2505 W. Turner Road\, Lodi
GEO:38.1469024;-121.3070234
X-APPLE-STRUCTURED-LOCATION;VALUE=URI;X-ADDRESS=Board Room Wine & Roses Hotel 2505 W. Turner Road Lodi;X-APPLE-RADIUS=500;X-TITLE=2505 W. Turner Road:geo:-121.3070234,38.1469024
END:VEVENT
END:VCALENDAR