BEGIN:VCALENDAR
VERSION:2.0
PRODID:-//Lodi Growers - ECPv6.15.20//NONSGML v1.0//EN
CALSCALE:GREGORIAN
METHOD:PUBLISH
X-WR-CALNAME:Lodi Growers
X-ORIGINAL-URL:https://lodigrowers.com
X-WR-CALDESC:Events for Lodi Growers
REFRESH-INTERVAL;VALUE=DURATION:PT1H
X-Robots-Tag:noindex
X-PUBLISHED-TTL:PT1H
BEGIN:VTIMEZONE
TZID:America/Los_Angeles
BEGIN:DAYLIGHT
TZOFFSETFROM:-0800
TZOFFSETTO:-0700
TZNAME:PDT
DTSTART:20140309T100000
END:DAYLIGHT
BEGIN:STANDARD
TZOFFSETFROM:-0700
TZOFFSETTO:-0800
TZNAME:PST
DTSTART:20141102T090000
END:STANDARD
BEGIN:DAYLIGHT
TZOFFSETFROM:-0800
TZOFFSETTO:-0700
TZNAME:PDT
DTSTART:20150308T100000
END:DAYLIGHT
BEGIN:STANDARD
TZOFFSETFROM:-0700
TZOFFSETTO:-0800
TZNAME:PST
DTSTART:20151101T090000
END:STANDARD
BEGIN:DAYLIGHT
TZOFFSETFROM:-0800
TZOFFSETTO:-0700
TZNAME:PDT
DTSTART:20160313T100000
END:DAYLIGHT
BEGIN:STANDARD
TZOFFSETFROM:-0700
TZOFFSETTO:-0800
TZNAME:PST
DTSTART:20161106T090000
END:STANDARD
END:VTIMEZONE
BEGIN:VEVENT
DTSTART;TZID=America/Los_Angeles:20150512T090000
DTEND;TZID=America/Los_Angeles:20150512T130000
DTSTAMP:20260424T145839
CREATED:20150320T230750Z
LAST-MODIFIED:20150320T230848Z
UID:10000168-1431421200-1431435600@lodigrowers.com
SUMMARY:Irrigation Workshop (5/12)
DESCRIPTION:Irrigation Efficiency Workshop – Hosted by Community Alliance with Family Farmers\nhttp://cts.vresp.com/c/?LodiWinegrapeCommiss/984e82e0d2/TEST/32a72b1dfe \nMay 12\, 2015 \n9:00 am – 1:00 pm (includes lunch) \nVino Farms\, Ranch 1 \nThe entrance to Ranch 1 is a dirt road on the South side of Peltier Rd. about one mile East of Peltier Rd. Look for the sign. \nAndy Walker\, UC Davis\, will discuss drought resistant rootstock breeding for future needs.Tom Shapland\, Tule Technologies\, will demonstrate on-site evapotranspiration monitoring and vine stress using the Surface Renewal method including benchmarks to compare irrigation strategies.Rachel Petitt\, CAFF\, will discuss drought resources available. \nRSVP to Rachel Petitt rachel@caff.org.
URL:https://lodigrowers.com/event/irrigation-efficiency-workshop-512/
LOCATION:Vino Farms\, Ranch 1\, Lodi\, United States
END:VEVENT
END:VCALENDAR