BEGIN:VCALENDAR
VERSION:2.0
PRODID:-//Lodi Growers - ECPv6.15.20//NONSGML v1.0//EN
CALSCALE:GREGORIAN
METHOD:PUBLISH
X-ORIGINAL-URL:https://lodigrowers.com
X-WR-CALDESC:Events for Lodi Growers
REFRESH-INTERVAL;VALUE=DURATION:PT1H
X-Robots-Tag:noindex
X-PUBLISHED-TTL:PT1H
BEGIN:VTIMEZONE
TZID:America/Los_Angeles
BEGIN:DAYLIGHT
TZOFFSETFROM:-0800
TZOFFSETTO:-0700
TZNAME:PDT
DTSTART:20140309T100000
END:DAYLIGHT
BEGIN:STANDARD
TZOFFSETFROM:-0700
TZOFFSETTO:-0800
TZNAME:PST
DTSTART:20141102T090000
END:STANDARD
BEGIN:DAYLIGHT
TZOFFSETFROM:-0800
TZOFFSETTO:-0700
TZNAME:PDT
DTSTART:20150308T100000
END:DAYLIGHT
BEGIN:STANDARD
TZOFFSETFROM:-0700
TZOFFSETTO:-0800
TZNAME:PST
DTSTART:20151101T090000
END:STANDARD
BEGIN:DAYLIGHT
TZOFFSETFROM:-0800
TZOFFSETTO:-0700
TZNAME:PDT
DTSTART:20160313T100000
END:DAYLIGHT
BEGIN:STANDARD
TZOFFSETFROM:-0700
TZOFFSETTO:-0800
TZNAME:PST
DTSTART:20161106T090000
END:STANDARD
END:VTIMEZONE
BEGIN:VEVENT
DTSTART;TZID=America/Los_Angeles:20150518T100000
DTEND;TZID=America/Los_Angeles:20150518T110000
DTSTAMP:20260424T145940
CREATED:20150508T055100Z
LAST-MODIFIED:20150508T055139Z
UID:10000179-1431943200-1431946800@lodigrowers.com
SUMMARY:Joint Exec & Finance Comm
DESCRIPTION:Joint Executive and Finance Committee\nMeeting Notice and Agenda\nSent & Posted May 7\, 2015 \nThe Finance Committee will meet: \nDate:		Monday\, May 18\, 2015\nTime:		10:00 A.M.\nPlace:		Lodi Winegrape Commission Conference Room\n2545 West Turner Road\, Lodi CA\, 95242 \nThe agenda for the meeting is as follows: \n1.	Call to order \n2.	Roll call and establishment of quorum \n3.	Approval of Minutes from Executive Committee\, February 10\, 2015 \n4.	Budget Income Projections for FY 2015-16 \n5.	Assessment Recommendation for FY 2015-16 \n6.	Agenda Items for Future Meetings \n7.	Set date for next meeting \n8.	Public Comment for Items Not Appearing on Agenda \n9.	Adjourn \nAction may be taken on any of the items listed above.  Questions regarding the meeting should be directed to Craig Ledbetter (334-6975) or Camron King (367-4727). This notice and agenda is available on the internet at www.lodiwine.com in Grower News Meetings and Events.
URL:https://lodigrowers.com/event/joint-executive-finance-comm/
LOCATION:Lodi Winegrape Commission
END:VEVENT
BEGIN:VEVENT
DTSTART;TZID=America/Los_Angeles:20150518T120000
DTEND;TZID=America/Los_Angeles:20150518T140000
DTSTAMP:20260424T145940
CREATED:20150509T050325Z
LAST-MODIFIED:20150509T050741Z
UID:10000181-1431950400-1431957600@lodigrowers.com
SUMMARY:Lodi Rules Comm Mtg (5/18)
DESCRIPTION:For Download: Lodi Rules Minutes 4-7-15 \nLODI WINEGRAPE COMMISSION\nLODI RULES COMMITTEE\nNOTICE AND AGENDA\nSent and posted on May 8\, 2015 \nDate: May 18\, 2015\nTime: 12:00 PM\nPlace: Lodi Wine & Visitor Center\n2545 W. Turner Rd.\, Lodi CA \nThe agenda for the meeting is as follows: \n1. Call to order\n2. Roll call and establishment of quorum\n3. Review and approve April 7\, 2015 meeting minutes \n4. Sustainability report \n5. Trademark license agreement \n6. Branding guidelines \n7. Report on LR focused board meeting \n8. Budget review – 2015/16 recommendations \n9. Other business \n10. Set next meeting date \n11. Adjourn\nAction may be taken on any of the above items. Questions regarding the meeting can be directed to Matthew Hoffman (367-4727)\, Chris Storm (747-0461)\, or Camron King (367-4727). \nThis notice and agenda is available on the Internet at www.lodiwine.com in Grower News Meetings & Events.
URL:https://lodigrowers.com/event/lodi-rules-comm-mtg-518/
LOCATION:Lodi Winegrape Commission
END:VEVENT
BEGIN:VEVENT
DTSTART;TZID=America/Los_Angeles:20150518T140000
DTEND;TZID=America/Los_Angeles:20150518T150000
DTSTAMP:20260424T145940
CREATED:20150515T032912Z
LAST-MODIFIED:20150515T032912Z
UID:10000182-1431957600-1431961200@lodigrowers.com
SUMMARY:NSJWCD Mtg 5/18
DESCRIPTION:Agenda:  1. Agenda 5-18-15 \nMinutes: 2. Minutes 4-27-15.
URL:https://lodigrowers.com/event/nsjwcd-mtg-518/
LOCATION:Lodi Library – Community Room\, 201 West Locust Street\, Lodi
GEO:38.137089;-121.2754301
X-APPLE-STRUCTURED-LOCATION;VALUE=URI;X-ADDRESS=Lodi Library – Community Room 201 West Locust Street Lodi;X-APPLE-RADIUS=500;X-TITLE=201 West Locust Street:geo:-121.2754301,38.137089
END:VEVENT
END:VCALENDAR