BEGIN:VCALENDAR
VERSION:2.0
PRODID:-//Lodi Growers - ECPv6.15.20//NONSGML v1.0//EN
CALSCALE:GREGORIAN
METHOD:PUBLISH
X-WR-CALNAME:Lodi Growers
X-ORIGINAL-URL:https://lodigrowers.com
X-WR-CALDESC:Events for Lodi Growers
REFRESH-INTERVAL;VALUE=DURATION:PT1H
X-Robots-Tag:noindex
X-PUBLISHED-TTL:PT1H
BEGIN:VTIMEZONE
TZID:America/Los_Angeles
BEGIN:DAYLIGHT
TZOFFSETFROM:-0800
TZOFFSETTO:-0700
TZNAME:PDT
DTSTART:20140309T100000
END:DAYLIGHT
BEGIN:STANDARD
TZOFFSETFROM:-0700
TZOFFSETTO:-0800
TZNAME:PST
DTSTART:20141102T090000
END:STANDARD
BEGIN:DAYLIGHT
TZOFFSETFROM:-0800
TZOFFSETTO:-0700
TZNAME:PDT
DTSTART:20150308T100000
END:DAYLIGHT
BEGIN:STANDARD
TZOFFSETFROM:-0700
TZOFFSETTO:-0800
TZNAME:PST
DTSTART:20151101T090000
END:STANDARD
BEGIN:DAYLIGHT
TZOFFSETFROM:-0800
TZOFFSETTO:-0700
TZNAME:PDT
DTSTART:20160313T100000
END:DAYLIGHT
BEGIN:STANDARD
TZOFFSETFROM:-0700
TZOFFSETTO:-0800
TZNAME:PST
DTSTART:20161106T090000
END:STANDARD
END:VTIMEZONE
BEGIN:VEVENT
DTSTART;TZID=America/Los_Angeles:20150527T140000
DTEND;TZID=America/Los_Angeles:20150527T160000
DTSTAMP:20260424T145810
CREATED:20150516T035223Z
LAST-MODIFIED:20150516T035223Z
UID:10000183-1432735200-1432742400@lodigrowers.com
SUMMARY:LWC Board Mtg (5/27)
DESCRIPTION:Lodi Winegrape Commission\nMeeting Notice and Agenda\nSent and Posted May 15\, 2015 \nThe Lodi Winegrape Commission will meet: \nDate: 		Wednesday\, May 27\, 2015\nTime:		2:00 P.M.\nPlace:		The Cellar Room\, Wine & Roses\, 2505 West Turner Road\, Lodi\, CA \nThe agenda for the meeting is as follows: \n1.	Call to order \n2.	Roll call and establishment of quorum \n3.	Discussion of Proposed Changes to the Lodi Rules for Sustainable Winegrowing Program\n•	Recommendation to develop a non-regional version of the certification seal \n4.	Agenda Items for Future Meetings \n5.	Set date for next meeting \n6.	Public Comment for Items Not Appearing on Agenda \n7.	Adjourn \nAction may be taken on any of the items listed above.  Questions regarding the meeting should be directed to Craig Ledbetter (334-6975) or Camron King (367-4727). This notice and agenda is available on the internet at www.lodiwine.com in Grower News Meetings and Events.
URL:https://lodigrowers.com/event/lwc-board-mtg-527/
LOCATION:Lodi Winegrape Commission
END:VEVENT
END:VCALENDAR