BEGIN:VCALENDAR
VERSION:2.0
PRODID:-//Lodi Growers - ECPv6.15.20//NONSGML v1.0//EN
CALSCALE:GREGORIAN
METHOD:PUBLISH
X-ORIGINAL-URL:https://lodigrowers.com
X-WR-CALDESC:Events for Lodi Growers
REFRESH-INTERVAL;VALUE=DURATION:PT1H
X-Robots-Tag:noindex
X-PUBLISHED-TTL:PT1H
BEGIN:VTIMEZONE
TZID:America/Los_Angeles
BEGIN:DAYLIGHT
TZOFFSETFROM:-0800
TZOFFSETTO:-0700
TZNAME:PDT
DTSTART:20250309T100000
END:DAYLIGHT
BEGIN:STANDARD
TZOFFSETFROM:-0700
TZOFFSETTO:-0800
TZNAME:PST
DTSTART:20251102T090000
END:STANDARD
BEGIN:DAYLIGHT
TZOFFSETFROM:-0800
TZOFFSETTO:-0700
TZNAME:PDT
DTSTART:20260308T100000
END:DAYLIGHT
BEGIN:STANDARD
TZOFFSETFROM:-0700
TZOFFSETTO:-0800
TZNAME:PST
DTSTART:20261101T090000
END:STANDARD
BEGIN:DAYLIGHT
TZOFFSETFROM:-0800
TZOFFSETTO:-0700
TZNAME:PDT
DTSTART:20270314T100000
END:DAYLIGHT
BEGIN:STANDARD
TZOFFSETFROM:-0700
TZOFFSETTO:-0800
TZNAME:PST
DTSTART:20271107T090000
END:STANDARD
END:VTIMEZONE
BEGIN:VEVENT
DTSTART;TZID=America/Los_Angeles:20260121T100000
DTEND;TZID=America/Los_Angeles:20260121T130000
DTSTAMP:20260419T193538
CREATED:20251216T234326Z
LAST-MODIFIED:20251216T234454Z
UID:10001705-1768989600-1769000400@lodigrowers.com
SUMMARY:LODI RULES ANNUAL GROWER & WINERY MEETING
DESCRIPTION:LODI RULES ANNUAL GROWER & WINERY MEETING.\nDate:  Wednesday\, January 21\, 2026 \nTime:  10:00am – 1:00pm; lunch provided with RSVP \nVenue: Burgundy Hall\, Grape Festival Grounds\, 413 E Lockeford St\, Lodi\, CA \nCost:  FREE\, all are welcome to attend \nDescription: The LODI RULES Community – growers\, vintners\, supporters & leaders – gathers annually to connect with each other\, discuss the previous certification year and learn something new. Attending this annual meeting ensures that you have the latest resources to get the most out of LODI RULES\, engages you with your LODI RULES community and informs you of any important program changes. Anyone certifying for the 2026 vintage (or considering certification) should attend. A sustainable vision workshop (satisfying LR 1.1) will immediately follow the main meeting. \nRSVP:  By January 16 to the Lodi Winegrape Commission by phone 209.367.4727 or email stephanie@lodiwine.com. Include all names of attendees and whether they are staying for lunch and/or the Sustainable Vision Workshop (1 to 4pm) which follows the main meeting.
URL:https://lodigrowers.com/event/lodi-rules-annual-grower-winery-meeting/
LOCATION:Burgundy Hall – Lodi Grape Festival Grounds\, 413 E. Lockeford Street\, Lodi\, CA\, 95240\, United States
CATEGORIES:LODI RULES
GEO:38.1385639;-121.2636425
X-APPLE-STRUCTURED-LOCATION;VALUE=URI;X-ADDRESS=Burgundy Hall – Lodi Grape Festival Grounds 413 E. Lockeford Street Lodi CA 95240 United States;X-APPLE-RADIUS=500;X-TITLE=413 E. Lockeford Street:geo:-121.2636425,38.1385639
END:VEVENT
BEGIN:VEVENT
DTSTART;TZID=America/Los_Angeles:20260121T130000
DTEND;TZID=America/Los_Angeles:20260121T160000
DTSTAMP:20260419T193538
CREATED:20251217T000854Z
LAST-MODIFIED:20251217T001024Z
UID:10001706-1769000400-1769011200@lodigrowers.com
SUMMARY:LODI RULES SUSTAINABLE VISION WORKSHOP
DESCRIPTION:LODI RULES SUSTAINABLE VISION WORKSHOP.\nDate:  Wednesday\, January 21\, 2026\n\nTime:  1:00 – 4:00pm (following the Annual Meeting)\n\nVenue:  Barrel Room\, Grape Festival Grounds\, 413 E Lockeford St\, Lodi\, CA\n\nCost:  FREE; all LODI RULES growers/potential growers & wineries are welcome to attend\n\nDescription:  This workshop with Cowboy Conservationist Kent Reeves satisfies part of the requirement for LR Standard 1.1. Once you attend one vision workshop\, it counts for your lifetime. We typically offer one-two Vision Workshops per year. Attendees will better understand their on-farm resources and the “why” behind their farming operation.\n\nRSVP:  By January 19 to the Lodi Winegrape Commission by phone 209.367.4727 or email stephanie@lodiwine.com.
URL:https://lodigrowers.com/event/lodi-rules-sustainable-vision-workshop-10/
LOCATION:Burgundy Hall – Lodi Grape Festival Grounds\, 413 E. Lockeford Street\, Lodi\, CA\, 95240\, United States
CATEGORIES:LODI RULES
GEO:38.1385639;-121.2636425
X-APPLE-STRUCTURED-LOCATION;VALUE=URI;X-ADDRESS=Burgundy Hall – Lodi Grape Festival Grounds 413 E. Lockeford Street Lodi CA 95240 United States;X-APPLE-RADIUS=500;X-TITLE=413 E. Lockeford Street:geo:-121.2636425,38.1385639
END:VEVENT
END:VCALENDAR