BEGIN:VCALENDAR
VERSION:2.0
PRODID:-//Lodi Growers - ECPv6.15.20//NONSGML v1.0//EN
CALSCALE:GREGORIAN
METHOD:PUBLISH
X-WR-CALNAME:Lodi Growers
X-ORIGINAL-URL:https://lodigrowers.com
X-WR-CALDESC:Events for Lodi Growers
REFRESH-INTERVAL;VALUE=DURATION:PT1H
X-Robots-Tag:noindex
X-PUBLISHED-TTL:PT1H
BEGIN:VTIMEZONE
TZID:UTC
BEGIN:STANDARD
TZOFFSETFROM:+0000
TZOFFSETTO:+0000
TZNAME:UTC
DTSTART:20130101T000000
END:STANDARD
END:VTIMEZONE
BEGIN:VEVENT
DTSTART;TZID=UTC:20140304T073000
DTEND;TZID=UTC:20140304T140000
DTSTAMP:20260423T190923
CREATED:20140225T015607Z
LAST-MODIFIED:20140225T015653Z
UID:10000063-1393918200-1393941600@lodigrowers.com
SUMMARY:UC Davis Winery Tour (3/4)
DESCRIPTION:UC Davis Winery Tour \nTuesday March 4\n7:30AM – 2:00PM \nThe UC Davis Viticulture and Enology Department will host a tour of the state-of-the-art Jess Jackson Sustainable Winery for Lodi growers and vintners. Following the tour\, we will hear from three UC Davis scientists reporting on their recent research on the topics of and sustainable certification. Transportation and lunch will be provided by the Lodi Winegrape Commission. \nThe tour is limited to 30 guests\, so please RSVP soon. To reserve a seat on the bus contact Molly at molly@lodiwine.com or (209) 367-4727. \nSchedule\n• 7:30AM – Depart Commission office (2545 W. Turned Road\, Lodi CA)\n• 9:00AM – Winery and vineyard tour\n• 11:00PM – Research presentations and lunch\n• 1:00PM – Depart UC Davis\n• 2:00PM – Arrive back at Commission office
URL:https://lodigrowers.com/event/uc-davis-winery-tour-34/
LOCATION:UC Davis – Jess Jackson Sustainable Winery\, Davis\, CA\, United States
END:VEVENT
BEGIN:VEVENT
DTSTART;TZID=UTC:20140305T120000
DTEND;TZID=UTC:20140305T140000
DTSTAMP:20260423T190924
CREATED:20140221T053104Z
LAST-MODIFIED:20140221T053516Z
UID:10000062-1394020800-1394028000@lodigrowers.com
SUMMARY:Research Mtg (3/5)
DESCRIPTION:For Download: Res and Ed minutes 1-5-14 \nLODI WINEGRAPE COMMISSION\nRESEARCH EDUCATION COMMUNICATION COMMITTEE\nNOTICE AND AGENDA\nSent and posted Feb 20\, 2014 \nDate: March 5\, 2014\nTime: 12PM\nPlace: Cellar Room at Wine and Roses\, 2505 W. Turner Road\, Lodi\, CA 95242 \nThe agenda for the meeting is as follows: \n1. Call to order.\n2. Roll call and establishment of quorum\n3. Approval of previous meeting’s minutes (January 15 \, 2014)\n4. Update on grower website\n• Virtual Tailgate Meeting video\n5. Update on demonstration vineyard\n6. Grower social location and date recommendations\n7. Committee special meeting for SWAT on March 19\, 20\, 21\n8. Grower outreach\n• PG&E meeting – Feb 11\n• Drought and irrigation symposium – Early March\n• UCD Winery Tour – March 4th\n• Soil Road Show – April\n9. Weather stations\n• Consider purchasing new stations (vote)\n10. Research projects\n• Kaan Kurtural boron research presentation\n• Chuck Ingles BMSB proposal (vote)\n11. Master Vigneron program presentation – Paul Zellman\n12. Budget review\n13. New business\n14. Schedule next meeting\n15. Adjourn. \nAction may be taken on any of the above items. Questions regarding the meeting can be directed to Research and Education Committee Chairman Charlie Starr (329-7791) or Grower Program Coordinator Matthew Hoffman (367-4727). This notice and agenda is available on the Internet at www.lodiwine.com in Grower News Meetings & Events.
URL:https://lodigrowers.com/event/research-mtg-35/
LOCATION:Cellar Room\, Wine & Roses Hotel\, 2505 West Turner Road\, Lodi\, CA\, 95242\, United States
GEO:38.1469024;-121.3070234
X-APPLE-STRUCTURED-LOCATION;VALUE=URI;X-ADDRESS=Cellar Room Wine & Roses Hotel 2505 West Turner Road Lodi CA 95242 United States;X-APPLE-RADIUS=500;X-TITLE=2505 West Turner Road:geo:-121.3070234,38.1469024
END:VEVENT
BEGIN:VEVENT
DTSTART;TZID=UTC:20140306T073000
DTEND;TZID=UTC:20140306T163000
DTSTAMP:20260423T190924
CREATED:20140225T021049Z
LAST-MODIFIED:20140225T021049Z
UID:10000067-1394091000-1394123400@lodigrowers.com
SUMMARY:Farm Safety Day (3/6)
DESCRIPTION:Farm Safety Day\nThursday\, March 6th\n7:30-4:30 \nLodi Grape Festival Grounds\n413 E. Lockford Street\nLodi\, CA\,95240 \nBe sure to register your employees for the 2014 Farm Safety Day. Topic covered:\n•	Personal Protective Equipment\n•	First Aid and Health Effects of Pesticide Exposure\n•	Mixing and Loading/Cleanup and Disposal\n•	Leaks and Spills\n•	Environmental Protection\n•	Calibration of Application Equipment\n•	Sulfur Dust Stewardship \nAttention Lodi Rules Growers. Sending employees to Farm Safety day is important for their health and safety\, and will ths score points toward Lodi Rules certification. See Standard 2.6 on page 29 of the Lodi Rules for Sustainable Winegrowing Standards binder.
URL:https://lodigrowers.com/event/farm-safety-day-36/
LOCATION:Lodi Grape Festival\, 413 E. Lockeford Street\, Lodi\, CA\, United States
GEO:38.1385639;-121.2636425
X-APPLE-STRUCTURED-LOCATION;VALUE=URI;X-ADDRESS=Lodi Grape Festival 413 E. Lockeford Street Lodi CA United States;X-APPLE-RADIUS=500;X-TITLE=413 E. Lockeford Street:geo:-121.2636425,38.1385639
END:VEVENT
BEGIN:VEVENT
DTSTART;TZID=UTC:20140307T120000
DTEND;TZID=UTC:20140307T140000
DTSTAMP:20260423T190924
CREATED:20140307T005913Z
LAST-MODIFIED:20140307T010042Z
UID:10000071-1394193600-1394200800@lodigrowers.com
SUMMARY:LMRWSSC Meeting (3/7)
DESCRIPTION:For Download: LMRWSSC020714minutes \nLower Mokelumne River Watershed Stewardship\nSteering Committee \nFriday March 7\, 2014\nUSDA Plant Materials Center\n21001 N. Elliott Rd.\nLockeford\, CA \n12:00-2:00 pm \nAGENDA \nRoll Call/Introductions\nAdditions/Deletions to Agenda\nApproval of Minutes \n1. Elections \n2. Old Business\nA. Ecosystem Services Pilot Project\nB. MokeWISE Program Update\nC. FARMS Leadership Program Update\nD. Irrigated Lands Program Update\nE. Watershed Users’ Guide Update\nF. Community Outreach\n1. Watershed Field Day\n2. NSJWCD Update \n3. New Business \n4. Adjourn \nAgenda items are subject to change and additional items may be added at the discretion of the chairman. \nThe next meeting of the Lower Mokelumne River Watershed Stewardship Steering Committee is scheduled Friday April 4\, 2014.
URL:https://lodigrowers.com/event/lmrwssc-meeting-37/
LOCATION:USDA Plant Materials Center\, 21001 N. Elliott Rd. \, Lockeford\, CA\, United States
GEO:38.1760975;-121.1641036
X-APPLE-STRUCTURED-LOCATION;VALUE=URI;X-ADDRESS=USDA Plant Materials Center 21001 N. Elliott Rd.  Lockeford CA United States;X-APPLE-RADIUS=500;X-TITLE=21001 N. Elliott Rd.:geo:-121.1641036,38.1760975
END:VEVENT
BEGIN:VEVENT
DTSTART;TZID=UTC:20140310T110000
DTEND;TZID=UTC:20140310T120000
DTSTAMP:20260423T190924
CREATED:20140308T015659Z
LAST-MODIFIED:20140308T015805Z
UID:10000073-1394449200-1394452800@lodigrowers.com
SUMMARY:NSJWCD Meeting (3/10)
DESCRIPTION:For download: NSJWCD 2014-03 – Special Meeting 3-10 \nThe Board of Directors of the North San Joaquin Water Conservation District will hold a special meeting on: \nMonday\, March 10 at 11:00 a.m. at the Lodi Public Library. \nThere will be 3 agenda items and a closed session.  The purpose of the special meeting is to meet the required timelines regarding CEQA compliance for\, and approval of\, the Water Right Change Petitions and Tracy Lake Groundwater Recharge Project.
URL:https://lodigrowers.com/event/nsjwcd-meeting-310/
LOCATION:Lodi Public Library Community Room\, 201 W Locust Street\, Lodi\, CA\, United States
GEO:38.137089;-121.2754301
X-APPLE-STRUCTURED-LOCATION;VALUE=URI;X-ADDRESS=Lodi Public Library Community Room 201 W Locust Street Lodi CA United States;X-APPLE-RADIUS=500;X-TITLE=201 W Locust Street:geo:-121.2754301,38.137089
END:VEVENT
BEGIN:VEVENT
DTSTART;TZID=UTC:20140311T090000
DTEND;TZID=UTC:20140311T110000
DTSTAMP:20260423T190924
CREATED:20140225T020416Z
LAST-MODIFIED:20140311T045808Z
UID:10000064-1394528400-1394535600@lodigrowers.com
SUMMARY:Robotic Pruning Demo (3/11)
DESCRIPTION:Robotic Pruning Field Demonstration \nTuesday March 11\n9:00 AM (not 1:00 PM) \nDirections: The demonstration site will be on Acampo Rd\, about 1/2 mile east of Bruella Rd. Look for the Vision Robotics sign on north side of road. Call (209) 200-1803 with location questions.   \nVision Robotics and Vino Farms are teaming up to host a robotic pruning field demonstration. A number of articles about robotic pruning have recently been published in Good Fruit Grower and Wines and Vines. A YouTube video demonstration is available HERE. The features and goals for the robotic pruner are listed below (from Wines and Vines).\n• Precision cuts with the quality of hand pruning.\n• Day and night operation.\n• Options to be towed by a tractor or be self-propelled.\n• Two pruning heads per row\, with an over-the-row design to prune 2 rows at once.\n• Prune at speeds of 8 feet/minute.\n• Prune 1 acre in 4.4 hours (depending on vine density).\n• Save 40% to 50% over hand labor\, with payback of 2.4 years.\n• Costs $125/acre (17.3 cents/vine)\, compared with hand labor at $257/acre (35.3 cents/vine).
URL:https://lodigrowers.com/event/robotic-pruning-demo-311/
LOCATION:California
END:VEVENT
BEGIN:VEVENT
DTSTART;TZID=UTC:20140312T090000
DTEND;TZID=UTC:20140312T110000
DTSTAMP:20260423T190924
CREATED:20140305T052308Z
LAST-MODIFIED:20140305T052308Z
UID:10000069-1394614800-1394622000@lodigrowers.com
SUMMARY:RWQCB Hearing (3/12)
DESCRIPTION:REGIONAL WATER QUAILTY CONTROL BOARD HEARING\nWednesday\, March 12\, 2014 \nOn Wednesday\, March 12 the Central Valley Regional Water Quality Control Board will adopt the Waste Discharge Requirements for irrigated agriculture in the San Joaquin and Delta watershed area. \nThe hearing will begin at 9:00 am at the Central Valley Regional Water Quality Control Board chambers at 11020 Sun Center Drive #200\, Rancho Cordova\, CA. \nIf you would like to attend the hearing\, a bus will leave the San Joaquin Farm Bureau office\, 3290 Ad Art Rd.\, Stockton at 7:30 am.  The bus ride is free of charge and lunch will be included.  Please contact San Joaquin Farm Bureau at (209) 931-4931 to reserve a spot on the bus.
URL:https://lodigrowers.com/event/rwqcb-hearing-312/
LOCATION:Quality Control Board Chambers\, 11020 Sun Center Drive #200\, Rancho Cordova\, CA\, United States
GEO:38.5949463;-121.2752367
X-APPLE-STRUCTURED-LOCATION;VALUE=URI;X-ADDRESS=Quality Control Board Chambers 11020 Sun Center Drive #200 Rancho Cordova CA United States;X-APPLE-RADIUS=500;X-TITLE=11020 Sun Center Drive #200:geo:-121.2752367,38.5949463
END:VEVENT
BEGIN:VEVENT
DTSTART;VALUE=DATE:20140313
DTEND;VALUE=DATE:20140314
DTSTAMP:20260423T190924
CREATED:20140225T020542Z
LAST-MODIFIED:20140225T020542Z
UID:10000065-1394668800-1394755199@lodigrowers.com
SUMMARY:RAVE Meeting (3/13)
DESCRIPTION:SAVE THE DATE! \nMarch 13th – Recent Advances in viticulture and Enology (RAVE)
URL:https://lodigrowers.com/event/rave-meeting-313/
LOCATION:California
END:VEVENT
BEGIN:VEVENT
DTSTART;TZID=UTC:20140313T100000
DTEND;TZID=UTC:20140313T130000
DTSTAMP:20260423T190924
CREATED:20140221T010731Z
LAST-MODIFIED:20140221T010731Z
UID:10000061-1394704800-1394715600@lodigrowers.com
SUMMARY:LDGGA Meeting (3/13)
DESCRIPTION:SAVE THE DATE: LDGGA GROWER MEETING\nThursday\, March 13\, 2014 \nOak Ridge Winery\n6100 E. Hwy 12\, Lodi\n10:00 am\, followed by lunch \nWinegrape Market Update\nNat DiBuduo\, Allied Grape Growers \nRural Crime Update\nSan Joaquin Sherriff\nRural Crime Unit \nComplimentary lunch will be served to those that RSVP to LDGGA (209) 339-8246 or info@ldgga.org.
URL:https://lodigrowers.com/event/ldgga-meeting-313/
LOCATION:Oak Ridge Winery\, 6100 E. Hwy 12\, Lodi\, United States
GEO:38.1159348;-121.3951415
X-APPLE-STRUCTURED-LOCATION;VALUE=URI;X-ADDRESS=Oak Ridge Winery 6100 E. Hwy 12 Lodi United States;X-APPLE-RADIUS=500;X-TITLE=6100 E. Hwy 12:geo:-121.3951415,38.1159348
END:VEVENT
BEGIN:VEVENT
DTSTART;TZID=UTC:20140317T120000
DTEND;TZID=UTC:20140317T140000
DTSTAMP:20260423T190924
CREATED:20140307T084430Z
LAST-MODIFIED:20140307T084430Z
UID:10000072-1395057600-1395064800@lodigrowers.com
SUMMARY:Lodi Rules Meeting (3/17)
DESCRIPTION:For Download: Lodi Rules Mins 1-15-14 \nLODI WINEGRAPE COMMISSION\nLODI RULES COMMITTEE\nNOTICE AND AGENDA\nSent and posted March 6\, 2014 \nDate: Monday\, March 17\, 2014\nTime: 12:00 PM.\nPlace: Lodi Wine & Visitor Center\n2545 W. Turner Rd.\, Lodi CA \nThe agenda for the meeting is as follows: \n1. Call to order\n2. Roll call and establishment of quorum\n3. Review and approve January 7\, 2014 meeting minutes \n4. Lodi Rules data from Protected Harvest \n5. Sustainability award update \n6. Branding guidelines \n7. Internship \n8. Winery outreach update\na. Peltier Station\nb. Acuiese Winery\nc. Harney Lane \n9. Lodi Rules in winery map legend \n10. PEAS calculator \n11. Proposed new standard – Cliff \n12. Expanding Lodi Rules for other regions – Cliff \n13. Budget review \n14. Other business \n15. Set next meeting date \n16. Adjourn\nAction may be taken on any of the above items. Questions regarding the meeting can be directed to Matthew Hoffman (367-4727)\, Chris Storm (747-0461)\, or Camron King (367-4727). \nThis notice and agenda is available on the Internet at www.lodiwine.com in Grower News Meetings & Events
URL:https://lodigrowers.com/event/lodi-rules-meeting-317/
LOCATION:Lodi Winegrape Commission\, 2545 West Turner Road\, Lodi\, CA\, United States
GEO:38.1459652;-121.307667
X-APPLE-STRUCTURED-LOCATION;VALUE=URI;X-ADDRESS=Lodi Winegrape Commission 2545 West Turner Road Lodi CA United States;X-APPLE-RADIUS=500;X-TITLE=2545 West Turner Road:geo:-121.307667,38.1459652
END:VEVENT
BEGIN:VEVENT
DTSTART;TZID=UTC:20140318T100000
DTEND;TZID=UTC:20140318T150000
DTSTAMP:20260423T190924
CREATED:20140311T043341Z
LAST-MODIFIED:20140311T043341Z
UID:10000074-1395136800-1395154800@lodigrowers.com
SUMMARY:New Rules Grower Mtg (3/18)
DESCRIPTION:March 18th\n10:00 AM – 3:00 PM\nLodi Winegrape Commission conference room\n2545 W. Turner Road\nLodi CA\, 95242  \nEach year\, the Commission hosts a day-long workshop for new Lodi Rules growers. During the workshop we will introduce you to all aspects of the program\, walk you through the certification process and requirements\, and prepare you to successfully achieve certification. This workshop will also give you an opportunity to score your first points toward certification by completing the Sustainability Vision (Standard 1.1).  \nLunch will be provided. Please RSVP to matthew@lodiwine.com.\n________________________________________\n2014 Certification Calendar\nBe sure to enter the following dates into your personal calendar\n•	February 24th – Lodi Rules Applications Due\n•	March 14th – Self Assessment Opens Online (Login & Materials will be emailed to you prior)\n•	March 18th – New grower meeting\n•	May 16th – Self Assessment Completion deadline – Online Access Closes\n•	May 20th – Audits Begin as scheduled with the Auditor\n•	August 1st – Audits End\n•	August 8th – Off-Site Audit Documentation Due to Auditor\n•	August 15th – PEAS Due to Auditor\n•	October 15th – Final Date to Submit Documentation to Auditor\n________________________________________
URL:https://lodigrowers.com/event/new-rules-grower-mtg-318/
LOCATION:Lodi Winegrape Commission\, 2545 West Turner Road\, Lodi\, CA\, United States
GEO:38.1459652;-121.307667
X-APPLE-STRUCTURED-LOCATION;VALUE=URI;X-ADDRESS=Lodi Winegrape Commission 2545 West Turner Road Lodi CA United States;X-APPLE-RADIUS=500;X-TITLE=2545 West Turner Road:geo:-121.307667,38.1459652
END:VEVENT
BEGIN:VEVENT
DTSTART;TZID=UTC:20140326T010000
DTEND;TZID=UTC:20140326T170000
DTSTAMP:20260423T190924
CREATED:20140320T061739Z
LAST-MODIFIED:20140320T061739Z
UID:10000076-1395795600-1395853200@lodigrowers.com
SUMMARY:Groundwater Workshop (3/26)
DESCRIPTION:FREE PUBLIC WORKSHOP: SJ COUNTY GROUNDWATER BASIN STUDIES \nMarch 26\, 2014\, 1:00pm – 5:00pm\nSan Joaquin County – Robert J. Cabral Agricultural Center\n2101 E. Earhart Ave.\, Stockton\, CA \nSan Joaquin County is pleased to present findings of the Groundwater Basin Studies. Scientists from the United States Geological Survey\, California Water Science Center will be presenting their results in a free public workshop. The workshop is free to attend\, space is limited. Registration required: (209) 468-3073 or e-mail cgmadrid@sjgov.org.
URL:https://lodigrowers.com/event/groundwater-workshop-326/
LOCATION:Robert J. Cabral Agricultural Center\, 2101 E. Earhart Ave\, Stockton\, CA\, United States
GEO:37.9045311;-121.2418008
X-APPLE-STRUCTURED-LOCATION;VALUE=URI;X-ADDRESS=Robert J. Cabral Agricultural Center 2101 E. Earhart Ave Stockton CA United States;X-APPLE-RADIUS=500;X-TITLE=2101 E. Earhart Ave:geo:-121.2418008,37.9045311
END:VEVENT
BEGIN:VEVENT
DTSTART;TZID=UTC:20140327T090000
DTEND;TZID=UTC:20140327T100000
DTSTAMP:20260423T190924
CREATED:20140318T011447Z
LAST-MODIFIED:20140326T233256Z
UID:10000075-1395910800-1395914400@lodigrowers.com
SUMMARY:Vineyard Drone Demo (3/27)
DESCRIPTION:Vineyard Drone Demonstration \nThursday March 27\n9:00 AM \nThe demonstration will be held on the west side of Davis Rd.\, between Turner Rd. and Peltiere Rd. Look for the LoCA sign. With question on the morning of\, call Matthew at (209) 200-1803.  \nJohn Faus of HoneyComb will demonstrate and discuss the science behind aerial imaging technologies and their potential application in Lodi vineyards. HoneyComb is an Oregon-based company focused on drone based aerial imaging solutions for precision agriculture. These drones collect and map vineyard data\, which growers can then analyze and use for decision-making. HoneyComb is an innovative company that provided technologies and services that have a direct impact on efficiency\, productivity\, and profitability.  \nRSVP to Molly Bjork at molly@lodiwine.com or (209) 367-4727.
URL:https://lodigrowers.com/event/vineyard-drone-demo-317/
LOCATION:California
END:VEVENT
BEGIN:VEVENT
DTSTART;TZID=UTC:20140329T170000
DTEND;TZID=UTC:20140329T180000
DTSTAMP:20260423T190924
CREATED:20140306T064946Z
LAST-MODIFIED:20140306T065026Z
UID:10000070-1396112400-1396116000@lodigrowers.com
SUMMARY:Retirement Celebration (3/29)
DESCRIPTION:Scott Hudson\nSan Joaquin Co Agricultural Commissioner \nSaturday March 29\nSocial: 5:00 PM\nDinner: 6:00 PM \nRobert J. Cabral Agricultural Center\n2101 East Earhart Av\nStockton\, CA \n$20/person
URL:https://lodigrowers.com/event/retirement-celebration-329/
LOCATION:Robert J. Cabral Agricultural Center\, 2101 East Earhart Av\, Stockton\, CA\, United States
GEO:37.9045311;-121.2418008
X-APPLE-STRUCTURED-LOCATION;VALUE=URI;X-ADDRESS=Robert J. Cabral Agricultural Center 2101 East Earhart Av Stockton CA United States;X-APPLE-RADIUS=500;X-TITLE=2101 East Earhart Av:geo:-121.2418008,37.9045311
END:VEVENT
BEGIN:VEVENT
DTSTART;TZID=UTC:20140331T100000
DTEND;TZID=UTC:20140331T120000
DTSTAMP:20260423T190924
CREATED:20131231T011838Z
LAST-MODIFIED:20131231T011838Z
UID:10000032-1396260000-1396267200@lodigrowers.com
SUMMARY:NSJWCD Meeting (3/31)
DESCRIPTION:
URL:https://lodigrowers.com/event/nsjwcd-meeting-331/
LOCATION:Lodi Public Library Community Room\, 201 W. Locust Street\, Lodi\, CA\, 95240\, United States
GEO:38.137089;-121.2754301
X-APPLE-STRUCTURED-LOCATION;VALUE=URI;X-ADDRESS=Lodi Public Library Community Room 201 W. Locust Street Lodi CA 95240 United States;X-APPLE-RADIUS=500;X-TITLE=201 W. Locust Street:geo:-121.2754301,38.137089
END:VEVENT
END:VCALENDAR