BEGIN:VCALENDAR
VERSION:2.0
PRODID:-//Lodi Growers - ECPv6.15.20//NONSGML v1.0//EN
CALSCALE:GREGORIAN
METHOD:PUBLISH
X-ORIGINAL-URL:https://lodigrowers.com
X-WR-CALDESC:Events for Lodi Growers
REFRESH-INTERVAL;VALUE=DURATION:PT1H
X-Robots-Tag:noindex
X-PUBLISHED-TTL:PT1H
BEGIN:VTIMEZONE
TZID:America/Los_Angeles
BEGIN:DAYLIGHT
TZOFFSETFROM:-0800
TZOFFSETTO:-0700
TZNAME:PDT
DTSTART:20130310T100000
END:DAYLIGHT
BEGIN:STANDARD
TZOFFSETFROM:-0700
TZOFFSETTO:-0800
TZNAME:PST
DTSTART:20131103T090000
END:STANDARD
BEGIN:DAYLIGHT
TZOFFSETFROM:-0800
TZOFFSETTO:-0700
TZNAME:PDT
DTSTART:20140309T100000
END:DAYLIGHT
BEGIN:STANDARD
TZOFFSETFROM:-0700
TZOFFSETTO:-0800
TZNAME:PST
DTSTART:20141102T090000
END:STANDARD
BEGIN:DAYLIGHT
TZOFFSETFROM:-0800
TZOFFSETTO:-0700
TZNAME:PDT
DTSTART:20150308T100000
END:DAYLIGHT
BEGIN:STANDARD
TZOFFSETFROM:-0700
TZOFFSETTO:-0800
TZNAME:PST
DTSTART:20151101T090000
END:STANDARD
END:VTIMEZONE
BEGIN:VTIMEZONE
TZID:UTC
BEGIN:STANDARD
TZOFFSETFROM:+0000
TZOFFSETTO:+0000
TZNAME:UTC
DTSTART:20130101T000000
END:STANDARD
END:VTIMEZONE
BEGIN:VEVENT
DTSTART;VALUE=DATE:20140509
DTEND;VALUE=DATE:20140510
DTSTAMP:20260423T125359
CREATED:20140510T023720Z
LAST-MODIFIED:20140510T023720Z
UID:10000089-1399593600-1399679999@lodigrowers.com
SUMMARY:Carbon Footprinting Workshops
DESCRIPTION:Flyer for download:  Carbon Footprint Workshops \nCarbon Footprinting Workshops\nfor vineyards & wineries \nThese FREE Carbon Footprinting workshops will provide an overview of a recent\nCalifornia Wine Life Cycle Assessment (LCA) study and help vineyard and winery\nemployees better understand opportunities for reducing Scope 3 Greenhouse\nGas emissions (e.g.\, packaging\, energy efficiency that can reduce costs\, nitrogen\nmanagement and trans portation/distribution). \nThe workshops run from 8:30 AM until Noon and will be followed by lunch and\nan optional winery tour to learn more about sustainability practices in action. \nRSVP here! \nPartnering Organizations:  \nSonoma County Winegrape Commission\, Sonoma Valley Vintners & Growers Association\, San Joaquin Valley Winegrowers Association\, Lodi Winegrape Commission\, The Vineyard Team\, and Paso Robles Wine Country Alliance \nJune 3-5 2014\nPaso Robles-June 3rd\n8:30 am – 1:00 pm\nHope Family Wines \nLivingston-June 4th\n8:30 am – 1:00 pm\nE&J Gallo Winery \nSonoma-June 5th\n8:30 am – 1:00 pm\nBenziger Family Winery \nWho should attend\nVineyard & winery owners\, managers & employees and other wine industry professionals interested in learning about sustainability \nQuestions\nContact Cam Brown at info@sustainablewinegrowing.org or 415.356.7548 \nCost\nThis is a FREE workshop for CA vineyard and winery employees \nRSVP link \nhttps://wineinstitute.wufoo.com/forms/2014-carbon-footprinting-workshops/ \nFor more information on the agenda and location\, visit www.sustainablewinegrowing.org/workshopcalendar.php
URL:https://lodigrowers.com/event/carbon-footprinting-workshops/
LOCATION:California
END:VEVENT
BEGIN:VEVENT
DTSTART;TZID=UTC:20140515T140000
DTEND;TZID=UTC:20140515T160000
DTSTAMP:20260423T125359
CREATED:20140506T043054Z
LAST-MODIFIED:20140506T043054Z
UID:10000086-1400162400-1400169600@lodigrowers.com
SUMMARY:LWC Board Mtg (5/15)
DESCRIPTION:Lodi Winegrape Commission\nMeeting Notice and Agenda\nSent and Posted May 5\, 2014 \nThe Lodi Winegrape Commission will meet: \nDate: Thursday\, May 15\, 2014\nTime: 2:00 P.M.\nPlace: The Cellar Room\, Wine & Roses\, 2505 West Turner Road\, Lodi\, CA \nThe agenda for the meeting is as follows: \n1. Call to order \n2. Roll call and establishment of quorum \n3. Review of the April 17\, 2014 Minutes\n• Action Item – Approve Minutes \n4. Financial Report\n• Action Item – Accept Financial Report \n5. Chairman’s Report \n6. Report of Committees\n• Grower Marketing\n• Lodi Rules\n• Research/Education/Communication\n• Lodi Wine Country \n7. Executive Director’s Report \n8. Report of other organizations \n9. Closed session to discuss pending litigation. Pursuant to Section 11126(e) of the California Government Code. \n10. Closed session regarding the appointment\, employment\, evaluation of performance\, or dismissal of an employee pursuant to Section 11126(a) of the California Government Code. \n11. Return to open session. \n12. Set next meeting date. \n13. Adjourn \nAll agenda items are subject to discussion and possible action. For more information\, or to make a request regarding a disability-related accommodation for the meeting\, please contact Camron King (209-367-4727) or Craig Ledbetter (209-334-6975)\, The notice and agenda is available on the internet at www.lodiwine.com in the Grower News\, Meetings and Events section.
URL:https://lodigrowers.com/event/lwc-board-mtg-515/
LOCATION:Cellar Room\, Wine & Roses Hotel
END:VEVENT
BEGIN:VEVENT
DTSTART;TZID=UTC:20140519T100000
DTEND;TZID=UTC:20140519T120000
DTSTAMP:20260423T125359
CREATED:20131231T013147Z
LAST-MODIFIED:20140516T041236Z
UID:10000034-1400493600-1400500800@lodigrowers.com
SUMMARY:NSJWCD Meeting (5/19)
DESCRIPTION:For Download: \n1. NSJWCD 2014-05 Meeting Agenda 5-19-14 \n2. Meeting Minutes 4-28-14 \n3.Minutes Attachment 4-28-14 – Resolution 2014-03 KSN Master Agreement \nThe next meeting will be on\nMonday\, May 19th at 2 pm at the Lodi Library\n(Note: This is an early date due to the Memorial Day Holiday) \nMamie Starr\nVolunteer Assistant to the Board
URL:https://lodigrowers.com/event/nsjwcd-519/
LOCATION:Lodi Public Library Community Room\, 201 W. Locust Street\, Lodi\, CA\, 95240\, United States
GEO:38.137089;-121.2754301
X-APPLE-STRUCTURED-LOCATION;VALUE=URI;X-ADDRESS=Lodi Public Library Community Room 201 W. Locust Street Lodi CA 95240 United States;X-APPLE-RADIUS=500;X-TITLE=201 W. Locust Street:geo:-121.2754301,38.137089
END:VEVENT
BEGIN:VEVENT
DTSTART;TZID=UTC:20140519T120000
DTEND;TZID=UTC:20140519T140000
DTSTAMP:20260423T125359
CREATED:20140510T023137Z
LAST-MODIFIED:20140510T023137Z
UID:10000087-1400500800-1400508000@lodigrowers.com
SUMMARY:Lodi Rules Committee Mtg (5/19)
DESCRIPTION:For download: Lodi Rules Mins 4-18-14 \nLODI WINEGRAPE COMMISSION\nLODI RULES COMMITTEE\nNOTICE AND AGENDA\nSent and posted May 9\, 2014 \nDate: Monday\, May 19\, 2014\nTime: 12:00 PM.\nPlace: Lodi Wine & Visitor Center\n2545 W. Turner Rd.\, Lodi CA \nThe agenda for the meeting is as follows: \n1. Call to order\n2. Roll call and establishment of quorum\n3. Review and approve April 18\, 2014 meeting minutes \n4. Lodi Rules data from Protected Harvest/sustainability report \n5. Branding guidelines \n6. Internship update \n7. New pesticides for PEAS \n8. Winery chain of custody \n9. Winery outreach \n10. Expanding Lodi Rules for other regions \n11. Budget review \n12. Other business \n13. Set next meeting date \n14. Adjourn\nAction may be taken on any of the above items. Questions regarding the meeting can be directed to Matthew Hoffman (367-4727)\, Chris Storm (747-0461)\, or Camron King (367-4727). \nThis notice and agenda is available on the Internet at www.lodiwine.com in Grower News Meetings & Events
URL:https://lodigrowers.com/event/lodi-rules-committee-mtg-519/
LOCATION:Lodi Winegrape Commission\, 2545 W. Turner Road\, Lodi\, CA\, 95242\, United States
GEO:38.1459652;-121.307667
X-APPLE-STRUCTURED-LOCATION;VALUE=URI;X-ADDRESS=Lodi Winegrape Commission 2545 W. Turner Road Lodi CA 95242 United States;X-APPLE-RADIUS=500;X-TITLE=2545 W. Turner Road:geo:-121.307667,38.1459652
END:VEVENT
BEGIN:VEVENT
DTSTART;VALUE=DATE:20140520
DTEND;VALUE=DATE:20140521
DTSTAMP:20260423T125359
CREATED:20140517T060319Z
LAST-MODIFIED:20140517T060319Z
UID:10000092-1400544000-1400630399@lodigrowers.com
SUMMARY:Lodi Rules Audits Begin (5/20)
DESCRIPTION:
URL:https://lodigrowers.com/event/lodi-rules-audits-begin-520/
LOCATION:California
END:VEVENT
BEGIN:VEVENT
DTSTART;TZID=America/Los_Angeles:20140520T120000
DTEND;TZID=America/Los_Angeles:20140520T140000
DTSTAMP:20260423T125359
CREATED:20140510T023413Z
LAST-MODIFIED:20140510T023413Z
UID:10000088-1400587200-1400594400@lodigrowers.com
SUMMARY:Research Mtg (5/20)
DESCRIPTION:LODI WINEGRAPE COMMISSION\nRESEARCH EDUCATION COMMUNICATION COMMITTEE\nNOTICE AND AGENDA\nSent and posted May 9\, 2014 \nDate: May 20\, 2014\nTime: 12PM\nPlace: Lodi Winegrape Commission offices\, 2545 W. Turner Road\, Lodi\, CA 95242 \nThe agenda for the meeting is as follows: \n1. Call to order.\n2. Roll call and establishment of quorum\n3. Approval of previous meeting’s minutes (April 8 \, 2014)\n4. Update on grower website\n5. Report on NVEELC in IN\n• eViticulture\n• Host 2015 meeting in Lodi\n6. Grower outreach meetings\n• BMSB update on May 29th\n• Spray drift workshop June 19th\n7. Weather station network update\n• LWC cost-share stations\n• Other stations (4)\n8. Report on developing an “in-house” research program\n9. Ongoing research projects\n• Chuck Ingles BMSB proposal update\n• Mark Browning\, barn owl\n• Neil McRoberts\, red blotch\n10. Budget review\n11. New business\n12. Schedule next meeting\n13. Adjourn. \nAction may be taken on any of the above items. Questions regarding the meeting can be directed to Research and Education Committee Chairman Charlie Starr (329-7791) or Grower Program Coordinator Matthew Hoffman (367-4727). This notice and agenda is available on the Internet at www.lodiwine.com in Grower News Meetings & Events.
URL:https://lodigrowers.com/event/research-mtg-520/
LOCATION:Lodi Winegrape Commission\, 2545 W. Turner Road\, Lodi\, CA\, 95242\, United States
GEO:38.1459652;-121.307667
X-APPLE-STRUCTURED-LOCATION;VALUE=URI;X-ADDRESS=Lodi Winegrape Commission 2545 W. Turner Road Lodi CA 95242 United States;X-APPLE-RADIUS=500;X-TITLE=2545 W. Turner Road:geo:-121.307667,38.1459652
END:VEVENT
BEGIN:VEVENT
DTSTART;TZID=America/Los_Angeles:20140528T080000
DTEND;TZID=America/Los_Angeles:20140528T170000
DTSTAMP:20260423T125359
CREATED:20140517T032527Z
LAST-MODIFIED:20140517T032527Z
UID:10000091-1401264000-1401296400@lodigrowers.com
SUMMARY:Grower Marketing (5/28)
DESCRIPTION:For Download: Mktg Mins 04-10-14 \nGrower Marketing Committee\nMeeting Notice and Agenda\nSent & Posted May 16\, 2014 \nThe Grower Marketing Committee of the Lodi Winegrape Commission will meet: \nDate: Wednesday\, May 28\, 2014\nTime: 9:00 AM\nPlace: LWC Office\, 2545 W. Turner Rd.\, Lodi CA \nThe agenda for the meeting is as follows: \n1. Call to order \n2. Roll call and establishment of quorum \n3. Approval April 10\, 2014 meeting minutes \n4. LoCA Campaign Update \n5. Public Relations Activities \n6. Grape Marketing Activities \n7. Other Business \n8. Budget Review FY 13-14 \n9. Budget Review FY 14-15 Development \n10. Set Next Meeting Date \n11. Adjourn \nThis notice and agenda is available on the Internet at www.lodiwine.com in Grower News Meetings & Events. Action may be taken on any of the items listed above. Questions regarding the meeting should be directed to Camron King\, (209) 367-4727 or Richard Lauchland (209) 367-9237.
URL:https://lodigrowers.com/event/grower-marketing-528/
LOCATION:Lodi Winegrape Commission\, 2545 W. Turner Road\, Lodi\, 95242\, United States
GEO:38.1459652;-121.307667
X-APPLE-STRUCTURED-LOCATION;VALUE=URI;X-ADDRESS=Lodi Winegrape Commission 2545 W. Turner Road Lodi 95242 United States;X-APPLE-RADIUS=500;X-TITLE=2545 W. Turner Road:geo:-121.307667,38.1459652
END:VEVENT
BEGIN:VEVENT
DTSTART;TZID=America/Los_Angeles:20140528T093000
DTEND;TZID=America/Los_Angeles:20140528T130000
DTSTAMP:20260423T125359
CREATED:20140513T225408Z
LAST-MODIFIED:20140524T053555Z
UID:10000090-1401269400-1401282000@lodigrowers.com
SUMMARY:LDGGA Grower Luncheon (5/28)
DESCRIPTION:GROWER EDUCATION PROGRAM AND LUNCHEON \nCo-hosted by California Association of Winegrape Growers & Lodi District Grape Growers Association \nWednesday\, May 28\, 2014 \nOak Ridge Winery\n6100 E. Hwy 12\, Lodi CA \n9:30 am Registration\n10:00 am California Legislative and Bill Overview\nBrenda Coleman\, CAWG\n10:30 am Hot Topics and Labor Issues Update\nJorge Aguilar II\, The Saqui Law Group\nStacy Henderson\, Law Office of THomas H. Terpstra\n12:00 pm Groundwater Discussion & Networking Luncheon\nJennifer Spaletta\, Spaletta Law PC \nFree to CAWG and LDGGA members\, non-members $15 \nRSVP to LDGGA (209) 339-8246 or info@ldgga.org or CAWG (800) 241-1800 or jenny@cawg.org.
URL:https://lodigrowers.com/event/grower-luncheon-528/
LOCATION:Oak Ridge Winery\, 6100 E. Hwy 12\, Lodi\, CA\, United States
GEO:38.1159348;-121.3951415
X-APPLE-STRUCTURED-LOCATION;VALUE=URI;X-ADDRESS=Oak Ridge Winery 6100 E. Hwy 12 Lodi CA United States;X-APPLE-RADIUS=500;X-TITLE=6100 E. Hwy 12:geo:-121.3951415,38.1159348
END:VEVENT
BEGIN:VEVENT
DTSTART;TZID=UTC:20140529T090000
DTEND;TZID=UTC:20140529T110000
DTSTAMP:20260423T125359
CREATED:20140421T234821Z
LAST-MODIFIED:20140421T234910Z
UID:10000083-1401354000-1401361200@lodigrowers.com
SUMMARY:BMSB Breakfast Meeting (5/29)
DESCRIPTION:Brown Marmorated Stink Bug (BMSB) Breakfast Meeting \nMay 29th\n9:00-11:00 a.m.\nBurgundy Hall\nLodi Grape Festival Grounds\n413 E. Lockeford Street\nLodi\, CA\,95240 \nBMSB has recently established itself in Sacramento County. While it is unclear at this point whether BMSB poses a serious threat to Lodi and California viticulture\, the Lodi Winegrape Commission is investing in research to better understand the pest’s spread and phenology (life cycle) so we can be prepared to implement integrated pest management control practices. At this meeting we will hear from Chuck Ingels\, UCCE farm advisor for Sacramento County\, and from Charlie Pickett of CDFA. The speakers will cover a range of topics including BMSB identification\, potential threat to winegrapes\, monitoring\, life cycle\, and control. 1.5 hours of CDFA CE credit will be offered.   \nSee the recent Coffee Shop article on BMSB for more information. \nRSVP to Molly Bjork at molly@lodiwine.com or (209) 367-4727.
URL:https://lodigrowers.com/event/bmsb-breakfast-meeting-529/
LOCATION:Lodi Grape Festival Ground – Burgundy Hall\, 413 E. Lockeford Street\, Lodi\, CA\, United States
GEO:38.1385639;-121.2636425
X-APPLE-STRUCTURED-LOCATION;VALUE=URI;X-ADDRESS=Lodi Grape Festival Ground – Burgundy Hall 413 E. Lockeford Street Lodi CA United States;X-APPLE-RADIUS=500;X-TITLE=413 E. Lockeford Street:geo:-121.2636425,38.1385639
END:VEVENT
END:VCALENDAR