BEGIN:VCALENDAR
VERSION:2.0
PRODID:-//Lodi Growers - ECPv6.15.20//NONSGML v1.0//EN
CALSCALE:GREGORIAN
METHOD:PUBLISH
X-WR-CALNAME:Lodi Growers
X-ORIGINAL-URL:https://lodigrowers.com
X-WR-CALDESC:Events for Lodi Growers
REFRESH-INTERVAL;VALUE=DURATION:PT1H
X-Robots-Tag:noindex
X-PUBLISHED-TTL:PT1H
BEGIN:VTIMEZONE
TZID:America/Los_Angeles
BEGIN:DAYLIGHT
TZOFFSETFROM:-0800
TZOFFSETTO:-0700
TZNAME:PDT
DTSTART:20230312T100000
END:DAYLIGHT
BEGIN:STANDARD
TZOFFSETFROM:-0700
TZOFFSETTO:-0800
TZNAME:PST
DTSTART:20231105T090000
END:STANDARD
BEGIN:DAYLIGHT
TZOFFSETFROM:-0800
TZOFFSETTO:-0700
TZNAME:PDT
DTSTART:20240310T100000
END:DAYLIGHT
BEGIN:STANDARD
TZOFFSETFROM:-0700
TZOFFSETTO:-0800
TZNAME:PST
DTSTART:20241103T090000
END:STANDARD
BEGIN:DAYLIGHT
TZOFFSETFROM:-0800
TZOFFSETTO:-0700
TZNAME:PDT
DTSTART:20250309T100000
END:DAYLIGHT
BEGIN:STANDARD
TZOFFSETFROM:-0700
TZOFFSETTO:-0800
TZNAME:PST
DTSTART:20251102T090000
END:STANDARD
END:VTIMEZONE
BEGIN:VEVENT
DTSTART;TZID=America/Los_Angeles:20241001T080000
DTEND;TZID=America/Los_Angeles:20241001T093000
DTSTAMP:20260421T054355
CREATED:20240816T230916Z
LAST-MODIFIED:20240930T164518Z
UID:10001536-1727769600-1727775000@lodigrowers.com
SUMMARY:CD11 LODI IPM NETWORK BREAKFAST MEETING
DESCRIPTION:CD11 LODI IPM NETWORK BREAKFAST MEETING.\nDate:  Tuesday\, October 1\, 2024 \nTime:  8:00 – 9:30am \nVenue:  Burgundy Hall\, Grape Festival Grounds\, 413 E Lockeford St\, Lodi\, CA \nCost:  FREE\, all are welcome \nCredits:  1.5 hrs DPR CE (OTHER) – approved \nSpeaker & Topic:  Stephanie Bolton\, PhD\, Lodi Winegrape Commission – Canine Detection of Mealybugs & Leafroll Virus \nWho Should Attend:  Local Pest Control Advisers (PCAs)\, GROWERS who manage their own pest control (PRIVATE APPLICATORS) or who have pest control questions\, anyone looking for viticulture DPR CE credits\, viticulture TECHNICAL ADVISORS in Lodi\, and winemakers/grower relations personnel interested in learning about vineyard pest management. \nDescription:  Our group meets monthly to discuss current vineyard pests and their management. The goal is to create a strong local network for communicating the best IPM strategies and for support in solving viticulture anomalies. This month\, Dr. Stephanie Bolton will present the results of the DPR grant she is leading to conduct a proof-of-concept study on whether canines can detect vine mealybugs and leafroll 3 virus in vineyards. \nRSVP:  To the Lodi Winegrape Commission by phone 209.367.4727 or email info@lodiwine.com.
URL:https://lodigrowers.com/event/34637/
LOCATION:Burgundy Hall – Lodi Grape Festival Grounds\, 413 E. Lockeford Street\, Lodi
GEO:38.1385639;-121.2636425
X-APPLE-STRUCTURED-LOCATION;VALUE=URI;X-ADDRESS=Burgundy Hall – Lodi Grape Festival Grounds 413 E. Lockeford Street Lodi;X-APPLE-RADIUS=500;X-TITLE=413 E. Lockeford Street:geo:-121.2636425,38.1385639
END:VEVENT
BEGIN:VEVENT
DTSTART;TZID=America/Los_Angeles:20241009T090000
DTEND;TZID=America/Los_Angeles:20241009T110000
DTSTAMP:20260421T054355
CREATED:20240927T172734Z
LAST-MODIFIED:20240927T172734Z
UID:10001539-1728464400-1728471600@lodigrowers.com
SUMMARY:WINERY MARKETING COMMITTEE MEETING
DESCRIPTION:View Agenda
URL:https://lodigrowers.com/event/winery-marketing-committee-meeting-44/
LOCATION:Lodi Winegrape Commission\, 2545 West Turner Road\, Lodi\, 95242\, United States
GEO:38.1459652;-121.307667
X-APPLE-STRUCTURED-LOCATION;VALUE=URI;X-ADDRESS=Lodi Winegrape Commission 2545 West Turner Road Lodi 95242 United States;X-APPLE-RADIUS=500;X-TITLE=2545 West Turner Road:geo:-121.307667,38.1459652
END:VEVENT
BEGIN:VEVENT
DTSTART;TZID=America/Los_Angeles:20241016T140000
DTEND;TZID=America/Los_Angeles:20241016T160000
DTSTAMP:20260421T054355
CREATED:20240826T174037Z
LAST-MODIFIED:20241007T205639Z
UID:10001537-1729087200-1729094400@lodigrowers.com
SUMMARY:VINEYARD ROI CALCULATION WORKSHOP
DESCRIPTION:Vineyard ROI Calculation Workshop\nDate:  Wednesday\, October 16\, 2024 \nTime:  2:00 – 4:00pm \nVenue:  Burgundy Hall\, Grape Festival Grounds\, 413 E Lockeford St\, Lodi\, CA \nCost:  FREE\, all are welcome \nSpeakers:  Pinion Global Food & Ag Accounting Firm \nDescription:  The Lodi Winegrape Commission worked with Pinion\, a reputable accounting firm\, to create a Return on Investment Excel Worksheet for growers which is now available! Learn how to use this new tool which helps you calculate existing or future vineyard return on investment over time so that you can more confidently enter into contract negotiations and make important financial decisions for your farming operation. The Vineyard ROI Worksheet can be downloaded HERE. Bring a charged laptop if you want to follow along and get one-on-one support. \nRSVP:  To the Lodi Winegrape Commission by phone 209.367.4727 or email info@lodiwine.com.
URL:https://lodigrowers.com/event/vineyard-roi-calculation-workshop-2/
LOCATION:Burgundy Hall – Lodi Grape Festival Grounds\, 413 E. Lockeford Street\, Lodi\, CA\, 95240\, United States
GEO:38.1385639;-121.2636425
X-APPLE-STRUCTURED-LOCATION;VALUE=URI;X-ADDRESS=Burgundy Hall – Lodi Grape Festival Grounds 413 E. Lockeford Street Lodi CA 95240 United States;X-APPLE-RADIUS=500;X-TITLE=413 E. Lockeford Street:geo:-121.2636425,38.1385639
END:VEVENT
BEGIN:VEVENT
DTSTART;TZID=America/Los_Angeles:20241021T120000
DTEND;TZID=America/Los_Angeles:20241021T140000
DTSTAMP:20260421T054355
CREATED:20241021T170222Z
LAST-MODIFIED:20241021T170306Z
UID:10001546-1729512000-1729519200@lodigrowers.com
SUMMARY:LODI RULES COMMITTEE MEETING
DESCRIPTION:LODI RULES COMMITTEE\nMEETING NOTICE & AGENDA\nSent and posted October 11\, 2024\n  \nDate:  Monday\, October 21\, 2024 \nTime:  12pm \nPlace:  151 Mokelumne River Drive\, Lodi CA 95240 \nThe agenda for the meeting is as follows: \n\nCall to order\nRoll call and establishment of quorum\nConsideration of the August 12\, 2024\, meeting minutes\nPublic comment on items appearing on the agenda (2 min limit per person)\nProgram updates:\n– Current certification year\n– Grower/Winery communications\n– Marketing & promotions\n– Protected Harvest\n\n\nFY2024-25 Budget Review\nReports from other LWC Committees\nPublic comment on items not appearing on the agenda (2 min limit per person)\nItems for future agendas\nConfirm future meeting dates\nAdjourn\n\n  \nAction may be taken on any of the items listed above. Questions regarding the meeting should be directed to Dr. Stephanie Bolton (209.367.4727) or Committee Chair Pieter A. den Hartog (209.327.7838). Persons with disabilities needing special accommodation should contact the Lodi Winegrape Commission (209.367.4727) at least five days prior to the meeting. Notices and agendas for upcoming Commission meetings are available on the internet at lodigrowers.com/commission/agendas-minutes/. \n 
URL:https://lodigrowers.com/event/lodi-rules-committee-meeting-42/
LOCATION:151 Mokelumne River Drive\, Lodi CA 95240\, Mokelumne River Drive\, Lodi\, California\, 95240\, United States
CATEGORIES:LODI RULES
GEO:38.1480793;-121.2678234
X-APPLE-STRUCTURED-LOCATION;VALUE=URI;X-ADDRESS=151 Mokelumne River Drive Lodi CA 95240 Mokelumne River Drive Lodi California 95240 United States;X-APPLE-RADIUS=500;X-TITLE=Mokelumne River Drive:geo:-121.2678234,38.1480793
END:VEVENT
BEGIN:VEVENT
DTSTART;TZID=America/Los_Angeles:20241028T120000
DTEND;TZID=America/Los_Angeles:20241028T140000
DTSTAMP:20260421T054355
CREATED:20241018T193125Z
LAST-MODIFIED:20241018T193125Z
UID:10001545-1730116800-1730124000@lodigrowers.com
SUMMARY:GROWER MARKETING COMMITTEE MEETING
DESCRIPTION:View Agenda
URL:https://lodigrowers.com/event/grower-marketing-committee-meeting-34/
LOCATION:Lodi Winegrape Commission\, 2545 W Turner Rd\, Lodi CA\, West Turner Road\, Lodi\, CA\, 95242\, United States
GEO:38.1459652;-121.307667
X-APPLE-STRUCTURED-LOCATION;VALUE=URI;X-ADDRESS=Lodi Winegrape Commission 2545 W Turner Rd Lodi CA West Turner Road Lodi CA 95242 United States;X-APPLE-RADIUS=500;X-TITLE=West Turner Road:geo:-121.307667,38.1459652
END:VEVENT
BEGIN:VEVENT
DTSTART;TZID=America/Los_Angeles:20241030T110000
DTEND;TZID=America/Los_Angeles:20241030T120000
DTSTAMP:20260421T054355
CREATED:20241018T192917Z
LAST-MODIFIED:20241018T192917Z
UID:10001544-1730286000-1730289600@lodigrowers.com
SUMMARY:EXECUTIVE COMMITTEE MEETING
DESCRIPTION:View Agenda
URL:https://lodigrowers.com/event/executive-committee-meeting-30/
LOCATION:Barrel Room\, Lodi Grape Festival Grounds\, 413 E. Lockeford St.\, Lodi\, CA 95240\, East Lockeford Street\, Lodi\, CA\, 95240\, United States
GEO:38.1385604;-121.2636287
X-APPLE-STRUCTURED-LOCATION;VALUE=URI;X-ADDRESS=Barrel Room Lodi Grape Festival Grounds 413 E. Lockeford St. Lodi CA 95240 East Lockeford Street Lodi CA 95240 United States;X-APPLE-RADIUS=500;X-TITLE=East Lockeford Street:geo:-121.2636287,38.1385604
END:VEVENT
BEGIN:VEVENT
DTSTART;TZID=America/Los_Angeles:20241030T120000
DTEND;TZID=America/Los_Angeles:20241030T140000
DTSTAMP:20260421T054355
CREATED:20241018T192713Z
LAST-MODIFIED:20241018T192713Z
UID:10001543-1730289600-1730296800@lodigrowers.com
SUMMARY:LWC BOARD MEETING
DESCRIPTION:View Agenda
URL:https://lodigrowers.com/event/lwc-board-meeting-36/
LOCATION:Barrel Room\, Lodi Grape Festival Grounds\, 413 E. Lockeford St.\, Lodi\, CA 95240\, East Lockeford Street\, Lodi\, CA\, 95240\, United States
GEO:38.1385604;-121.2636287
X-APPLE-STRUCTURED-LOCATION;VALUE=URI;X-ADDRESS=Barrel Room Lodi Grape Festival Grounds 413 E. Lockeford St. Lodi CA 95240 East Lockeford Street Lodi CA 95240 United States;X-APPLE-RADIUS=500;X-TITLE=East Lockeford Street:geo:-121.2636287,38.1385604
END:VEVENT
END:VCALENDAR