BEGIN:VCALENDAR
VERSION:2.0
PRODID:-//Lodi Growers - ECPv6.15.20//NONSGML v1.0//EN
CALSCALE:GREGORIAN
METHOD:PUBLISH
X-ORIGINAL-URL:https://lodigrowers.com
X-WR-CALDESC:Events for Lodi Growers
REFRESH-INTERVAL;VALUE=DURATION:PT1H
X-Robots-Tag:noindex
X-PUBLISHED-TTL:PT1H
BEGIN:VTIMEZONE
TZID:America/Los_Angeles
BEGIN:DAYLIGHT
TZOFFSETFROM:-0800
TZOFFSETTO:-0700
TZNAME:PDT
DTSTART:20160313T100000
END:DAYLIGHT
BEGIN:STANDARD
TZOFFSETFROM:-0700
TZOFFSETTO:-0800
TZNAME:PST
DTSTART:20161106T090000
END:STANDARD
BEGIN:DAYLIGHT
TZOFFSETFROM:-0800
TZOFFSETTO:-0700
TZNAME:PDT
DTSTART:20170312T100000
END:DAYLIGHT
BEGIN:STANDARD
TZOFFSETFROM:-0700
TZOFFSETTO:-0800
TZNAME:PST
DTSTART:20171105T090000
END:STANDARD
BEGIN:DAYLIGHT
TZOFFSETFROM:-0800
TZOFFSETTO:-0700
TZNAME:PDT
DTSTART:20180311T100000
END:DAYLIGHT
BEGIN:STANDARD
TZOFFSETFROM:-0700
TZOFFSETTO:-0800
TZNAME:PST
DTSTART:20181104T090000
END:STANDARD
END:VTIMEZONE
BEGIN:VEVENT
DTSTART;TZID=America/Los_Angeles:20170228T083000
DTEND;TZID=America/Los_Angeles:20170228T133000
DTSTAMP:20260423T002427
CREATED:20170128T033028Z
LAST-MODIFIED:20170210T192342Z
UID:10000311-1488270600-1488288600@lodigrowers.com
SUMMARY:Virus Workshop
DESCRIPTION: UC Davis On the Road & LWC: Crush District 11 Virus Updates\nDate: Tuesday\, February 28th\, 2017 \nTime: 8:30am – 1:30pm; lunch provided \nCost: FREE \nCredits: CCA and DPR applied for \nVenue: Constellation Woodbridge Winery (Barrel Room)\, 5950 E. Woodbridge Rd.\, Acampo\, CA 95220 \nPresenters: John Roncoroni\, Weed Science Farm Advisor\, UCCE; Maher Al Rwahnih\, Laboratory Director\, Foundation Plant Services; Kari Arnold\, Postdoctoral Fellow\, Plant Pathology\, UC Davis; Monica Cooper\, Viticulture Farm Advisor\, UCCE-Napa County; Neil McRoberts\, Associate Professor of Plant Pathology\, UC Davis; Anita  Oberholster\, UCCE Specialist\, Enology. \nDescription: Come learn PRACTICAL tips for dealing with our current grapevine virus situation from experts! \nFor more information: Register by Feb. 24th (space is limited) and view details online here: http://ucanr.edu/survey/survey.cfm?surveynumber=20102.
URL:https://lodigrowers.com/event/virus-workshop/
LOCATION:Barrel Room\, Constellation Woodbrige Winery\, 5950 E. Woodbridge Rd.\, Acampo\, CA\, 95220\, United States
GEO:38.1598156;-121.2447953
X-APPLE-STRUCTURED-LOCATION;VALUE=URI;X-ADDRESS=Barrel Room Constellation Woodbrige Winery 5950 E. Woodbridge Rd. Acampo CA 95220 United States;X-APPLE-RADIUS=500;X-TITLE=5950 E. Woodbridge Rd.:geo:-121.2447953,38.1598156
END:VEVENT
END:VCALENDAR