BEGIN:VCALENDAR
VERSION:2.0
PRODID:-//Lodi Growers - ECPv6.15.20//NONSGML v1.0//EN
CALSCALE:GREGORIAN
METHOD:PUBLISH
X-WR-CALNAME:Lodi Growers
X-ORIGINAL-URL:https://lodigrowers.com
X-WR-CALDESC:Events for Lodi Growers
REFRESH-INTERVAL;VALUE=DURATION:PT1H
X-Robots-Tag:noindex
X-PUBLISHED-TTL:PT1H
BEGIN:VTIMEZONE
TZID:UTC
BEGIN:STANDARD
TZOFFSETFROM:+0000
TZOFFSETTO:+0000
TZNAME:UTC
DTSTART:20140101T000000
END:STANDARD
END:VTIMEZONE
BEGIN:VEVENT
DTSTART;TZID=UTC:20151210T140000
DTEND;TZID=UTC:20151210T160000
DTSTAMP:20260422T054929
CREATED:20151201T015301Z
LAST-MODIFIED:20151201T015301Z
UID:10000222-1449756000-1449763200@lodigrowers.com
SUMMARY:LWC Board Mtg (12/10)
DESCRIPTION:Lodi Winegrape Commission\nMeeting Notice and Agenda\nSent and Posted November 30\, 2015 \nThe Lodi Winegrape Commission will meet: \nDate: 		Thursday\, December 10\, 2015\nTime:		2:00 P.M.\nPlace:		The Board Room\, Wine & Roses\, 2505 West Turner Road\, Lodi\, CA \nThe agenda for the meeting is as follows: \n1.	Call to order \n2.	Roll call and establishment of quorum \n3.	Review of the October 22\, 2015 Minutes\n•	Action Item \n4.	Report of the Annual financial and compliance audit\n•	Action Item \n5.	Financial Report\, October 2015\n•	Action Item \n6.	Chairman’s Report \n7.	Discussion of Grape Pricing in various regions of the State \n8.	Report of Committees\n•	Executive Committee\na.	Vacant position on the board\nb.	Public member of the board\n•	Grower Marketing\na.	Update on Marketing and PR efforts\n•	Lodi Rules\n•	Research/Education/Communication\n•	Lodi Wine Country\na.	Road Shows schedule\nb.	Wine Bloggers Conference 2016 \n9.	Executive Director’s Report\na.	Review Executive Director’s Report to Board\nb.	Staff changes/update\nc.	Update on winery outreach \n10.	Report of other organizations\n•	California Wine Education Foundation\n•	San Joaquin County Farm Bureau\n•	Lodi District Grape Growers Association \n11.	Closed Session regarding the appointment\, employment\, evaluation of performance\, or 	dismissal of an employee pursuant to Government Code Section 11126(a) \n12.	Public Comment on Items Not Appearing on the Agenda. \n13.	 Agenda Items for Future Meetings \n14.	Return to open session. \n15.	Set next meeting date. \n16.	Adjourn \nAction may be taken on any of the items listed above.  Questions regarding the meeting should be directed to Galen Schmiedt (329-8448) or Camron King (367-4727). Persons with disabilities needing special accommodation should contact Camron King\, Executive Director\, camron@lodiwine.com at least five days prior to the meeting. This notice and agenda is available on the internet in Upcoming Meetings and Events on www.lodigrowers.com.
URL:https://lodigrowers.com/event/lwc-board-mtg-1210/
LOCATION:Board Room\, Wine & Roses Hotel\, 2505 West Turner Road\, Lodi
GEO:38.1469024;-121.3070234
X-APPLE-STRUCTURED-LOCATION;VALUE=URI;X-ADDRESS=Board Room Wine & Roses Hotel 2505 West Turner Road Lodi;X-APPLE-RADIUS=500;X-TITLE=2505 West Turner Road:geo:-121.3070234,38.1469024
END:VEVENT
END:VCALENDAR