BEGIN:VCALENDAR
VERSION:2.0
PRODID:-//Lodi Growers - ECPv6.15.20//NONSGML v1.0//EN
CALSCALE:GREGORIAN
METHOD:PUBLISH
X-WR-CALNAME:Lodi Growers
X-ORIGINAL-URL:https://lodigrowers.com
X-WR-CALDESC:Events for Lodi Growers
REFRESH-INTERVAL;VALUE=DURATION:PT1H
X-Robots-Tag:noindex
X-PUBLISHED-TTL:PT1H
BEGIN:VTIMEZONE
TZID:UTC
BEGIN:STANDARD
TZOFFSETFROM:+0000
TZOFFSETTO:+0000
TZNAME:UTC
DTSTART:20130101T000000
END:STANDARD
END:VTIMEZONE
BEGIN:VEVENT
DTSTART;TZID=UTC:20141016T140000
DTEND;TZID=UTC:20141016T170000
DTSTAMP:20260424T141935
CREATED:20141004T005331Z
LAST-MODIFIED:20141004T005331Z
UID:10000118-1413468000-1413478800@lodigrowers.com
SUMMARY:LWC Board Meeting (10/16)
DESCRIPTION:Lodi Winegrape Commission\nMeeting Notice and Agenda\nSent and Posted October 3\, 2014 \nThe Lodi Winegrape Commission will meet: \nDate: Thursday\, October 16\, 2014\nTime: 2:00 P.M.\nPlace: The Board Room\, Wine & Roses\, 2505 West Turner Road\, Lodi\, CA \nThe agenda for the meeting is as follows: \n1. Call to order \n2. Roll call and establishment of quorum \n3. Review of the August 21\, 2014 Minutes\n• Action Item – Approve Minutes \n4. Financial Report\, September 2014\n• Action Item – Accept Financial Report\n• Update on Financial and Compliance Audit (presentation to be given at future meeting) \n5. Consideration of Sub Lease Agreements between LWC and CWEF \n6. Chairman’s Report \n7. Report of Committees\n• Executive Committee\n• Grower Marketing\n• Lodi Rules\n• Research/Education/Communication\n• Lodi Wine Country \n8. Executive Director’s Report \n9. Report of other organizations\n• San Joaquin County Farm Bureau\n• Lodi District Grape Growers Association\n• California Wine Education Foundation \n10. Closed session to discuss pending litigation. Pursuant to Section 11126(e) of the California Government Code. \n11. Closed session regarding the appointment\, employment\, evaluation of performance\, or dismissal of an employee pursuant to Section 11126(a) of the California Government Code. \n12. Return to open session. \n13. Set next meeting date. \n14. Adjourn \nAll agenda items are subject to discussion and possible action. For more information\, or to make a request regarding a disability-related accommodation for the meeting\, please contact Camron King (209-367-4727) or Craig Ledbetter (209-334-6975). The notice and agenda is available on the internet at www.lodiwine.com in the Grower News\, Meetings and Events section.
URL:https://lodigrowers.com/event/lwc-board-meeting-1016/
LOCATION:Board Room\, Wine & Roses Hotel\, 2505 W. Turner Road\, Lodi\, 95242\, United States
GEO:38.1469024;-121.3070234
X-APPLE-STRUCTURED-LOCATION;VALUE=URI;X-ADDRESS=Board Room Wine & Roses Hotel 2505 W. Turner Road Lodi 95242 United States;X-APPLE-RADIUS=500;X-TITLE=2505 W. Turner Road:geo:-121.3070234,38.1469024
END:VEVENT
END:VCALENDAR