BEGIN:VCALENDAR
VERSION:2.0
PRODID:-//Lodi Growers - ECPv6.15.20//NONSGML v1.0//EN
CALSCALE:GREGORIAN
METHOD:PUBLISH
X-ORIGINAL-URL:https://lodigrowers.com
X-WR-CALDESC:Events for Lodi Growers
REFRESH-INTERVAL;VALUE=DURATION:PT1H
X-Robots-Tag:noindex
X-PUBLISHED-TTL:PT1H
BEGIN:VTIMEZONE
TZID:UTC
BEGIN:STANDARD
TZOFFSETFROM:+0000
TZOFFSETTO:+0000
TZNAME:UTC
DTSTART:20150101T000000
END:STANDARD
END:VTIMEZONE
BEGIN:VEVENT
DTSTART;TZID=UTC:20160307T083000
DTEND;TZID=UTC:20160307T110000
DTSTAMP:20260423T135713
CREATED:20160114T063426Z
LAST-MODIFIED:20160114T063503Z
UID:10000232-1457339400-1457348400@lodigrowers.com
SUMMARY:LDGGA Member Mtg (3/7)
DESCRIPTION:LDGGA Member Meeting: Ag Employer Trend Report \nMonday\, March 7\, 2016 \nBurgundy Hall\, Lodi Grape Festival Grounds (413 E. Lockeford St.\, Lodi) \n8:30 am Registration\, coffee & pastries\n9:00 am Meeting \nMichael Saqui of The Saqui Law Group will give an update on current labor issues including AB 1513 compliance\, joint employers and US DOL inspections.
URL:https://lodigrowers.com/event/ldgga-member-mtg-37-2/
LOCATION:Burgundy Hall\, Lodi Grape Festival\, 413 E. Lockeford Street\, Lodi\, United States
GEO:38.1385639;-121.2636425
X-APPLE-STRUCTURED-LOCATION;VALUE=URI;X-ADDRESS=Burgundy Hall Lodi Grape Festival 413 E. Lockeford Street Lodi United States;X-APPLE-RADIUS=500;X-TITLE=413 E. Lockeford Street:geo:-121.2636425,38.1385639
END:VEVENT
END:VCALENDAR