BEGIN:VCALENDAR
VERSION:2.0
PRODID:-//Lodi Growers - ECPv6.15.20//NONSGML v1.0//EN
CALSCALE:GREGORIAN
METHOD:PUBLISH
X-ORIGINAL-URL:https://lodigrowers.com
X-WR-CALDESC:Events for Lodi Growers
REFRESH-INTERVAL;VALUE=DURATION:PT1H
X-Robots-Tag:noindex
X-PUBLISHED-TTL:PT1H
BEGIN:VTIMEZONE
TZID:America/Los_Angeles
BEGIN:DAYLIGHT
TZOFFSETFROM:-0800
TZOFFSETTO:-0700
TZNAME:PDT
DTSTART:20150308T100000
END:DAYLIGHT
BEGIN:STANDARD
TZOFFSETFROM:-0700
TZOFFSETTO:-0800
TZNAME:PST
DTSTART:20151101T090000
END:STANDARD
BEGIN:DAYLIGHT
TZOFFSETFROM:-0800
TZOFFSETTO:-0700
TZNAME:PDT
DTSTART:20160313T100000
END:DAYLIGHT
BEGIN:STANDARD
TZOFFSETFROM:-0700
TZOFFSETTO:-0800
TZNAME:PST
DTSTART:20161106T090000
END:STANDARD
BEGIN:DAYLIGHT
TZOFFSETFROM:-0800
TZOFFSETTO:-0700
TZNAME:PDT
DTSTART:20170312T100000
END:DAYLIGHT
BEGIN:STANDARD
TZOFFSETFROM:-0700
TZOFFSETTO:-0800
TZNAME:PST
DTSTART:20171105T090000
END:STANDARD
BEGIN:DAYLIGHT
TZOFFSETFROM:-0800
TZOFFSETTO:-0700
TZNAME:PDT
DTSTART:20180311T100000
END:DAYLIGHT
BEGIN:STANDARD
TZOFFSETFROM:-0700
TZOFFSETTO:-0800
TZNAME:PST
DTSTART:20181104T090000
END:STANDARD
BEGIN:DAYLIGHT
TZOFFSETFROM:-0800
TZOFFSETTO:-0700
TZNAME:PDT
DTSTART:20190310T100000
END:DAYLIGHT
BEGIN:STANDARD
TZOFFSETFROM:-0700
TZOFFSETTO:-0800
TZNAME:PST
DTSTART:20191103T090000
END:STANDARD
END:VTIMEZONE
BEGIN:VEVENT
DTSTART;TZID=America/Los_Angeles:20180904T073000
DTEND;TZID=America/Los_Angeles:20180904T090000
DTSTAMP:20260422T172813
CREATED:20180827T161409Z
LAST-MODIFIED:20180827T161409Z
UID:10000437-1536046200-1536051600@lodigrowers.com
SUMMARY:CD11 LODI PCA NETWORK BREAKFAST MEETING.
DESCRIPTION:CD11 LODI PCA NETWORK BREAKFAST MEETING. \nDate: Tuesday\, September 4th\, 2018 (always on the first Tuesday morning of each month) \nTime: 7:30 – 9:00 am \nVenue: Burgundy Hall\, Grape Festival Grounds\, 413 E Lockeford St\, Lodi\, CA 95240 \nCost: FREE\, breakfast provided with an RSVP \nCredits: 1.5 (DPR – CE OTHER) applied for \nDiscussion Leader: TBD \nWho Should Attend:  Local Pest Control Advisers (PCAs)\, GROWERS who manage their own pest control (PRIVATE APPLICATORS) or who have pest control questions\, anyone looking for viticulture DPR CE credits\, viticulture TECHNICAL ADVISERS in Lodi\, and winemakers/grower relations personnel interested in learning about vineyard pest management. \nDescription: Our group meets monthly (the first Tuesday morning) to discuss current vineyard pests and their management\, including pertinent monitoring information and IPM strategies. Strategies for dealing with vineyard management challenges are discussed. The goal is to create a strong local network for communicating best pest management strategies and for support with solving viticultural anomalies. \nFollowing our regular PCA NETWORK BREAKFAST MEETING\, you are welcome to bring your male mealybug delta traps by for help with identification! We will have a microscope set up and help available. \nRSVP: Contact the Lodi Winegrape Commission by phone 209.367.4727 or email lwwc@lodiwine.com.
URL:https://lodigrowers.com/event/cd11-lodi-pca-network-breakfast-meeting-4/
LOCATION:Burgundy Hall\, Lodi Grape Festival\, 413 E. Lockeford Street\, Lodi
GEO:38.1385639;-121.2636425
X-APPLE-STRUCTURED-LOCATION;VALUE=URI;X-ADDRESS=Burgundy Hall Lodi Grape Festival 413 E. Lockeford Street Lodi;X-APPLE-RADIUS=500;X-TITLE=413 E. Lockeford Street:geo:-121.2636425,38.1385639
END:VEVENT
BEGIN:VEVENT
DTSTART;TZID=America/Los_Angeles:20160329T083000
DTEND;TZID=America/Los_Angeles:20160329T120000
DTSTAMP:20260422T172813
CREATED:20160314T232544Z
LAST-MODIFIED:20160314T232544Z
UID:10000249-1459240200-1459252800@lodigrowers.com
SUMMARY:Grower Education Mtg (3/29)
DESCRIPTION:LDGGA & CAWG Grower Education Meeting \nTuesday\, March 29\, 2016 \nBurgundy Hall\, Lodi Grape Festival Grounds (413 E. Lockeford St.\, Lodi) \n8:30 am Registration\, coffee & pastries\, sponsored by Woodruff Sawyer & Company\n9:00 am Meeting \nJoin the Lodi District Grape Growers Association and California Association of Winegrape Growers for a Grower Education Meeting. \nTopics include: \nLegislative Update\nTyler Blackney\, Director of Government Affairs\, CAWG\n        Water\n        Piece-Rate\, paid sick leave & minimum wage \nMarket Update & Outlook\nJeff Bitter\, Allied Grape Growers\n        Lodi market update\n        Industry outlook \nGrower Contracts\nDale Stern\, Downey Brand\n        Grape contract considerations\n        Improving your chances of being paid for grapes \nRSVP to LDGGA at info@ldgga.org or (209) 339-8246 OR\nCAWG at (916)379-8995\, Natalie@cawg.org
URL:https://lodigrowers.com/event/grower-education-mtg-329/
LOCATION:Burgundy Hall\, Lodi Grape Festival\, 413 E. Lockeford Street\, Lodi
GEO:38.1385639;-121.2636425
X-APPLE-STRUCTURED-LOCATION;VALUE=URI;X-ADDRESS=Burgundy Hall Lodi Grape Festival 413 E. Lockeford Street Lodi;X-APPLE-RADIUS=500;X-TITLE=413 E. Lockeford Street:geo:-121.2636425,38.1385639
END:VEVENT
END:VCALENDAR