BEGIN:VCALENDAR
VERSION:2.0
PRODID:-//Lodi Growers - ECPv6.15.20//NONSGML v1.0//EN
CALSCALE:GREGORIAN
METHOD:PUBLISH
X-WR-CALNAME:Lodi Growers
X-ORIGINAL-URL:https://lodigrowers.com
X-WR-CALDESC:Events for Lodi Growers
REFRESH-INTERVAL;VALUE=DURATION:PT1H
X-Robots-Tag:noindex
X-PUBLISHED-TTL:PT1H
BEGIN:VTIMEZONE
TZID:UTC
BEGIN:STANDARD
TZOFFSETFROM:+0000
TZOFFSETTO:+0000
TZNAME:UTC
DTSTART:20150101T000000
END:STANDARD
END:VTIMEZONE
BEGIN:VEVENT
DTSTART;TZID=UTC:20160510T120000
DTEND;TZID=UTC:20160510T140000
DTSTAMP:20260422T102757
CREATED:20160429T235905Z
LAST-MODIFIED:20160429T235905Z
UID:10000264-1462881600-1462888800@lodigrowers.com
SUMMARY:Exec Director Search Comm.
DESCRIPTION:Executive Director Search Committee\nMeeting Notice and Agenda\nSent & Posted April 29\, 2016 \nThe Executive Director Search Committee of the Lodi Winegrape Commission will meet: \nDate:	Tuesday\, May 10\, 2016\nTime:   Noon\nPlace:	Deodar Room\, Wine & Roses Hotel\, 2505 W. Turner Road\, Lodi CA \nThe agenda for the meeting is as follows: \n1.	Call to order \n2.	Roll call and establishment of quorum \n3.	Executive Director Search\n•	Action Item \n4.	Public Comment on Items Not Appearing on the Agenda. \n5.	Set next meeting date \n6.	Adjourn \nAction may be taken on any of the items listed above.  Questions regarding the meeting should be directed to Galen Schmiedt (329-8448)\, Bruce Fry (209) 993-8479 or Craig Ledbetter (209) 663-1259.  Persons with disabilities needing special accommodation should contact Stuart Spencer\, Program Manager\, stuart@lodiwine.com at least five days prior to the meeting. This notice and agenda is available on the internet in Upcoming Meetings and Events on www.lodigrowers.com.
URL:https://lodigrowers.com/event/exec-director-search-comm/
LOCATION:Deodar Room\, Wine & Roses Hotel
END:VEVENT
END:VCALENDAR