BEGIN:VCALENDAR
VERSION:2.0
PRODID:-//Lodi Growers - ECPv6.15.20//NONSGML v1.0//EN
CALSCALE:GREGORIAN
METHOD:PUBLISH
X-WR-CALNAME:Lodi Growers
X-ORIGINAL-URL:https://lodigrowers.com
X-WR-CALDESC:Events for Lodi Growers
REFRESH-INTERVAL;VALUE=DURATION:PT1H
X-Robots-Tag:noindex
X-PUBLISHED-TTL:PT1H
BEGIN:VTIMEZONE
TZID:America/Los_Angeles
BEGIN:DAYLIGHT
TZOFFSETFROM:-0800
TZOFFSETTO:-0700
TZNAME:PDT
DTSTART:20180311T100000
END:DAYLIGHT
BEGIN:STANDARD
TZOFFSETFROM:-0700
TZOFFSETTO:-0800
TZNAME:PST
DTSTART:20181104T090000
END:STANDARD
BEGIN:DAYLIGHT
TZOFFSETFROM:-0800
TZOFFSETTO:-0700
TZNAME:PDT
DTSTART:20190310T100000
END:DAYLIGHT
BEGIN:STANDARD
TZOFFSETFROM:-0700
TZOFFSETTO:-0800
TZNAME:PST
DTSTART:20191103T090000
END:STANDARD
BEGIN:DAYLIGHT
TZOFFSETFROM:-0800
TZOFFSETTO:-0700
TZNAME:PDT
DTSTART:20200308T100000
END:DAYLIGHT
BEGIN:STANDARD
TZOFFSETFROM:-0700
TZOFFSETTO:-0800
TZNAME:PST
DTSTART:20201101T090000
END:STANDARD
END:VTIMEZONE
BEGIN:VEVENT
DTSTART;TZID=America/Los_Angeles:20190927T090000
DTEND;TZID=America/Los_Angeles:20190927T090000
DTSTAMP:20260423T000702
CREATED:20190619T153311Z
LAST-MODIFIED:20190619T153311Z
UID:10000563-1569574800-1569574800@lodigrowers.com
SUMMARY:DUARTE NURSERY: CLONAL FIELD DAY
DESCRIPTION:Date:  Friday\, September 27th\, 2019 \nTime:  9:00 am – 1:00 pm \nVenue: Duarte Georgetown Vineyard\, 661 Spanish Dry Diggins Road\, Greenwood\, CA 95635 \nCost:  FREE\, Lunch and wine tasting included \nDescription:  See – Touch – Taste\, 70 clones – 16 varieties!  Join Duarte Nursery for a Clonal Field Day\, come walk around the vineyard and experience early ripening varieties! \nTo RSVP and for more information:  Please email events@duartenursery.com.
URL:https://lodigrowers.com/event/duarte-nursery-clonal-field-day-4/
LOCATION:Duarte Georgetown Vineyard\, 661 Spanish Dry Diggins Road\, Greenwood\, CA\, 95635\, United States
GEO:38.9222152;-120.8754034
X-APPLE-STRUCTURED-LOCATION;VALUE=URI;X-ADDRESS=Duarte Georgetown Vineyard 661 Spanish Dry Diggins Road Greenwood CA 95635 United States;X-APPLE-RADIUS=500;X-TITLE=661 Spanish Dry Diggins Road:geo:-120.8754034,38.9222152
END:VEVENT
END:VCALENDAR