BEGIN:VCALENDAR
VERSION:2.0
PRODID:-//Lodi Growers - ECPv6.15.20//NONSGML v1.0//EN
CALSCALE:GREGORIAN
METHOD:PUBLISH
X-WR-CALNAME:Lodi Growers
X-ORIGINAL-URL:https://lodigrowers.com
X-WR-CALDESC:Events for Lodi Growers
REFRESH-INTERVAL;VALUE=DURATION:PT1H
X-Robots-Tag:noindex
X-PUBLISHED-TTL:PT1H
BEGIN:VTIMEZONE
TZID:America/Los_Angeles
BEGIN:DAYLIGHT
TZOFFSETFROM:-0800
TZOFFSETTO:-0700
TZNAME:PDT
DTSTART:20180311T100000
END:DAYLIGHT
BEGIN:STANDARD
TZOFFSETFROM:-0700
TZOFFSETTO:-0800
TZNAME:PST
DTSTART:20181104T090000
END:STANDARD
BEGIN:DAYLIGHT
TZOFFSETFROM:-0800
TZOFFSETTO:-0700
TZNAME:PDT
DTSTART:20190310T100000
END:DAYLIGHT
BEGIN:STANDARD
TZOFFSETFROM:-0700
TZOFFSETTO:-0800
TZNAME:PST
DTSTART:20191103T090000
END:STANDARD
BEGIN:DAYLIGHT
TZOFFSETFROM:-0800
TZOFFSETTO:-0700
TZNAME:PDT
DTSTART:20200308T100000
END:DAYLIGHT
BEGIN:STANDARD
TZOFFSETFROM:-0700
TZOFFSETTO:-0800
TZNAME:PST
DTSTART:20201101T090000
END:STANDARD
END:VTIMEZONE
BEGIN:VEVENT
DTSTART;TZID=America/Los_Angeles:20190429T133000
DTEND;TZID=America/Los_Angeles:20190429T150000
DTSTAMP:20260420T220721
CREATED:20190423T235659Z
LAST-MODIFIED:20190423T235659Z
UID:10000539-1556544600-1556550000@lodigrowers.com
SUMMARY:LWC + E. & J. GALLO: MECHANICAL TRUNK SUCKERING DEMO
DESCRIPTION:Date:  Monday\, April 29th\, 2019 \nTime:  1:30 – 3:00pm \nVenue:  E. & J. Gallo Valley Oak Ranch\, 8886 Orr Road\, Galt\, CA 95632 \nCost:  FREE\, all are welcome \nDescription:  Following our successful LODI VINEYARD MECHANIZATION SHOWCASE in December 2018\, the Lodi Winegrape Commission is teaming up with E. & J. Gallo to offer in-field demonstrations for a variety of mechanization practices.  Join us for a tailgate talk to observe mechanical suckering on the High Cordon\, Quad\, and Sprawl trellising systems. Both VMech and Spagnolo will be present at this demonstration. \nRSVP:  Please RSVP to Christina at the Lodi Winegrape Commission: 209.367.4727 or lwwc@lodiwine.com.
URL:https://lodigrowers.com/event/lwc-e-j-gallo-mechanical-trunk-suckering-demo/
LOCATION: E. & J. Gallo Valley Oak Ranch\, 8886 Orr Road\, Galt\, CA\, 95632\, United States
GEO:38.2576321;-121.3782395
X-APPLE-STRUCTURED-LOCATION;VALUE=URI;X-ADDRESS= E. & J. Gallo Valley Oak Ranch 8886 Orr Road Galt CA 95632 United States;X-APPLE-RADIUS=500;X-TITLE=8886 Orr Road:geo:-121.3782395,38.2576321
END:VEVENT
END:VCALENDAR