BEGIN:VCALENDAR
VERSION:2.0
PRODID:-//Lodi Growers - ECPv6.15.20//NONSGML v1.0//EN
CALSCALE:GREGORIAN
METHOD:PUBLISH
X-ORIGINAL-URL:https://lodigrowers.com
X-WR-CALDESC:Events for Lodi Growers
REFRESH-INTERVAL;VALUE=DURATION:PT1H
X-Robots-Tag:noindex
X-PUBLISHED-TTL:PT1H
BEGIN:VTIMEZONE
TZID:America/Los_Angeles
BEGIN:DAYLIGHT
TZOFFSETFROM:-0800
TZOFFSETTO:-0700
TZNAME:PDT
DTSTART:20120311T100000
END:DAYLIGHT
BEGIN:STANDARD
TZOFFSETFROM:-0700
TZOFFSETTO:-0800
TZNAME:PST
DTSTART:20121104T090000
END:STANDARD
BEGIN:DAYLIGHT
TZOFFSETFROM:-0800
TZOFFSETTO:-0700
TZNAME:PDT
DTSTART:20130310T100000
END:DAYLIGHT
BEGIN:STANDARD
TZOFFSETFROM:-0700
TZOFFSETTO:-0800
TZNAME:PST
DTSTART:20131103T090000
END:STANDARD
BEGIN:DAYLIGHT
TZOFFSETFROM:-0800
TZOFFSETTO:-0700
TZNAME:PDT
DTSTART:20140309T100000
END:DAYLIGHT
BEGIN:STANDARD
TZOFFSETFROM:-0700
TZOFFSETTO:-0800
TZNAME:PST
DTSTART:20141102T090000
END:STANDARD
END:VTIMEZONE
BEGIN:VEVENT
DTSTART;TZID=America/Los_Angeles:20131106T173000
DTEND;TZID=America/Los_Angeles:20131106T200000
DTSTAMP:20260424T080608
CREATED:20130731T021735Z
LAST-MODIFIED:20131016T005216Z
UID:10000012-1383759000-1383768000@lodigrowers.com
SUMMARY:Harmony Wynelands Mixer
DESCRIPTION:
URL:https://lodigrowers.com/event/winery-mixer-at-harmony-wynelands/
LOCATION:Harmony Wynelands\, 9291 E Harney Ln\, Lodi\, CA\, 95240\, United States
GEO:38.1016807;-121.2008259
X-APPLE-STRUCTURED-LOCATION;VALUE=URI;X-ADDRESS=Harmony Wynelands 9291 E Harney Ln Lodi CA 95240 United States;X-APPLE-RADIUS=500;X-TITLE=9291 E Harney Ln:geo:-121.2008259,38.1016807
END:VEVENT
END:VCALENDAR