BEGIN:VCALENDAR
VERSION:2.0
PRODID:-//Lodi Growers - ECPv6.15.20//NONSGML v1.0//EN
CALSCALE:GREGORIAN
METHOD:PUBLISH
X-ORIGINAL-URL:https://lodigrowers.com
X-WR-CALDESC:Events for Lodi Growers
REFRESH-INTERVAL;VALUE=DURATION:PT1H
X-Robots-Tag:noindex
X-PUBLISHED-TTL:PT1H
BEGIN:VTIMEZONE
TZID:America/Los_Angeles
BEGIN:DAYLIGHT
TZOFFSETFROM:-0800
TZOFFSETTO:-0700
TZNAME:PDT
DTSTART:20180311T100000
END:DAYLIGHT
BEGIN:STANDARD
TZOFFSETFROM:-0700
TZOFFSETTO:-0800
TZNAME:PST
DTSTART:20181104T090000
END:STANDARD
BEGIN:DAYLIGHT
TZOFFSETFROM:-0800
TZOFFSETTO:-0700
TZNAME:PDT
DTSTART:20190310T100000
END:DAYLIGHT
BEGIN:STANDARD
TZOFFSETFROM:-0700
TZOFFSETTO:-0800
TZNAME:PST
DTSTART:20191103T090000
END:STANDARD
BEGIN:DAYLIGHT
TZOFFSETFROM:-0800
TZOFFSETTO:-0700
TZNAME:PDT
DTSTART:20200308T100000
END:DAYLIGHT
BEGIN:STANDARD
TZOFFSETFROM:-0700
TZOFFSETTO:-0800
TZNAME:PST
DTSTART:20201101T090000
END:STANDARD
END:VTIMEZONE
BEGIN:VTIMEZONE
TZID:UTC
BEGIN:STANDARD
TZOFFSETFROM:+0000
TZOFFSETTO:+0000
TZNAME:UTC
DTSTART:20150101T000000
END:STANDARD
END:VTIMEZONE
BEGIN:VEVENT
DTSTART;TZID=America/Los_Angeles:20190307T070000
DTEND;TZID=America/Los_Angeles:20190307T150000
DTSTAMP:20260420T033409
CREATED:20180725T161423Z
LAST-MODIFIED:20190220T233603Z
UID:10000432-1551942000-1551970800@lodigrowers.com
SUMMARY:AGSAFE: FARM SAFETY DAY
DESCRIPTION:AGSAFE: FARM SAFETY DAY.\nDate: Thursday\, March 7th\, 2019 \nTime: 7:00 am – 3:00 pm \nVenue: Grape Festival Grounds\, 413 E. Lockeford St\, Lodi CA \nCost: FREE \nCredits: 4.5 CE Credits total (3hrs – laws/regs; 1.5hrs – other) \nDescription: The Agenda is as follows: \n7:00 a.m.-8:00 a.m. – Sign-In \n8:00 a.m.-9:30 a.m. – Fieldworker Topics  (1.5hrs) \n9:30 a.m.-9:45 a.m. – Break \n9:45 a.m.-11:15 a.m. – Fieldworker Topics (1.5hrs) \n11:15 a.m.-12:00 p.m. – Lunch \n12:00 p.m.-1:30 p.m. – Handler Topics (1.5hrs) \n1:30 p.m.-1:45 p.m. – Break \n1:45 p.m.-3:00 p.m. – Handler Topics (1.5hrs) \nFor further updates or inquiries\, please visit AgSafe’s website HERE. \nRSVP: Call the Lodi Chamber of Commerce at 209.367.7840
URL:https://lodigrowers.com/event/agsafe-farm-safety-day/
LOCATION:Lodi Grape Festival Grounds\, 413 E. Lockeford Street\, Lodi
GEO:38.1385639;-121.2636425
X-APPLE-STRUCTURED-LOCATION;VALUE=URI;X-ADDRESS=Lodi Grape Festival Grounds 413 E. Lockeford Street Lodi;X-APPLE-RADIUS=500;X-TITLE=413 E. Lockeford Street:geo:-121.2636425,38.1385639
END:VEVENT
BEGIN:VEVENT
DTSTART;TZID=UTC:20160719T080000
DTEND;TZID=UTC:20160719T130000
DTSTAMP:20260420T033409
CREATED:20160706T000045Z
LAST-MODIFIED:20160706T000045Z
UID:10000276-1468915200-1468933200@lodigrowers.com
SUMMARY:Harvest Safety Seminar
DESCRIPTION:Join us for the Annual Lodi Grape Harvest Safety Seminar. Sessions will be offered in both English and Spanish. The seminar will cover important safety topics for growers and their employees including: Mechanical Grape Harvester Safety\, Heat Illness Prevention\, and Rural Road Safety. \n8:00 am – Registration\, donuts and coffee – Jackson Hall\n8:30 am – Safety Seminar – Jackson Hall (Spanish); Burgundy Hall (English)\n12:00 pm – Complimentary Lunch – Jackson Hall
URL:https://lodigrowers.com/event/harvest-safety-seminar/
LOCATION:Lodi Grape Festival Grounds\, 413 E. Lockeford Street\, Lodi
GEO:38.1385639;-121.2636425
X-APPLE-STRUCTURED-LOCATION;VALUE=URI;X-ADDRESS=Lodi Grape Festival Grounds 413 E. Lockeford Street Lodi;X-APPLE-RADIUS=500;X-TITLE=413 E. Lockeford Street:geo:-121.2636425,38.1385639
END:VEVENT
END:VCALENDAR