BEGIN:VCALENDAR
VERSION:2.0
PRODID:-//Lodi Growers - ECPv6.15.20//NONSGML v1.0//EN
CALSCALE:GREGORIAN
METHOD:PUBLISH
X-ORIGINAL-URL:https://lodigrowers.com
X-WR-CALDESC:Events for Lodi Growers
REFRESH-INTERVAL;VALUE=DURATION:PT1H
X-Robots-Tag:noindex
X-PUBLISHED-TTL:PT1H
BEGIN:VTIMEZONE
TZID:America/Los_Angeles
BEGIN:DAYLIGHT
TZOFFSETFROM:-0800
TZOFFSETTO:-0700
TZNAME:PDT
DTSTART:20180311T100000
END:DAYLIGHT
BEGIN:STANDARD
TZOFFSETFROM:-0700
TZOFFSETTO:-0800
TZNAME:PST
DTSTART:20181104T090000
END:STANDARD
BEGIN:DAYLIGHT
TZOFFSETFROM:-0800
TZOFFSETTO:-0700
TZNAME:PDT
DTSTART:20190310T100000
END:DAYLIGHT
BEGIN:STANDARD
TZOFFSETFROM:-0700
TZOFFSETTO:-0800
TZNAME:PST
DTSTART:20191103T090000
END:STANDARD
BEGIN:DAYLIGHT
TZOFFSETFROM:-0800
TZOFFSETTO:-0700
TZNAME:PDT
DTSTART:20200308T100000
END:DAYLIGHT
BEGIN:STANDARD
TZOFFSETFROM:-0700
TZOFFSETTO:-0800
TZNAME:PST
DTSTART:20201101T090000
END:STANDARD
BEGIN:DAYLIGHT
TZOFFSETFROM:-0800
TZOFFSETTO:-0700
TZNAME:PDT
DTSTART:20210314T100000
END:DAYLIGHT
BEGIN:STANDARD
TZOFFSETFROM:-0700
TZOFFSETTO:-0800
TZNAME:PST
DTSTART:20211107T090000
END:STANDARD
BEGIN:DAYLIGHT
TZOFFSETFROM:-0800
TZOFFSETTO:-0700
TZNAME:PDT
DTSTART:20220313T100000
END:DAYLIGHT
BEGIN:STANDARD
TZOFFSETFROM:-0700
TZOFFSETTO:-0800
TZNAME:PST
DTSTART:20221106T090000
END:STANDARD
BEGIN:DAYLIGHT
TZOFFSETFROM:-0800
TZOFFSETTO:-0700
TZNAME:PDT
DTSTART:20230312T100000
END:DAYLIGHT
BEGIN:STANDARD
TZOFFSETFROM:-0700
TZOFFSETTO:-0800
TZNAME:PST
DTSTART:20231105T090000
END:STANDARD
BEGIN:DAYLIGHT
TZOFFSETFROM:-0800
TZOFFSETTO:-0700
TZNAME:PDT
DTSTART:20240310T100000
END:DAYLIGHT
BEGIN:STANDARD
TZOFFSETFROM:-0700
TZOFFSETTO:-0800
TZNAME:PST
DTSTART:20241103T090000
END:STANDARD
END:VTIMEZONE
BEGIN:VEVENT
DTSTART;TZID=America/Los_Angeles:20230520T110000
DTEND;TZID=America/Los_Angeles:20230520T150000
DTSTAMP:20260420T041229
CREATED:20230517T184620Z
LAST-MODIFIED:20230517T184620Z
UID:10000876-1684580400-1684594800@lodigrowers.com
SUMMARY:LODI WINE EXPERIENCE
DESCRIPTION:
URL:https://lodigrowers.com/event/lodi-wine-experience-2/
LOCATION:Lodi Lake\, 1101 W. Turner Rd.\, Lodi\, CA\, 95242
ATTACH;FMTTYPE=image/jpeg:https://lodigrowers.com/wp-content/uploads/2023/04/LWE-Poster-24-x-36-Resized.jpg
GEO:38.1458004;-121.295783
X-APPLE-STRUCTURED-LOCATION;VALUE=URI;X-ADDRESS=Lodi Lake 1101 W. Turner Rd. Lodi CA 95242;X-APPLE-RADIUS=500;X-TITLE=1101 W. Turner Rd.:geo:-121.295783,38.1458004
END:VEVENT
BEGIN:VEVENT
DTSTART;TZID=America/Los_Angeles:20230519T180000
DTEND;TZID=America/Los_Angeles:20230519T200000
DTSTAMP:20260420T041229
CREATED:20230517T184441Z
LAST-MODIFIED:20230517T184441Z
UID:10000875-1684519200-1684526400@lodigrowers.com
SUMMARY:LODI WINE EXPERIENCE
DESCRIPTION:
URL:https://lodigrowers.com/event/lodi-wine-experience/
LOCATION:Lodi Lake\, 1101 W. Turner Rd.\, Lodi\, CA\, 95242
ATTACH;FMTTYPE=image/jpeg:https://lodigrowers.com/wp-content/uploads/2023/04/LWE-Poster-24-x-36-Resized.jpg
GEO:38.1458004;-121.295783
X-APPLE-STRUCTURED-LOCATION;VALUE=URI;X-ADDRESS=Lodi Lake 1101 W. Turner Rd. Lodi CA 95242;X-APPLE-RADIUS=500;X-TITLE=1101 W. Turner Rd.:geo:-121.295783,38.1458004
END:VEVENT
BEGIN:VEVENT
DTSTART;TZID=America/Los_Angeles:20190518T120000
DTEND;TZID=America/Los_Angeles:20190518T170000
DTSTAMP:20260420T041229
CREATED:20190417T155159Z
LAST-MODIFIED:20190417T155222Z
UID:10000536-1558180800-1558198800@lodigrowers.com
SUMMARY:ZINFEST GRAND TASTING
DESCRIPTION:Date: Saturday\, May 18th\, 2019 \nTime: 12:00 – 5:00pm – Early Entrance Admission (limited availability)\n1:00 – 5:00pm – General Admission \nVenue: Lodi Lake Park\, 1101 W. Turner Road\, Lodi\, CA 95242\, the ZinFest Grand Tasting takes place on the north side of Lodi Lake Park \nCost:  EARLY ENTRANCE ADMISSION TICKET | $75 in advance (not available at the gate)\nThe ZinFest Grand Tasting Early Entrance Admission ticket allows the ticket holder to enter 1 hour early at 12:00 noon before the general public. Ticket includes reserve and barrel tastings\, general wine tastings\, entertainment\, access to food and artisan vendors\, and your own souvenir wine glass. Early Entrance Admission tickets are limited to only 500. We expect that Early Entrance Admission tickets will be very popular and will sell out FAST! \nGENERAL ADMISSION TICKET | $55 in advance | $65 at the gate\nGates open at 1:00pm for ZinFest Grand Tasting General Admission. Ticket includes general wine tastings\, entertainment\, access to food and artisan vendors\, and your own souvenir wine glass. \nDESIGNATED DRIVER EARLY ENTRANCE ADMISSION TICKET | $25 in advance (not available at the gate)\nThe ZinFest Grand Tasting Designated Driver Early Entrance Admission ticket allows the ticket holder to enter 1 hour early at 12:00 noon before the general public. Ticket includes entertainment and access to food and artisan vendors. \nDESIGNATED DRIVER GENERAL ADMISSION TICKET | $20 (advance and at the gate)\nGates open at 1:00pm for ZinFest Grand Tasting General Admission. Ticket includes entertainment and access to food and artisan vendors. \nALL TICKET SALES ARE FINAL AND NON-REFUNDABLE. MUST BE 21 TO ATTEND. WE ARE NOT RESPONSIBLE FOR LOST OR STOLEN TICKETS. \nDescription:  The ZinFest Grand Tasting is a wine lover’s paradise\, featuring a selection of 200 unique Lodi varietal wines  from Albariño to Zinfandel.  Take in a fun and educational session at the wine or BBQ schools\, play lawn games\, hang out in the ZinFest Music Lounge or at the Main Stage\, and meet the winemakers and taste-makers that have helped shape Lodi into one of California’s top wine country destinations. The ZinFest Grand Tasting is the Lodi Appellation’s  premier wine festival. Come be part of this unparalleled and delicious experience. \nTHE WINE\nZINFEST WINE SCHOOL\nUP IN SMOKE BBQ DEMO\nENTERTAINMENT \nAdditional Event Information: \nPARKING | Parking is located at the Lodi Grape Festival Grounds\, 413 E. Lockeford St.\, Lodi\, 95240. Shuttles will be provided from this parking lot to the event entrance. Allow at least 30 minutes for transportation. Limited parking can also be found in surrounding residential neighborhoods. \nATTIRE | Black tie. As if. The ZinFest Grand Tasting is held outdoors at Lodi Lake Park. Upscale casual attire is recommended with an emphasis on comfortable shoes and sun protection. \nHAVE A QUESTION YOU DON’T SEE THE ANSWER TO HERE? VISIT OUR FAQ PAGE. \nReserve your ticket:  Please purchase your early entrance admission ticket on the event website or your general admission ticket at the gate upon arrival. \n 
URL:https://lodigrowers.com/event/zinfest-grand-tasting/
LOCATION:Lodi Lake\, 1101 W. Turner Rd.\, Lodi\, CA\, 95242
GEO:38.1458004;-121.295783
X-APPLE-STRUCTURED-LOCATION;VALUE=URI;X-ADDRESS=Lodi Lake 1101 W. Turner Rd. Lodi CA 95242;X-APPLE-RADIUS=500;X-TITLE=1101 W. Turner Rd.:geo:-121.295783,38.1458004
END:VEVENT
BEGIN:VEVENT
DTSTART;TZID=America/Los_Angeles:20190517T180000
DTEND;TZID=America/Los_Angeles:20190517T180000
DTSTAMP:20260420T041229
CREATED:20181207T204639Z
LAST-MODIFIED:20190424T224821Z
UID:10000482-1558116000-1558116000@lodigrowers.com
SUMMARY:VINTNER'S GRILLE AT THE LAKE
DESCRIPTION:Date: Friday\, May 17th\, 2019 \nTime: 6:00 – 9:00pm (Wine reception begins at 6:00pm. Dinner begins at 7:00pm.) \nVenue: Lodi Lake Park\, 1101 W. Turner Road\, Lodi\, CA 95242 \nCost:  TICKETS ARE SOLD OUT.  All attendees must be 21 years of age to attend. \nDescription: Join the passionate vintners and growers of the Lodi Appellation as they extend hometown hospitality and engage guests in an evening of colorful festivities.  Enjoy the region’s finest pairing of freshly prepared\, local cuisine catered by Angelina’s of Stockton paired with the best of Lodi’s celebrated Old Vine Zinfandel!  After dinner\, treat your sweet tooth to an assortment of sweet treats from the dessert bar.  Top off the perfect evening by kicking up your heels to the sounds of live music by the Ryan Hernandez Band. \nMenu: \nAPPETIZERS | Pulled Pork Sliders\, Deep Fried Ravioli with Marinara\, Baked\, Prosciutto-Wrapped Asparagus with Parmesan\nSALAD | Mixed Greens with Cherry Tomatoes\, Sliced Red Onion\, Pepperoncini\, Artichokes\, Kalamata Olives\, Cucumbers\, Diced Provolone\, Red Wine Vinaigrette\nDINNER | Marinated Tri-Tip\, Chicken Francese\, Grilled Brussels Sprouts with Red Onion & Julienne Carrots\, Cheese Tortellini with Creamy Pesto\nDESSERT BAR | A delicious selection from Nothing Bundt Cakes\, Stockton \nAdditional Information:  Dress is casual. Event is held lakeside. Lodi Lake is located at 1101-1301 W. Turner Road in Lodi\, California. \nParking:  Parking is available just inside the main entrance to Lodi Lake.  Shuttles will be available to transport you from the parking area to the dinner location. \n 
URL:https://lodigrowers.com/event/15th-annual-zinfest-wine-festival/
LOCATION:Lodi Lake\, 1101 W. Turner Rd.\, Lodi\, CA\, 95242
GEO:38.1458004;-121.295783
X-APPLE-STRUCTURED-LOCATION;VALUE=URI;X-ADDRESS=Lodi Lake 1101 W. Turner Rd. Lodi CA 95242;X-APPLE-RADIUS=500;X-TITLE=1101 W. Turner Rd.:geo:-121.295783,38.1458004
END:VEVENT
END:VCALENDAR