BEGIN:VCALENDAR
VERSION:2.0
PRODID:-//Lodi Growers - ECPv6.15.20//NONSGML v1.0//EN
CALSCALE:GREGORIAN
METHOD:PUBLISH
X-ORIGINAL-URL:https://lodigrowers.com
X-WR-CALDESC:Events for Lodi Growers
REFRESH-INTERVAL;VALUE=DURATION:PT1H
X-Robots-Tag:noindex
X-PUBLISHED-TTL:PT1H
BEGIN:VTIMEZONE
TZID:UTC
BEGIN:STANDARD
TZOFFSETFROM:+0000
TZOFFSETTO:+0000
TZNAME:UTC
DTSTART:20140101T000000
END:STANDARD
END:VTIMEZONE
BEGIN:VEVENT
DTSTART;TZID=UTC:20151214T140000
DTEND;TZID=UTC:20151214T160000
DTSTAMP:20260422T055110
CREATED:20151211T023626Z
LAST-MODIFIED:20151211T023626Z
UID:10000224-1450101600-1450108800@lodigrowers.com
SUMMARY:NSJWCD Meeting (12/14)
DESCRIPTION:Agenda for download – 1.  12-14-15 Agenda \nMinutes for download – 2. Minutes 11-30-15 Meeting
URL:https://lodigrowers.com/event/nsjwcd-meeting-1214/
LOCATION:Lodi Public Library Community Room\, 201 West Locust Street
GEO:40.6302367;-75.3832855
X-APPLE-STRUCTURED-LOCATION;VALUE=URI;X-ADDRESS=Lodi Public Library Community Room 201 West Locust Street;X-APPLE-RADIUS=500;X-TITLE=201 West Locust Street:geo:-75.3832855,40.6302367
END:VEVENT
END:VCALENDAR