BEGIN:VCALENDAR
VERSION:2.0
PRODID:-//Lodi Growers - ECPv6.15.20//NONSGML v1.0//EN
CALSCALE:GREGORIAN
METHOD:PUBLISH
X-ORIGINAL-URL:https://lodigrowers.com
X-WR-CALDESC:Events for Lodi Growers
REFRESH-INTERVAL;VALUE=DURATION:PT1H
X-Robots-Tag:noindex
X-PUBLISHED-TTL:PT1H
BEGIN:VTIMEZONE
TZID:America/Los_Angeles
BEGIN:DAYLIGHT
TZOFFSETFROM:-0800
TZOFFSETTO:-0700
TZNAME:PDT
DTSTART:20160313T100000
END:DAYLIGHT
BEGIN:STANDARD
TZOFFSETFROM:-0700
TZOFFSETTO:-0800
TZNAME:PST
DTSTART:20161106T090000
END:STANDARD
BEGIN:DAYLIGHT
TZOFFSETFROM:-0800
TZOFFSETTO:-0700
TZNAME:PDT
DTSTART:20170312T100000
END:DAYLIGHT
BEGIN:STANDARD
TZOFFSETFROM:-0700
TZOFFSETTO:-0800
TZNAME:PST
DTSTART:20171105T090000
END:STANDARD
BEGIN:DAYLIGHT
TZOFFSETFROM:-0800
TZOFFSETTO:-0700
TZNAME:PDT
DTSTART:20180311T100000
END:DAYLIGHT
BEGIN:STANDARD
TZOFFSETFROM:-0700
TZOFFSETTO:-0800
TZNAME:PST
DTSTART:20181104T090000
END:STANDARD
END:VTIMEZONE
BEGIN:VTIMEZONE
TZID:UTC
BEGIN:STANDARD
TZOFFSETFROM:+0000
TZOFFSETTO:+0000
TZNAME:UTC
DTSTART:20130101T000000
END:STANDARD
END:VTIMEZONE
BEGIN:VEVENT
DTSTART;TZID=America/Los_Angeles:20171024T090000
DTEND;TZID=America/Los_Angeles:20171024T110000
DTSTAMP:20260424T061553
CREATED:20170926T005247Z
LAST-MODIFIED:20170926T005247Z
UID:10000372-1508835600-1508842800@lodigrowers.com
SUMMARY:NRCS EQIP and R&D TAX CREDITS WORKSHOP
DESCRIPTION:  \nNRCS EQIP and R&D TAX CREDITS WORKSHOP \nDate: Tuesday\, Oct. 24th\, 2017 \nTime: 9:00 – 11:00 am \nVenue: Community Room\, Lodi Public Library\, 201 W Locust St\, Lodi \nCost: FREE \nPresenters: Ora Van Steyn & Perla Alonso (NRCS – Stockton)\, Karen Lowell (NRCS – Salinas)\, Chris Crifasi & Ray Esquivel (Moss Adams – Stockton) \nGrower Panel: Chris Storm (Vino Farms)\, Aaron Lange (LangeTwins)\, Emily Ripken (KG Vineyard Management) \nDescription: Join us as we decipher the ins & outs of both NRCS EQIP (Natural Resources Conservation Services Environmental Quality Incentives Program) conservation practices funding program and Research & Development Tax Credits. We’ll discuss EQIP eligibility\, a typical sign-up process & how to begin\, winegrape project examples\, conservation planning\, and how this all ties into LODI RULES. Karen Lowell will discuss the benefits of two conservation practices: cover crops & soil management. Moss Adams will review the logistics of utilizing R&D Tax Credits – something EVERYONE should consider. Finally\, a GROWER PANEL will answer questions & share real-world experiences. \nRSVP: By phone 209.367.4727 or email lwwc@lodiwine.com \n 
URL:https://lodigrowers.com/event/nrcs-eqip-and-rd-tax-credits-workshop/
LOCATION:Lodi Public Library Community Room\, 201 West Locust Street\, Lodi\, 95240\, United States
GEO:38.137089;-121.2754301
X-APPLE-STRUCTURED-LOCATION;VALUE=URI;X-ADDRESS=Lodi Public Library Community Room 201 West Locust Street Lodi 95240 United States;X-APPLE-RADIUS=500;X-TITLE=201 West Locust Street:geo:-121.2754301,38.137089
END:VEVENT
BEGIN:VEVENT
DTSTART;TZID=UTC:20140127T100000
DTEND;TZID=UTC:20140127T120000
DTSTAMP:20260424T061553
CREATED:20131231T011146Z
LAST-MODIFIED:20131231T011146Z
UID:10000036-1390816800-1390824000@lodigrowers.com
SUMMARY:NSJWCD Meeting (1/27)
DESCRIPTION:
URL:https://lodigrowers.com/event/nsjwcd-meeting-127/
LOCATION:Lodi Public Library Community Room\, 201 West Locust Street\, Lodi\, 95240\, United States
GEO:38.137089;-121.2754301
X-APPLE-STRUCTURED-LOCATION;VALUE=URI;X-ADDRESS=Lodi Public Library Community Room 201 West Locust Street Lodi 95240 United States;X-APPLE-RADIUS=500;X-TITLE=201 West Locust Street:geo:-121.2754301,38.137089
END:VEVENT
END:VCALENDAR