BEGIN:VCALENDAR
VERSION:2.0
PRODID:-//Lodi Growers - ECPv6.15.20//NONSGML v1.0//EN
CALSCALE:GREGORIAN
METHOD:PUBLISH
X-ORIGINAL-URL:https://lodigrowers.com
X-WR-CALDESC:Events for Lodi Growers
REFRESH-INTERVAL;VALUE=DURATION:PT1H
X-Robots-Tag:noindex
X-PUBLISHED-TTL:PT1H
BEGIN:VTIMEZONE
TZID:America/Los_Angeles
BEGIN:DAYLIGHT
TZOFFSETFROM:-0800
TZOFFSETTO:-0700
TZNAME:PDT
DTSTART:20190310T100000
END:DAYLIGHT
BEGIN:STANDARD
TZOFFSETFROM:-0700
TZOFFSETTO:-0800
TZNAME:PST
DTSTART:20191103T090000
END:STANDARD
BEGIN:DAYLIGHT
TZOFFSETFROM:-0800
TZOFFSETTO:-0700
TZNAME:PDT
DTSTART:20200308T100000
END:DAYLIGHT
BEGIN:STANDARD
TZOFFSETFROM:-0700
TZOFFSETTO:-0800
TZNAME:PST
DTSTART:20201101T090000
END:STANDARD
BEGIN:DAYLIGHT
TZOFFSETFROM:-0800
TZOFFSETTO:-0700
TZNAME:PDT
DTSTART:20210314T100000
END:DAYLIGHT
BEGIN:STANDARD
TZOFFSETFROM:-0700
TZOFFSETTO:-0800
TZNAME:PST
DTSTART:20211107T090000
END:STANDARD
END:VTIMEZONE
BEGIN:VEVENT
DTSTART;TZID=America/Los_Angeles:20200527T130000
DTEND;TZID=America/Los_Angeles:20200527T150000
DTSTAMP:20260419T172846
CREATED:20200515T204027Z
LAST-MODIFIED:20200527T192338Z
UID:10000635-1590584400-1590591600@lodigrowers.com
SUMMARY:GROWER MARKETING COMMITTEE MEETING
DESCRIPTION:GROWER MARKETING COMMITTEE\nMEETING NOTICE & AGENDA\nSent and posted May 15\, 2020 \nDate: Wednesday\, March 27\, 2020\nTime: 1:00pm\nPlace: Lodi Wine Visitor Center\, 2545 West Turner Road\, Lodi\, CA 95242 \nJoin Zoom Meeting\nhttps://zoom.us/j/93211443033?pwd=V0orNndtejgycE9QTDBLLzVxNHE0Zz09 \nMeeting ID: 932 1144 3033\nPassword: 236050\nOne tap mobile\n+13017158592\,\,93211443033#\,\,1#\,236050# US (Germantown)\n+13126266799\,\,93211443033#\,\,1#\,236050# US (Chicago) \nDial by your location\n+1 301 715 8592 US (Germantown)\n+1 312 626 6799 US (Chicago)\n+1 929 205 6099 US (New York)\n+1 253 215 8782 US (Tacoma)\n+1 346 248 7799 US (Houston)\n+1 669 900 6833 US (San Jose)\nMeeting ID: 932 1144 3033\nPassword: 236050\nFind your local number: https://zoom.us/u/acwogwf1Qb \nThe agenda for the meeting is as follows: \n1) Call to order \n2) Roll call and establishment of quorum \n3) Consideration of December 17\, 2020 minutes \n4) Public Comment on Items Appearing on the Agenda (2 min limit per person) \n5) Commission & Consumer Brand Identity \n\nCreative Execution Updates\nPost Launch Updates\n\n6) Marketing & Advertising \n\n2020-21 Marketing Activities & Planning\n\n“The Modern Farmer” Series\nSave the Old Vines Campaign\nGrower Relationship-Building Send\n\n\n\n7) Public Relations \n\nPR Activities Updates\n\n8) FY 2019-20 Budget Review to Date \n9) FY 2020-21 Budget Request \n10) Report from other LWC Committees \n11) Public Comment on Items Not Appearing on the Agenda (2 min limit per person) \n12) Agenda Items for Future Meetings \n13) Set Next Meeting Date \n14) Adjourn \nAction may be taken on any of the items listed above. Questions regarding the meeting should be directed to Grower Marketing Committee Chair\, Kendra Altnow (209.403.8500) or Executive Director Stuart Spencer (209.367.4727). Persons with disabilities needing special accommodation should contact the Lodi Winegrape Commission (209.367.4727) at least five days prior to the meeting.
URL:https://lodigrowers.com/event/grower-marketing-committee-meeting-10/
LOCATION:Lodi Wine Visitor Center\, 2545 W Turner Rd\, Lodi\, CA\, 95242\, United States
GEO:38.1459652;-121.307667
X-APPLE-STRUCTURED-LOCATION;VALUE=URI;X-ADDRESS=Lodi Wine Visitor Center 2545 W Turner Rd Lodi CA 95242 United States;X-APPLE-RADIUS=500;X-TITLE=2545 W Turner Rd:geo:-121.307667,38.1459652
END:VEVENT
END:VCALENDAR