BEGIN:VCALENDAR
VERSION:2.0
PRODID:-//Lodi Growers - ECPv6.15.20//NONSGML v1.0//EN
CALSCALE:GREGORIAN
METHOD:PUBLISH
X-ORIGINAL-URL:https://lodigrowers.com
X-WR-CALDESC:Events for Lodi Growers
REFRESH-INTERVAL;VALUE=DURATION:PT1H
X-Robots-Tag:noindex
X-PUBLISHED-TTL:PT1H
BEGIN:VTIMEZONE
TZID:UTC
BEGIN:STANDARD
TZOFFSETFROM:+0000
TZOFFSETTO:+0000
TZNAME:UTC
DTSTART:20120101T000000
END:STANDARD
END:VTIMEZONE
BEGIN:VEVENT
DTSTART;TZID=UTC:20131220T120000
DTEND;TZID=UTC:20131220T140000
DTSTAMP:20260424T045230
CREATED:20131214T054912Z
LAST-MODIFIED:20131214T054912Z
UID:10000037-1387540800-1387548000@lodigrowers.com
SUMMARY:LMRWSSC Meeting (12/20)
DESCRIPTION:For download:  LMRWSSC110813Minutes \nFor download:  LMRWSSC122013agenda
URL:https://lodigrowers.com/event/lmrwssc-meeting-1220/
LOCATION:Lodi Winegrape Commission\, 2545 West Turner Road\, Lodi\, CA\, 95242\, United States
GEO:38.1459652;-121.307667
X-APPLE-STRUCTURED-LOCATION;VALUE=URI;X-ADDRESS=Lodi Winegrape Commission 2545 West Turner Road Lodi CA 95242 United States;X-APPLE-RADIUS=500;X-TITLE=2545 West Turner Road:geo:-121.307667,38.1459652
END:VEVENT
END:VCALENDAR