BEGIN:VCALENDAR
VERSION:2.0
PRODID:-//Lodi Growers - ECPv6.15.20//NONSGML v1.0//EN
CALSCALE:GREGORIAN
METHOD:PUBLISH
X-WR-CALNAME:Lodi Growers
X-ORIGINAL-URL:https://lodigrowers.com
X-WR-CALDESC:Events for Lodi Growers
REFRESH-INTERVAL;VALUE=DURATION:PT1H
X-Robots-Tag:noindex
X-PUBLISHED-TTL:PT1H
BEGIN:VTIMEZONE
TZID:America/Los_Angeles
BEGIN:DAYLIGHT
TZOFFSETFROM:-0800
TZOFFSETTO:-0700
TZNAME:PDT
DTSTART:20240310T100000
END:DAYLIGHT
BEGIN:STANDARD
TZOFFSETFROM:-0700
TZOFFSETTO:-0800
TZNAME:PST
DTSTART:20241103T090000
END:STANDARD
BEGIN:DAYLIGHT
TZOFFSETFROM:-0800
TZOFFSETTO:-0700
TZNAME:PDT
DTSTART:20250309T100000
END:DAYLIGHT
BEGIN:STANDARD
TZOFFSETFROM:-0700
TZOFFSETTO:-0800
TZNAME:PST
DTSTART:20251102T090000
END:STANDARD
BEGIN:DAYLIGHT
TZOFFSETFROM:-0800
TZOFFSETTO:-0700
TZNAME:PDT
DTSTART:20260308T100000
END:DAYLIGHT
BEGIN:STANDARD
TZOFFSETFROM:-0700
TZOFFSETTO:-0800
TZNAME:PST
DTSTART:20261101T090000
END:STANDARD
END:VTIMEZONE
BEGIN:VTIMEZONE
TZID:UTC
BEGIN:STANDARD
TZOFFSETFROM:+0000
TZOFFSETTO:+0000
TZNAME:UTC
DTSTART:20130101T000000
END:STANDARD
END:VTIMEZONE
BEGIN:VEVENT
DTSTART;TZID=America/Los_Angeles:20250609T120000
DTEND;TZID=America/Los_Angeles:20250609T140000
DTSTAMP:20260419T155121
CREATED:20250414T215834Z
LAST-MODIFIED:20250527T150834Z
UID:10001659-1749470400-1749477600@lodigrowers.com
SUMMARY:LODI RULES COMMITTEE MEETING
DESCRIPTION:LODI RULES COMMITTEE MEETING \nNOTICE & AGENDA \nSent and posted May 23\, 2025 \nDate: Monday\, June 9\, 2025\nTime: 12pm\nPlace: Lodi Winegrape Commission\, 2545 West Turner Road\, Lodi\, CA 95242 \nThe agenda for the meeting is as follows: \n1. Call to order\n2. Roll call and establishment of quorum\n3. Consideration of the April 14\, 2025\, meeting minutes\n4. Public comment on items appearing on the agenda (2 min limit per person)\n5. Program updates:\n•Current certification year\n•Grower/Winery communications\n•Marketing & promotions\n•Protected Harvest\n6. FY2024-25 Budget Review\n7. Reports from other LWC Committees\n8. Public comment on items not appearing on the agenda (2 min limit per person)\n9. Items for future agendas\n10. Confirm future meeting dates\n11.Adjourn \nAction may be taken on any of the items listed above. Questions regarding the meeting should be directed to Dr. Stephanie Bolton (209.367.4727) or Committee Chair Pieter A. den Hartog (209.327.7838). Persons with disabilities needing special accommodation should contact the Lodi Winegrape Commission (209.367.4727) at least five days prior to the meeting.\nNotices and agendas for upcoming Commission
URL:https://lodigrowers.com/event/lodi-rules-committee-meeting-46/
LOCATION:Lodi Winegrape Commission\, 2545 W. Turner Road\, Lodi\, CA\, 95242\, United States
CATEGORIES:LODI RULES
GEO:38.1459652;-121.307667
X-APPLE-STRUCTURED-LOCATION;VALUE=URI;X-ADDRESS=Lodi Winegrape Commission 2545 W. Turner Road Lodi CA 95242 United States;X-APPLE-RADIUS=500;X-TITLE=2545 W. Turner Road:geo:-121.307667,38.1459652
END:VEVENT
BEGIN:VEVENT
DTSTART;TZID=America/Los_Angeles:20250429T120000
DTEND;TZID=America/Los_Angeles:20250429T140000
DTSTAMP:20260419T155121
CREATED:20250417T233554Z
LAST-MODIFIED:20250418T171404Z
UID:10001660-1745928000-1745935200@lodigrowers.com
SUMMARY:FINANCE COMMITTEE MEETING
DESCRIPTION:FINANCE COMMITTEE MEETING \nNOTICE & AGENDA \nSent and posted April 18\, 2025 \nThe Lodi Winegrape Commission will hold a public meeting as follows:\nDate: Tuesday\, April 29\, 2025\nTime: NOON (PST)\nPlace: LWC Office\, 2545 West Turner Road\, Lodi\, CA 95242 \nThe agenda for the meeting is as follows: \n1. Call to order\n2. Roll call and establishment of quorum\n3. Consideration of the Finance Committee December 3\, 2024 meeting minutes\n4. Public Comment on Items Appearing on the Agenda (2 min limit per person)\n5. Financial Reports\n6. 2024-25 YTD Budget Review\n7. CWEF Financial Update\n8. Items for future agendas\n9. Confirming future meeting date\n10. Adjourn \nAll agenda items are subject to discussion and possible action. All interested parties are invited to attend the meeting. Questions regarding the meeting should be directed to Finance Committee Chair Hadyn Schatz (209.801.0297) or Stuart Spencer (209.367.4727). Persons with disabilities needing special accommodation should contact Stuart Spencer\, Executive Director at (209.367.4727) or stuart@lodiwine.com at least five days prior to the meeting. This notice and agenda is available on the internet in Upcoming Meetings and Events on www.lodigrowers.com.
URL:https://lodigrowers.com/event/finance-committee-meeting-29/
LOCATION:Lodi Winegrape Commission\, 2545 W. Turner Road\, Lodi\, CA\, 95242\, United States
GEO:38.1459652;-121.307667
X-APPLE-STRUCTURED-LOCATION;VALUE=URI;X-ADDRESS=Lodi Winegrape Commission 2545 W. Turner Road Lodi CA 95242 United States;X-APPLE-RADIUS=500;X-TITLE=2545 W. Turner Road:geo:-121.307667,38.1459652
END:VEVENT
BEGIN:VEVENT
DTSTART;TZID=UTC:20141016T120000
DTEND;TZID=UTC:20141016T140000
DTSTAMP:20260419T155121
CREATED:20141003T010429Z
LAST-MODIFIED:20141003T010429Z
UID:10000117-1413460800-1413468000@lodigrowers.com
SUMMARY:Research Meeting (10/16)
DESCRIPTION:For Download:  Res and Ed minutes 8-14-14 \nLODI WINEGRAPE COMMISSION\nRESEARCH EDUCATION COMMUNICATION COMMITTEE\nNOTICE AND AGENDA\nSent and posted October 1\, 2014 \nDate: October 16\, 2014\nTime: 12PM\nPlace: Lodi Winegrape Commission offices\, 2545 W. Turner Road\, Lodi\, CA 95242 \nThe agenda for the meeting is as follows:\n1. Call to order.\n2. Roll call and establishment of quorum\n3. Approval of previous meeting’s minutes (August 14\, 2014)\n4. Update on grower website\n5. Grower outreach\n• Grape Pest Management meetings – First one on October 23\n• Spray education program – Dan Ostowski\n• Lodi Winegrowers Workbook report\n• “Compendium of Grape Diseases”\n• Drip irrigation practices and perspectives\n6. Weather station network update\n• App scoping meeting – $450\n7. LoCA vineyard sign update\n8. NVELC – Invitation to committee members\n9. Grower survey update\n10. Grower Communication\n11. Budget review\n12. New business\n13. Schedule next meeting\n14. Adjourn. \nAction may be taken on any of the above items. Questions regarding the meeting can be directed to Research and Education Committee Chairman Charlie Starr (329-7791) or Grower Program Coordinator Matthew Hoffman (367-4727). This notice and agenda is available on the Internet at www.lodiwine.com in Grower News Meetings & Events.
URL:https://lodigrowers.com/event/research-meeting-1016/
LOCATION:Lodi Winegrape Commission\, 2545 W. Turner Road\, Lodi\, CA\, 95242\, United States
GEO:38.1459652;-121.307667
X-APPLE-STRUCTURED-LOCATION;VALUE=URI;X-ADDRESS=Lodi Winegrape Commission 2545 W. Turner Road Lodi CA 95242 United States;X-APPLE-RADIUS=500;X-TITLE=2545 W. Turner Road:geo:-121.307667,38.1459652
END:VEVENT
END:VCALENDAR