BEGIN:VCALENDAR
VERSION:2.0
PRODID:-//Lodi Growers - ECPv6.15.20//NONSGML v1.0//EN
CALSCALE:GREGORIAN
METHOD:PUBLISH
X-ORIGINAL-URL:https://lodigrowers.com
X-WR-CALDESC:Events for Lodi Growers
REFRESH-INTERVAL;VALUE=DURATION:PT1H
X-Robots-Tag:noindex
X-PUBLISHED-TTL:PT1H
BEGIN:VTIMEZONE
TZID:America/Los_Angeles
BEGIN:DAYLIGHT
TZOFFSETFROM:-0800
TZOFFSETTO:-0700
TZNAME:PDT
DTSTART:20120311T100000
END:DAYLIGHT
BEGIN:STANDARD
TZOFFSETFROM:-0700
TZOFFSETTO:-0800
TZNAME:PST
DTSTART:20121104T090000
END:STANDARD
BEGIN:DAYLIGHT
TZOFFSETFROM:-0800
TZOFFSETTO:-0700
TZNAME:PDT
DTSTART:20130310T100000
END:DAYLIGHT
BEGIN:STANDARD
TZOFFSETFROM:-0700
TZOFFSETTO:-0800
TZNAME:PST
DTSTART:20131103T090000
END:STANDARD
BEGIN:DAYLIGHT
TZOFFSETFROM:-0800
TZOFFSETTO:-0700
TZNAME:PDT
DTSTART:20140309T100000
END:DAYLIGHT
BEGIN:STANDARD
TZOFFSETFROM:-0700
TZOFFSETTO:-0800
TZNAME:PST
DTSTART:20141102T090000
END:STANDARD
BEGIN:DAYLIGHT
TZOFFSETFROM:-0800
TZOFFSETTO:-0700
TZNAME:PDT
DTSTART:20150308T100000
END:DAYLIGHT
BEGIN:STANDARD
TZOFFSETFROM:-0700
TZOFFSETTO:-0800
TZNAME:PST
DTSTART:20151101T090000
END:STANDARD
BEGIN:DAYLIGHT
TZOFFSETFROM:-0800
TZOFFSETTO:-0700
TZNAME:PDT
DTSTART:20160313T100000
END:DAYLIGHT
BEGIN:STANDARD
TZOFFSETFROM:-0700
TZOFFSETTO:-0800
TZNAME:PST
DTSTART:20161106T090000
END:STANDARD
BEGIN:DAYLIGHT
TZOFFSETFROM:-0800
TZOFFSETTO:-0700
TZNAME:PDT
DTSTART:20170312T100000
END:DAYLIGHT
BEGIN:STANDARD
TZOFFSETFROM:-0700
TZOFFSETTO:-0800
TZNAME:PST
DTSTART:20171105T090000
END:STANDARD
BEGIN:DAYLIGHT
TZOFFSETFROM:-0800
TZOFFSETTO:-0700
TZNAME:PDT
DTSTART:20180311T100000
END:DAYLIGHT
BEGIN:STANDARD
TZOFFSETFROM:-0700
TZOFFSETTO:-0800
TZNAME:PST
DTSTART:20181104T090000
END:STANDARD
BEGIN:DAYLIGHT
TZOFFSETFROM:-0800
TZOFFSETTO:-0700
TZNAME:PDT
DTSTART:20190310T100000
END:DAYLIGHT
BEGIN:STANDARD
TZOFFSETFROM:-0700
TZOFFSETTO:-0800
TZNAME:PST
DTSTART:20191103T090000
END:STANDARD
BEGIN:DAYLIGHT
TZOFFSETFROM:-0800
TZOFFSETTO:-0700
TZNAME:PDT
DTSTART:20200308T100000
END:DAYLIGHT
BEGIN:STANDARD
TZOFFSETFROM:-0700
TZOFFSETTO:-0800
TZNAME:PST
DTSTART:20201101T090000
END:STANDARD
END:VTIMEZONE
BEGIN:VEVENT
DTSTART;TZID=America/Los_Angeles:20190906T090000
DTEND;TZID=America/Los_Angeles:20190906T110000
DTSTAMP:20260424T073303
CREATED:20190826T175619Z
LAST-MODIFIED:20190826T175619Z
UID:10000584-1567760400-1567767600@lodigrowers.com
SUMMARY:WINERY MARKETING COMMITTEE MEETING
DESCRIPTION:WINERY MARKETING COMMITTEE\nNOTICE & AGENDA\nSENT & POSTED  August 26\, 2019 \nDate:     Friday\, September 6\, 2019 \nTime:    9:00 AM\nPlace:    LWC Conference Room\, 2545 West Turner Road\, Lodi\, CA 95242 \nThe agenda for this meeting is as follows: \n1)      Call to order \n2)      Roll call and establishment of quorum \n3)      Consideration of August 5\, 2019 minutes \n4)      Public Comment on Items Appearing on the Agenda (2 min limit per person) \n5)      Brand Lodi – New Campaign \n6)      2018/2019 Scheduled Winery Road Shows\n·         Nashville Food & Wine Festival (Sept 20 & 21\, 2019)\n·         San Diego Bay Food & Wine Festival (November 16\, 2019)\n·         Rancho Mirage (February 28 & 29\, 2020)\n·         Fort Worth Food & Wine Festival (April 2020) – Consideration\n·         LA WineFest (June 2020) – Consideration\n·         NY Wine Events – Dates Vary – Consideration\n·         Northwest Food & Wine Festival (November 2020) – Consideration \n7)      Hospitality Certificate \n8)      Lodi Wine & Chocolate 2020 \n9)      Stockton Heat Opportunity (February 29\, 2020) \n10)   FY 2019-20 Budget Review to Date \n11)   Report from other LWC Committees \n12)   Public Comment on Items Not Appearing on the Agenda (2 min limit per person) \n13)   Agenda Items for Future Meetings \n14)   Set Next Meeting Date \n15)   Adjourn\nAction may be taken on any of the above items.  Questions regarding the meeting can be directed to Lodi Wine Country Committee Chairman\, Steve Felton (209.810.5258) or Stuart Spencer (209.367.4727). Persons with disabilities needing special accommodation should contact the Lodi Winegrape Commission (209.367.4727) at least five days prior to the meeting.  This notice and agenda is available on the internet at www.lodigrowers.com in the Calendar.
URL:https://lodigrowers.com/event/winery-marketing-committee-meeting/
LOCATION:Lodi Winegrape Commission\, 2545 West Turner Road\, lodi\, CA\, 95242\, United States
GEO:38.1459652;-121.307667
X-APPLE-STRUCTURED-LOCATION;VALUE=URI;X-ADDRESS=Lodi Winegrape Commission 2545 West Turner Road lodi CA 95242 United States;X-APPLE-RADIUS=500;X-TITLE=2545 West Turner Road:geo:-121.307667,38.1459652
END:VEVENT
BEGIN:VEVENT
DTSTART;TZID=America/Los_Angeles:20170823T120000
DTEND;TZID=America/Los_Angeles:20170823T140000
DTSTAMP:20260424T073303
CREATED:20170811T213828Z
LAST-MODIFIED:20170811T213828Z
UID:10000352-1503489600-1503496800@lodigrowers.com
SUMMARY:Grower Marketing Committee Meeting
DESCRIPTION:Grower Marketing Committee\nMeeting Notice and Agenda\nSent and Posted August 11\, 2017 \nThe Grower Marketing Committee of the Lodi Winegrape Commission will meet: \nDate: Wednesday\, August 23\, 2017\nTime: 12:00 P.M.\nPlace: LWC Office\, 2545 W. Turner Rd.\, Lodi CA \nThe agenda for the meeting is as follows:\n1. Call to order\n2. Roll call and establishment of quorum\n3. Review July 26\, 2017\, meeting minutes\n4. Public Comment on Items Appearing on the Agenda\n5. Grape Marketing Activities\no Reallocating funds into Program Management for Winegrape Marketing Coordinator\no Action Item\n6. Brand Identity—\n• Separating Lodi Brand from LoCA Advertising Campaign\no Action Item\n7. Advertising Campaign\n8. Public Relations Update\n9. Market Research\n10. Reports from Other Committees\n11. Public Comment on Items Not Appearing on the Agenda\n12. Agenda Items for Future Meetings\n13. Set next meeting date\n14. Adjourn \nAction may be taken on any of the items listed above. Questions regarding the meeting should be directed to Ben Kolber (367-8996)\, Kendra Altnow (403-8500) or Stuart Spencer (367-4727). Persons
URL:https://lodigrowers.com/event/grower-marketing-committee-meeting-6/
LOCATION:Lodi Winegrape Commission\, 2545 West Turner Road\, lodi\, CA\, 95242\, United States
GEO:38.1459652;-121.307667
X-APPLE-STRUCTURED-LOCATION;VALUE=URI;X-ADDRESS=Lodi Winegrape Commission 2545 West Turner Road lodi CA 95242 United States;X-APPLE-RADIUS=500;X-TITLE=2545 West Turner Road:geo:-121.307667,38.1459652
END:VEVENT
BEGIN:VEVENT
DTSTART;TZID=America/Los_Angeles:20131028T120000
DTEND;TZID=America/Los_Angeles:20131028T140000
DTSTAMP:20260424T073303
CREATED:20131019T033428Z
LAST-MODIFIED:20131019T033701Z
UID:10000021-1382961600-1382968800@lodigrowers.com
SUMMARY:Lodi Rules Meeting
DESCRIPTION:LODI WINEGRAPE COMMISSION \nLODI RULES COMMITTEE \nNOTICE AND AGENDA \nSent and posted October 18\, 2013 \n  \nDate: Monday\, October 28\, 2013 \nTime: 12:00 PM. \nPlace: Lodi Wine & Visitor Center \n2545 W. Turner Rd.\, Lodi CA \n  \nThe agenda for the meeting is as follows: \n  \n1. Call to order \n  \n2. Roll call and establishment of quorum \n  \n3. Review and approve May 20\, 2013 meeting minutes \n  \n4. Finalize CSWA cross-license agreement \n  \n5. 2013 certification update \n  \n6. Plan for November Lodi Rules wrap up meeting \n  \n7. Discuss access Lodi Rules data from Protected Harvest \n  \n8. Lodi Rules signage \n  \n9. SAFS Internship \n  \n10. Winery outreach update \n  \n11. Budget review \n  \n12. Other business \n  \n13. Set next meeting date \n  \n14. Adjourn \nAction may be taken on any of the above items. Questions regarding the meeting can be directed to Matthew Hoffman (367-4727)\, Chris Storm (747-0461)\, or Camron King (367-4727). \n  \nThis notice and agenda is available on the Internet at www.lodiwine.com in Grower News Meetings & Events \n 
URL:https://lodigrowers.com/event/lodi-rules-meeting/
LOCATION:Lodi Winegrape Commission\, 2545 West Turner Road\, lodi\, CA\, 95242\, United States
GEO:38.1459652;-121.307667
X-APPLE-STRUCTURED-LOCATION;VALUE=URI;X-ADDRESS=Lodi Winegrape Commission 2545 West Turner Road lodi CA 95242 United States;X-APPLE-RADIUS=500;X-TITLE=2545 West Turner Road:geo:-121.307667,38.1459652
END:VEVENT
END:VCALENDAR