BEGIN:VCALENDAR
VERSION:2.0
PRODID:-//Lodi Growers - ECPv6.15.20//NONSGML v1.0//EN
CALSCALE:GREGORIAN
METHOD:PUBLISH
X-WR-CALNAME:Lodi Growers
X-ORIGINAL-URL:https://lodigrowers.com
X-WR-CALDESC:Events for Lodi Growers
REFRESH-INTERVAL;VALUE=DURATION:PT1H
X-Robots-Tag:noindex
X-PUBLISHED-TTL:PT1H
BEGIN:VTIMEZONE
TZID:America/Los_Angeles
BEGIN:DAYLIGHT
TZOFFSETFROM:-0800
TZOFFSETTO:-0700
TZNAME:PDT
DTSTART:20140309T100000
END:DAYLIGHT
BEGIN:STANDARD
TZOFFSETFROM:-0700
TZOFFSETTO:-0800
TZNAME:PST
DTSTART:20141102T090000
END:STANDARD
BEGIN:DAYLIGHT
TZOFFSETFROM:-0800
TZOFFSETTO:-0700
TZNAME:PDT
DTSTART:20150308T100000
END:DAYLIGHT
BEGIN:STANDARD
TZOFFSETFROM:-0700
TZOFFSETTO:-0800
TZNAME:PST
DTSTART:20151101T090000
END:STANDARD
BEGIN:DAYLIGHT
TZOFFSETFROM:-0800
TZOFFSETTO:-0700
TZNAME:PDT
DTSTART:20160313T100000
END:DAYLIGHT
BEGIN:STANDARD
TZOFFSETFROM:-0700
TZOFFSETTO:-0800
TZNAME:PST
DTSTART:20161106T090000
END:STANDARD
END:VTIMEZONE
BEGIN:VEVENT
DTSTART;TZID=America/Los_Angeles:20150507T120000
DTEND;TZID=America/Los_Angeles:20150507T140000
DTSTAMP:20260424T005108
CREATED:20150428T051738Z
LAST-MODIFIED:20150428T051738Z
UID:10000178-1431000000-1431007200@lodigrowers.com
SUMMARY:Research Committee Mtg (5/7)
DESCRIPTION:For Download: Res and Ed minutes 3-4-2015 \nLODI WINEGRAPE COMMISSION\nRESEARCH EDUCATION COMMUNICATION COMMITTEE\nNOTICE AND AGENDA\nSent and posted\, Friday February 20\, 2015 \nDate: May 7\, 2015\nTime: 12PM\nPlace: Lodi Winegrape Commission offices\, 2545 W. Turner Road\, Lodi\, CA 95242 \nThe agenda for the meeting is as follows: \n1. Call to order.\n2. Roll call and establishment of quorum\n3. Approval of previous meeting’s minutes (March 4\, 2015)\n4. Demonstration vineyard\n5. Grower outreach\n6. Weather station network update\n7. Soils booklet\n8. Grower Communication\n9. Lars Pierce – VSIM\n10. Budget review\n11. New business\n12. Schedule next meeting\n13. Adjourn. \nAction may be taken on any of the above items. Questions regarding the meeting can be directed to Research and Education Committee Chairman Charlie Starr (329-7791) or Grower Program Coordinator Matthew Hoffman (367-4727). This notice and agenda is available on the Internet at www.lodiwine.com in Grower News Meetings & Events.
URL:https://lodigrowers.com/event/research-committee-mtg-57/
LOCATION:Lodi Winegrape Commission\, 2545 W. Turner Road\, Lodi
GEO:38.1459652;-121.307667
X-APPLE-STRUCTURED-LOCATION;VALUE=URI;X-ADDRESS=Lodi Winegrape Commission 2545 W. Turner Road Lodi;X-APPLE-RADIUS=500;X-TITLE=2545 W. Turner Road:geo:-121.307667,38.1459652
END:VEVENT
END:VCALENDAR