BEGIN:VCALENDAR
VERSION:2.0
PRODID:-//Lodi Growers - ECPv6.15.20//NONSGML v1.0//EN
CALSCALE:GREGORIAN
METHOD:PUBLISH
X-ORIGINAL-URL:https://lodigrowers.com
X-WR-CALDESC:Events for Lodi Growers
REFRESH-INTERVAL;VALUE=DURATION:PT1H
X-Robots-Tag:noindex
X-PUBLISHED-TTL:PT1H
BEGIN:VTIMEZONE
TZID:America/Los_Angeles
BEGIN:DAYLIGHT
TZOFFSETFROM:-0800
TZOFFSETTO:-0700
TZNAME:PDT
DTSTART:20140309T100000
END:DAYLIGHT
BEGIN:STANDARD
TZOFFSETFROM:-0700
TZOFFSETTO:-0800
TZNAME:PST
DTSTART:20141102T090000
END:STANDARD
BEGIN:DAYLIGHT
TZOFFSETFROM:-0800
TZOFFSETTO:-0700
TZNAME:PDT
DTSTART:20150308T100000
END:DAYLIGHT
BEGIN:STANDARD
TZOFFSETFROM:-0700
TZOFFSETTO:-0800
TZNAME:PST
DTSTART:20151101T090000
END:STANDARD
BEGIN:DAYLIGHT
TZOFFSETFROM:-0800
TZOFFSETTO:-0700
TZNAME:PDT
DTSTART:20160313T100000
END:DAYLIGHT
BEGIN:STANDARD
TZOFFSETFROM:-0700
TZOFFSETTO:-0800
TZNAME:PST
DTSTART:20161106T090000
END:STANDARD
BEGIN:DAYLIGHT
TZOFFSETFROM:-0800
TZOFFSETTO:-0700
TZNAME:PDT
DTSTART:20170312T100000
END:DAYLIGHT
BEGIN:STANDARD
TZOFFSETFROM:-0700
TZOFFSETTO:-0800
TZNAME:PST
DTSTART:20171105T090000
END:STANDARD
BEGIN:DAYLIGHT
TZOFFSETFROM:-0800
TZOFFSETTO:-0700
TZNAME:PDT
DTSTART:20180311T100000
END:DAYLIGHT
BEGIN:STANDARD
TZOFFSETFROM:-0700
TZOFFSETTO:-0800
TZNAME:PST
DTSTART:20181104T090000
END:STANDARD
END:VTIMEZONE
BEGIN:VEVENT
DTSTART;TZID=America/Los_Angeles:20170310T120000
DTEND;TZID=America/Los_Angeles:20170310T140000
DTSTAMP:20260423T021826
CREATED:20170301T055612Z
LAST-MODIFIED:20170301T055612Z
UID:10000318-1489147200-1489154400@lodigrowers.com
SUMMARY:Research\, Education\, & Communications Meeting
DESCRIPTION: LODI WINEGRAPE COMMISSION \nRESEARCH\, EDUCATION\, & COMMUNICATION COMMITTEE \nNOTICE AND AGENDA \nSent and posted February 28th\, 2017 \n  \nDate: Friday\, March 10th\, 2017 \nTime:  12pm \nPlace:  Lodi Winegrape Commission Conference Room\, 2545 W. Turner Road\, Lodi\, CA 95242 \nThe agenda for the meeting is as follows: \n\nCall to order\nRoll call and establishment of quorum\nConsideration of the January 17th\, 2017 Minutes\nPublic Comment on Items Appearing on the Agenda\nGrower Education Programs\nGrower Communications\nResearch Projects\nWine Market Council Proposal\nNGWI\nAVF\nUC Davis\nPublic Comment on Items Not Appearing on the Agenda\nBudget Review\nItems for Future Agendas\nSchedule next meeting\nAdjourn\n\nAction may be taken on any of the above items.  Questions regarding the meeting can be directed to Research and Education Committee Chairman Charlie Starr (329-7791) or Stuart Spencer (367-4727). Persons with disabilities needing special accommodation should contact Stuart Spencer at least five days prior to the meeting. 
URL:https://lodigrowers.com/event/research-education-communications-meeting/
LOCATION:Lodi Winegrape Commission
END:VEVENT
BEGIN:VEVENT
DTSTART;TZID=America/Los_Angeles:20150520T140000
DTEND;TZID=America/Los_Angeles:20150520T150000
DTSTAMP:20260423T021826
CREATED:20150509T000827Z
LAST-MODIFIED:20150509T000827Z
UID:10000180-1432130400-1432134000@lodigrowers.com
SUMMARY:Grower Marketing (5/20)
DESCRIPTION:Grower Marketing Committee\nMeeting Notice and Agenda\nSent & Posted May 8\, 2015 \nThe Grower Marketing Committee of the Lodi Winegrape Commission will meet: \nDate:	Wednesday May 20\, 2015\nTime:  2:00 PM\nPlace:	LWC Office\, 2545 W. Turner Rd.\, Lodi CA \nThe agenda for the meeting is as follows: \n1.	Call to order \n2.	Roll call and establishment of quorum \n3.	Review April 22\, 2015 meeting minutes \n4.	LoCA Campaign Update \n5.	Public Relations Activities \n6.	Grape Marketing Activities \n7.	Budget Planning 2015/2016 \n8.	Other Business \n9.	Set Next Meeting Date \n10.	Adjourn \nThis notice and agenda is available on the Internet at www.lodiwine.com in Grower News Meetings & Events.  Action may be taken on any of the items listed above.  Questions regarding the meeting should be directed to Camron King\, (209) 367-4727 or Richard Lauchland (209) 367-9237.
URL:https://lodigrowers.com/event/grower-marketing-520/
LOCATION:Lodi Winegrape Commission
END:VEVENT
END:VCALENDAR