BEGIN:VCALENDAR
VERSION:2.0
PRODID:-//Lodi Growers - ECPv6.15.20//NONSGML v1.0//EN
CALSCALE:GREGORIAN
METHOD:PUBLISH
X-ORIGINAL-URL:https://lodigrowers.com
X-WR-CALDESC:Events for Lodi Growers
REFRESH-INTERVAL;VALUE=DURATION:PT1H
X-Robots-Tag:noindex
X-PUBLISHED-TTL:PT1H
BEGIN:VTIMEZONE
TZID:UTC
BEGIN:STANDARD
TZOFFSETFROM:+0000
TZOFFSETTO:+0000
TZNAME:UTC
DTSTART:20150101T000000
END:STANDARD
END:VTIMEZONE
BEGIN:VEVENT
DTSTART;TZID=UTC:20160107T120000
DTEND;TZID=UTC:20160107T140000
DTSTAMP:20260419T061950
CREATED:20151230T024124Z
LAST-MODIFIED:20151230T024124Z
UID:10000225-1452168000-1452175200@lodigrowers.com
SUMMARY:Research Committee Mtg (1/7)
DESCRIPTION:LODI WINEGRAPE COMMISSION\nRESEARCH EDUCATION COMMUNICATION COMMITTEE\nNOTICE AND AGENDA\nSent and posted December 29\, 2015 \nDate: Thursday\, January 7\, 2016\nTime:  12:00 PM\nPlace:  Lodi Winegrape Commission offices\, 2545 W. Turner Road\, Lodi\, CA 95242 \nThe agenda for the meeting is as follows: \n1.	Call to order.\n2.	Roll call and establishment of quorum\n3.	Consideration of October 21\, 2015 Minutes\n4.	Grower education update\n•	Breakfast Meetings\n•	Update on Soils Project\n5.	Update on Commission Staff search\n6.	Demonstration vineyard update\n•	Any maintenance needs\, updates\, etc.\n7.	Discussion of Weather Station System\n•	Joe Grant – management of stations moving forward\n8.	Budget review\n9.	Public Comment on Items Not Appearing on the Agenda\n10.	Items for Future Agendas\n11.	Schedule next meeting\n12.	Adjourn \nAction may be taken on any of the above items.  Questions regarding the meeting can be directed to Research and Education Committee Chairman Charlie Starr (329-7791) or Camron King (367-4727). Persons with disabilities needing special accommodation should contact Camron King\, Executive Director\, camron@lodiwine.com at least five days prior to the meeting. This notice and agenda is available on the internet in Upcoming Meetings and Events on www.lodigrowers.com.
URL:https://lodigrowers.com/event/research-committee-mtg-17/
LOCATION:Lodi Winegrape Commission\, 2545 W. Turner Road
GEO:38.1459652;-121.307667
X-APPLE-STRUCTURED-LOCATION;VALUE=URI;X-ADDRESS=Lodi Winegrape Commission 2545 W. Turner Road;X-APPLE-RADIUS=500;X-TITLE=2545 W. Turner Road:geo:-121.307667,38.1459652
END:VEVENT
END:VCALENDAR