BEGIN:VCALENDAR
VERSION:2.0
PRODID:-//Lodi Growers - ECPv6.15.20//NONSGML v1.0//EN
CALSCALE:GREGORIAN
METHOD:PUBLISH
X-ORIGINAL-URL:https://lodigrowers.com
X-WR-CALDESC:Events for Lodi Growers
REFRESH-INTERVAL;VALUE=DURATION:PT1H
X-Robots-Tag:noindex
X-PUBLISHED-TTL:PT1H
BEGIN:VTIMEZONE
TZID:America/Los_Angeles
BEGIN:DAYLIGHT
TZOFFSETFROM:-0800
TZOFFSETTO:-0700
TZNAME:PDT
DTSTART:20150308T100000
END:DAYLIGHT
BEGIN:STANDARD
TZOFFSETFROM:-0700
TZOFFSETTO:-0800
TZNAME:PST
DTSTART:20151101T090000
END:STANDARD
BEGIN:DAYLIGHT
TZOFFSETFROM:-0800
TZOFFSETTO:-0700
TZNAME:PDT
DTSTART:20160313T100000
END:DAYLIGHT
BEGIN:STANDARD
TZOFFSETFROM:-0700
TZOFFSETTO:-0800
TZNAME:PST
DTSTART:20161106T090000
END:STANDARD
BEGIN:DAYLIGHT
TZOFFSETFROM:-0800
TZOFFSETTO:-0700
TZNAME:PDT
DTSTART:20170312T100000
END:DAYLIGHT
BEGIN:STANDARD
TZOFFSETFROM:-0700
TZOFFSETTO:-0800
TZNAME:PST
DTSTART:20171105T090000
END:STANDARD
END:VTIMEZONE
BEGIN:VEVENT
DTSTART;TZID=America/Los_Angeles:20160321T120000
DTEND;TZID=America/Los_Angeles:20160321T140000
DTSTAMP:20260423T135416
CREATED:20160312T080457Z
LAST-MODIFIED:20160312T080457Z
UID:10000248-1458561600-1458568800@lodigrowers.com
SUMMARY:Lodi Rules Committee Mtg (3/21)
DESCRIPTION:LODI WINEGRAPE COMMISSION\nLODI RULES COMMITTEE\nNOTICE AND AGENDA\nSent and posted on March 11\, 2016 \nDate:   March 21\, 2016\nTime:  12:00 PM\nPlace:  Lodi Winegrape Commission Conference Room\n	2545 W. Turner Rd.\, Lodi CA \nThe agenda for the meeting is as follows: \n1.	Call to order\n2.	Roll call and establishment of quorum\n3.	Review and approve November 30\, 2015 meeting minutes \n4.	Update on Program \n5.	Protected Harvest Fees \n6.	Marketing of the Lodi Rules Program \n7.	Strategic planning \n8.	Budget review \n9.	Other business \n10.	Public comment on items not appearing on the agenda \n11.	Future agenda items \n12.	Set next meeting date \n13.	Adjourn\nAction may be taken on any of the items listed above.  Questions regarding the meeting should be directed to Chris Storm (747-0461) or Camron King (367-4727). Persons with disabilities needing special accommodation should contact Camron King\, Executive Director\, camron@lodiwine.com at least five days prior to the meeting. This notice and agenda is available on the internet in Upcoming Meetings and Events on www.lodigrowers.com.
URL:https://lodigrowers.com/event/lodi-rules-committee-mtg-321/
LOCATION:Lodi Winegrape Commission
END:VEVENT
END:VCALENDAR