BEGIN:VCALENDAR
VERSION:2.0
PRODID:-//Lodi Growers - ECPv6.15.20//NONSGML v1.0//EN
CALSCALE:GREGORIAN
METHOD:PUBLISH
X-WR-CALNAME:Lodi Growers
X-ORIGINAL-URL:https://lodigrowers.com
X-WR-CALDESC:Events for Lodi Growers
REFRESH-INTERVAL;VALUE=DURATION:PT1H
X-Robots-Tag:noindex
X-PUBLISHED-TTL:PT1H
BEGIN:VTIMEZONE
TZID:America/Los_Angeles
BEGIN:DAYLIGHT
TZOFFSETFROM:-0800
TZOFFSETTO:-0700
TZNAME:PDT
DTSTART:20160313T100000
END:DAYLIGHT
BEGIN:STANDARD
TZOFFSETFROM:-0700
TZOFFSETTO:-0800
TZNAME:PST
DTSTART:20161106T090000
END:STANDARD
BEGIN:DAYLIGHT
TZOFFSETFROM:-0800
TZOFFSETTO:-0700
TZNAME:PDT
DTSTART:20170312T100000
END:DAYLIGHT
BEGIN:STANDARD
TZOFFSETFROM:-0700
TZOFFSETTO:-0800
TZNAME:PST
DTSTART:20171105T090000
END:STANDARD
BEGIN:DAYLIGHT
TZOFFSETFROM:-0800
TZOFFSETTO:-0700
TZNAME:PDT
DTSTART:20180311T100000
END:DAYLIGHT
BEGIN:STANDARD
TZOFFSETFROM:-0700
TZOFFSETTO:-0800
TZNAME:PST
DTSTART:20181104T090000
END:STANDARD
BEGIN:DAYLIGHT
TZOFFSETFROM:-0800
TZOFFSETTO:-0700
TZNAME:PDT
DTSTART:20190310T100000
END:DAYLIGHT
BEGIN:STANDARD
TZOFFSETFROM:-0700
TZOFFSETTO:-0800
TZNAME:PST
DTSTART:20191103T090000
END:STANDARD
END:VTIMEZONE
BEGIN:VTIMEZONE
TZID:UTC
BEGIN:STANDARD
TZOFFSETFROM:+0000
TZOFFSETTO:+0000
TZNAME:UTC
DTSTART:20120101T000000
END:STANDARD
END:VTIMEZONE
BEGIN:VEVENT
DTSTART;TZID=America/Los_Angeles:20180511T120000
DTEND;TZID=America/Los_Angeles:20180511T140000
DTSTAMP:20260421T065720
CREATED:20170905T202601Z
LAST-MODIFIED:20180425T205338Z
UID:10000368-1526040000-1526047200@lodigrowers.com
SUMMARY:REC COMM. MEETING
DESCRIPTION:Agenda TBD
URL:https://lodigrowers.com/event/rec-comm-meeting-6/
LOCATION:Lodi Winegrape Commission\, 2545 West Turner Road\, Lodi\, CA\, 95242\, United States
GEO:38.1459652;-121.307667
X-APPLE-STRUCTURED-LOCATION;VALUE=URI;X-ADDRESS=Lodi Winegrape Commission 2545 West Turner Road Lodi CA 95242 United States;X-APPLE-RADIUS=500;X-TITLE=2545 West Turner Road:geo:-121.307667,38.1459652
END:VEVENT
BEGIN:VEVENT
DTSTART;TZID=America/Los_Angeles:20180112T120000
DTEND;TZID=America/Los_Angeles:20180112T140000
DTSTAMP:20260421T065720
CREATED:20170905T202422Z
LAST-MODIFIED:20180103T005308Z
UID:10000366-1515758400-1515765600@lodigrowers.com
SUMMARY:REC COMM. MEETING
DESCRIPTION:LODI WINEGRAPE COMMISSION \nRESEARCH\, EDUCATION\, & COMMUNICATION COMMITTEE \nNOTICE AND AGENDA \nSent and posted January 2nd\, 2018 \nDate:     Friday\, January 12th\, 2018 \nTime:    12pm \nPlace:    Lodi Winegrape Commission Conference Room\, 2545 W. Turner Road\, Lodi\, CA 95242 \n  \nThe agenda for the meeting is as follows: \n\nCall to order\nRoll call and establishment of quorum\nConsideration of the December 8th\, 2017 minutes\nPublic comment on items appearing on the agenda (2 min limit)\nGrower education programs\nGrower communications\nResearch project proposals\nFarm Advisor position\nWeather network\nCommittee term limits\nPublic comment on items not appearing on the agenda (2 min limit)\nBudget\nItems for future agendas\nConfirm future meeting dates\nAdjourn\n\nAction may be taken on any of the above items.  Questions regarding the meeting can be directed to Research and Education Committee Chairman Larry Whitted (327-6472) or Stuart Spencer (367-4727). Persons with disabilities needing special accommodation should contact Stuart Spencer at least five days prior to the meeting. This notice and agenda is available on the internet in Upcoming Meetings and Events on www.lodigrowers.com.
URL:https://lodigrowers.com/event/rec-comm-meeting-4/
LOCATION:Lodi Winegrape Commission\, 2545 West Turner Road\, Lodi\, CA\, 95242\, United States
GEO:38.1459652;-121.307667
X-APPLE-STRUCTURED-LOCATION;VALUE=URI;X-ADDRESS=Lodi Winegrape Commission 2545 West Turner Road Lodi CA 95242 United States;X-APPLE-RADIUS=500;X-TITLE=2545 West Turner Road:geo:-121.307667,38.1459652
END:VEVENT
BEGIN:VEVENT
DTSTART;TZID=America/Los_Angeles:20171214T140000
DTEND;TZID=America/Los_Angeles:20171214T153000
DTSTAMP:20260421T065720
CREATED:20171204T215224Z
LAST-MODIFIED:20171204T215224Z
UID:10000401-1513260000-1513265400@lodigrowers.com
SUMMARY:LODI WINEGRAPE COMMISSION BOARD MEETING
DESCRIPTION:Lodi Winegrape Commission \nMeeting Notice and Agenda \nSent and Posted December 4\, 2017 \nThe Lodi Winegrape Commission will hold a public meeting as follows: \nDate:               Thursday\, December 14\, 2017 \nTime:              2:00 P.M. \nPlace:             Cellar Room\, Wine & Roses \n                        2545 W. Turner Road\, Lodi\, CA 95242 \nThe agenda for the meeting is as follows: \n\nCall to order\nRoll call and establishment of quorum\nReview and Approval of the November 16\, 2017 Minutes\n\n\nAction Item\n\n\nFinancial Report\, October 2017\n\n\nAction Item\n\n\nPublic Comment on Items Appearing on the Agenda (two minutes maximum per person)\nConsideration of the Annual Financial and Compliance Audit\n\n\nAction Item\n\n\nTTB Rule 160\n\n\nAction Item: Recommendation from Executive Committee regarding TTB Rule 160 on allowable grape source information on wine bottles\n\n\nChairman’s Report\nExecutive Director’s Report\nReports of Committees\n\n\nExecutive Committee\nGrower Marketing\n\nAction Item: Review marketing plan and funding recommendation from Grower Marketing Committee for calendar year 2018\n\n\nLodi Rules\nResearch/Education/Communication\nLodi Wine Country\n\n\nReports of Other Organizations\n\n\nCalifornia Wine Education Foundation\nSan Joaquin County Farm Bureau\nLodi District Grape Growers Association\n\n\nPublic Comment on Items Not Appearing on the Agenda (two minutes maximum per person)\nClosed session regarding the appointment\, employment\, evaluation of performance\, or dismissal of employees pursuant to California Government Code Section 11126(a).\nReturn to open session and report action taken in closed session\, if any.\nAgenda Items for Future Meetings\nSet Next Meeting Date\nAdjourn\n\nAll agenda items are subject to discussion and possible action.  All interested parties are invited to attend the meeting. Questions regarding the meeting should be directed to Chairman Bruce Fry (209-993-8479) or Executive Director Wendy Brannen (209-367-4727). Persons with disabilities needing special accommodation should contact Stuart Spencer\, Program Manager\, at 209-367-4727 or stuart@lodiwine.com at least five days prior to the meeting. This notice and agenda is available on the internet in Upcoming Meetings and Events on www.lodigrowers.com. \n  \n 
URL:https://lodigrowers.com/event/lodi-winegrape-commission-board-meeting-5/
LOCATION:Lodi Winegrape Commission\, 2545 West Turner Road\, Lodi\, CA\, 95242\, United States
GEO:38.1459652;-121.307667
X-APPLE-STRUCTURED-LOCATION;VALUE=URI;X-ADDRESS=Lodi Winegrape Commission 2545 West Turner Road Lodi CA 95242 United States;X-APPLE-RADIUS=500;X-TITLE=2545 West Turner Road:geo:-121.307667,38.1459652
END:VEVENT
BEGIN:VEVENT
DTSTART;TZID=America/Los_Angeles:20170110T090000
DTEND;TZID=America/Los_Angeles:20170110T220000
DTSTAMP:20260421T065720
CREATED:20161222T003205Z
LAST-MODIFIED:20161222T003205Z
UID:10000306-1484038800-1484085600@lodigrowers.com
SUMMARY:LODI WINE COUNTRY COMMITTEE MEETING
DESCRIPTION:Lodi Wine Country Committee\nMeeting Notice and Agenda\nPosted and sent 12/21/2016 \nThe Lodi Winegrape Commission’s Lodi Wine Country Committee will meet:\nDate:   Tuesday\, January 10\, 2016\nTime:   9:00 AM\nPlace:  Lodi Winegrape Commission Conference Room \nThe agenda for this meeting is as follows: \n\nCall to order\nRoll call and establishment of quorum\nApproval of December 5\, 2016 minutes\nEvents\n\nLodi Wine & Chocolate (February 11 & 12\, 2017)\n\n\nCalendar of Events (Road Shows)\n\nVinDiego (April 8\, 2017)\nMonterey Food & Wine Festival (June 2-4\, 2017)\nSanta Barbara Food & Wine Festival (July 14\, 2017)\n\n\nOther Business\n\nLA Event – (February 15\, 2017)\n\n\n2016/2017 Budget Review\nNext Meeting Date\nAdjourn\nAll agenda items are subject to discussion and possible action.  For more information\, or to make a request regarding a disability-related accommodation for the meeting\, please contact Stuart Spencer \n(209-367-4727) or Steve Felten (209-810-5258). This notice and agenda is available on the internet at www.lodiwine.com in Grower News Meetings and Events.
URL:https://lodigrowers.com/event/lodi-wine-country-committee-meeting-3/
LOCATION:Lodi Winegrape Commission\, 2545 West Turner Road\, Lodi\, CA\, 95242\, United States
GEO:38.1459652;-121.307667
X-APPLE-STRUCTURED-LOCATION;VALUE=URI;X-ADDRESS=Lodi Winegrape Commission 2545 West Turner Road Lodi CA 95242 United States;X-APPLE-RADIUS=500;X-TITLE=2545 West Turner Road:geo:-121.307667,38.1459652
END:VEVENT
BEGIN:VEVENT
DTSTART;TZID=UTC:20131202T120000
DTEND;TZID=UTC:20131202T140000
DTSTAMP:20260421T065720
CREATED:20131030T051100Z
LAST-MODIFIED:20131030T051100Z
UID:10000045-1385985600-1385992800@lodigrowers.com
SUMMARY:Lodi Rules Mtg
DESCRIPTION:
URL:https://lodigrowers.com/event/lodi-rules-mtg/
LOCATION:Lodi Winegrape Commission\, 2545 West Turner Road\, Lodi\, CA\, 95242\, United States
GEO:38.1459652;-121.307667
X-APPLE-STRUCTURED-LOCATION;VALUE=URI;X-ADDRESS=Lodi Winegrape Commission 2545 West Turner Road Lodi CA 95242 United States;X-APPLE-RADIUS=500;X-TITLE=2545 West Turner Road:geo:-121.307667,38.1459652
END:VEVENT
END:VCALENDAR