BEGIN:VCALENDAR
VERSION:2.0
PRODID:-//Lodi Growers - ECPv6.15.20//NONSGML v1.0//EN
CALSCALE:GREGORIAN
METHOD:PUBLISH
X-WR-CALNAME:Lodi Growers
X-ORIGINAL-URL:https://lodigrowers.com
X-WR-CALDESC:Events for Lodi Growers
REFRESH-INTERVAL;VALUE=DURATION:PT1H
X-Robots-Tag:noindex
X-PUBLISHED-TTL:PT1H
BEGIN:VTIMEZONE
TZID:America/Los_Angeles
BEGIN:DAYLIGHT
TZOFFSETFROM:-0800
TZOFFSETTO:-0700
TZNAME:PDT
DTSTART:20150308T100000
END:DAYLIGHT
BEGIN:STANDARD
TZOFFSETFROM:-0700
TZOFFSETTO:-0800
TZNAME:PST
DTSTART:20151101T090000
END:STANDARD
BEGIN:DAYLIGHT
TZOFFSETFROM:-0800
TZOFFSETTO:-0700
TZNAME:PDT
DTSTART:20160313T100000
END:DAYLIGHT
BEGIN:STANDARD
TZOFFSETFROM:-0700
TZOFFSETTO:-0800
TZNAME:PST
DTSTART:20161106T090000
END:STANDARD
BEGIN:DAYLIGHT
TZOFFSETFROM:-0800
TZOFFSETTO:-0700
TZNAME:PDT
DTSTART:20170312T100000
END:DAYLIGHT
BEGIN:STANDARD
TZOFFSETFROM:-0700
TZOFFSETTO:-0800
TZNAME:PST
DTSTART:20171105T090000
END:STANDARD
END:VTIMEZONE
BEGIN:VEVENT
DTSTART;TZID=America/Los_Angeles:20160406T140000
DTEND;TZID=America/Los_Angeles:20160406T160000
DTSTAMP:20260423T121255
CREATED:20160325T043651Z
LAST-MODIFIED:20160325T043835Z
UID:10000253-1459951200-1459958400@lodigrowers.com
SUMMARY:Grower Marketing Committee (4/6)
DESCRIPTION:For Download: Mktg Mins 2-24-2016 \nGrower Marketing Committee\nMeeting Notice and Agenda\nSent & Posted February 12\, 2016 \nThe Grower Marketing Committee of the Lodi Winegrape Commission will meet: \nDate:	Wednesday\, April 6\, 2016\nTime:  2:00 PM\nPlace:	LWC Office\, 2545 W. Turner Rd.\, Lodi CA \nThe agenda for the meeting is as follows: \n1.	Call to order \n2.	Roll call and establishment of quorum \n3.	Review February 24\, 2016 meeting minutes \n4.	Advertising Campaign Update \n5.	Public Relations Activities \n6.	Grape Marketing Activities \n7.	Public Comment on Items Not Appearing on the Agenda \n8.	Agenda Items for Future Meetings \n9.	Set next meeting date \n10.	Adjourn \nAction may be taken on any of the items listed above.  Questions regarding the meeting should be directed to Ben Kolber (367-8996) or Camron King (367-4727). Persons with disabilities needing special accommodation should contact Camron King\, Executive Director\, camron@lodiwine.com at least five days prior to the meeting. This notice and agenda is available on the internet in Upcoming Meetings and Events on www.lodigrowers.com.
URL:https://lodigrowers.com/event/grower-marketing-committee-46/
LOCATION:Lodi Winegrape Commission
END:VEVENT
END:VCALENDAR